Workbook
Name FU: Dropdowns!$D$25:$D$26
Name Transmission: Dropdowns!$C$25:$C$27
Name sonstige: sonstige!$C$4:$C$799
Name Pumpensystem: Dropdowns!$B$25:$B$26
Name Wilo: Wilo!$B$4:$B$702
Name KSB: KSB!$B$4:$B$736
Name Hersteller: Dropdowns!$A$25:$A$30
Name IMP: IMP!$B$4:$B$643
Name Biral: Biral!$B$4:$B$701
Name Grundfos: Grundfos!$B$4:$B$698

Sheet Förderrechner
B2: Förderprogramme
B3: Energie Zukunft Schweiz
B4: Aeschenplatz 6
B5: CH-4052 Basel
B6: Tel. +41 61 500 18 72
B7: stromeffizienz@energiezukunftschweiz.ch
B8: https://foerderplattform.ch/
B11: Förderrechner | J11: Diese Seite dient der Übersicht. Es müssen bloss die Investitionskosten eingetragen werden.
B14: Investitionskosten
B16: Stromrelevante Investitionskosten: | AD16: CHF
B18: Durchschnittlicher Stromtarif: | Y18: 15 | AD18: Rp/kWh
B21: Erwartete Stromeinsparung
B23: Stromverbrauch der bestehenden Anlage: | Y23: ='Nassläuferpumpen'!$I$61+'Trockenläuferpumpen'!$AC$61 -> 0 | AD23: kWh/Jahr
B25: Stromverbrauch der neuen energieeffizienten Anlage: | Y25: ='Nassläuferpumpen'!$X$61+'Trockenläuferpumpen'!$BB$61 -> 0 | AD25: kWh/Jahr
B27: Einsparung pro Jahr gegenüber bestehender Anlage: | Y27: =Y23-Y25 -> 0 | AD27: kWh/Jahr
B29: Anrechenbare Nutzungsdauer der neuen Anlagen: | Y29: 15 | AD29: Jahre
B31: Erwartete Stromeinsparung über Nutzungsdauer: | Y31: =Y27*Y29*0.75 -> 0 | AD31: kWh
B33: Paybackzeit und maximaler ProKilowatt-Förderbeitrag
B35: Max. Förderbeitrag ProKilowatt: | Y35: =Y16*0.2 -> 0 | AD35: CHF
B37: Förderbeitrag | Y37: =IF(Y43<4,"Payback zu tief",IF(Y31*0.02>Y35,Y35,Y31*0.02)) -> 0 | AD37: CHF
B39: Förderbeitrag Corona-Bonus (bei Umsetzung bis 31.12.2021) | Y39: =IF(Y35="Zu hohe Investitionssumme","Zu hohe Investitionssumme",IF(Y43<4,"Payback zu tief",0)) -> 0 | AD39: CHF
B41: Erwarteter Förderbeitrag | Y41: =IF(Y16>300000,"Investitionskosten zu hoch",IF(Y43<4,"Payback zu tief",IF(Y37>Y35,Y35,Y37))) -> 0 | AD41: CHF
B43: Payback ohne Fördermittel ProKilowatt: | Y43: =IFERROR(Y16/(Y18*Y27/100),"-") -> - | AD43: Jahr(e)
B45: Förderanteil in % der Investitionskosten | Y45: =IFERROR(Y41/Y16,"-") -> -
B47: Kostenwirksamkeit des Förderbeitrags | Y47: =IFERROR(IF(Y41=0,"",(Y41/Y31)*100),"-") | AD47: Rp/kWh

Sheet Nassläuferpumpen
A2: grün hinterlegte Zellen bitte ausfüllen | I2: bitte über + (siehe oben) aufklappen und Angaben eintragen | X2: Standard-Betriebszeit und -Lastprofil dürfen unter + (siehe oben) OPTIONAL angepasst werden.
A6: Berechnung Ersatz Nassläuferpumpen | G6: Standard (5400 h/Jahr für Heizungspumpen) kann überschrieben werden
A7: Anlage | D7: Situation vor der Umsetzung | K7: Situation nach der Umsetzung | Z7: Stromeinsparung
A8: Nr. | B8: Pumpenbezeichnung | D8: Hersteller | E8: Typ | F8: Maximale Leistungsaufnahme der eingestellten Stufe (P1) | G8: Betriebszeit | H8: Erklärung zur Betriebszeit | I8: Stromverbrauch | K8: Hersteller | L8: Typ | M8: anrechenbare Leistungsaufnahme | N8: Betriebszeit | O8: Erklärung zur Betriebszeit | P8: Lastprofil für Pumpen mit einer maximalen Förderhöhe > 10 m | X8: Stromverbrauch
F9: W | G9: h/Jahr | H9: nur notwendig, falls von Standard (5400 h/Jahr) abweichend | I9: kWh/Jahr | K9: bitte auswählen | L9: bitte auswählen | M9: W | N9: h/Jahr | O9: nur notwendig, falls von Betriebszeit vor der Umsetzung abweichend | P9: % Volumenstrom | Q9: % Betriebsstunden | R9: % Volumenstrom | S9: % Betriebsstunden | T9: % Volumenstrom | U9: % Betriebsstunden | V9: % Volumenstrom | W9: % Betriebsstunden | X9: kWh/Jahr | Z9: kWh/Jahr | AA9: %
A10: Beispiel | B10: Heizung R01 | D10: Grundfos | E10: UPS 25-40 | F10: 125 | G10: 5400 | H10: Standard für Heizungspumpe | I10: =(F10/1000)*G10 -> 675 | K10: Wilo | L10: Stratos 25/1-6 | M10: =IF(K10="","",IF(K10="Biral",IF(VLOOKUP(L10,Biral!B4:O62,5,FALSE)>10,VLOOKUP(L10,Biral!B4:O62,6,FALSE),VLOOKUP(L10,Biral!B4:O62,11,FALSE)),IF(K10="Grundfos",IF(VLOOKUP(L10,Grundfos!B4:O59,5,FALSE)>10,VLOOKUP(L10,Grundfos!B4:O59,6,FALSE),VLOOKUP(L10,Grundfos!B4:O59,11,FALSE)),IF(K10="IMP",IF(VLOOKUP(L10,IMP!B4:O31,5,FALSE)>10,VLOOKUP(L10,IMP!B4:O31,6,FALSE),VLOOKUP(L10,IMP!B4:O31,11,FALSE)),IF(K10="KSB",IF(VLOOKUP(L10,KSB!B4:O97,5,FALSE)>10,VLOOKUP(L10,KSB!B4:O97,6,FALSE),VLOOKUP(L10,KSB!B4:O97,11,FALSE)),IF(K10="Wilo",IF(VLOOKUP(L10,Wilo!B4:O63,5,FALSE)>10,VLOOKUP(L10,Wilo!B4:O63,6,FALSE),VLOOKUP(L10,Wilo!B4:O63,11,FALSE)),IF(K10="sonstige",IF(VLOOKUP(L10,sonstige!B4:O160,5,FALSE)>10,VLOOKUP(L10,sonstige!B4:O160,6,FALSE),VLOOKUP(L10,sonstige!B4:O160,11,FALSE))))))))) -> #N/A | N10: 5400 | P10: Standardprofil -> Vorgegebenes Profil kann übernommen oder bei bekannter Lastverteilung auch angepasst werden. | X10: =IF(M10="","",(M10/1000)*N10*IF(K10="Biral",IF(VLOOKUP(L10,Biral!$B$4:$L$137,5,FALSE)>10,(X63),1),(IF(K10="Grundfos",IF(VLOOKUP(L10,Grundfos!$B$4:$L$106,5,FALSE)>10,(X63),1),(IF(K10="IMP",IF(VLOOKUP(L10,IMP!$B$4:$L$56,5,FALSE)>10,(X63),1),(IF(K10="KSB",IF(VLOOKUP(L10,KSB!$B$4:$L$137,5,FALSE)>10,(X63),1),(IF(K10="Wilo",IF(VLOOKUP(L10,Wilo!$B$4:$L$109,5,FALSE)>10,(X63),1),(IF(K10="sonstige",IF(VLOOKUP(L10,sonstige!$B$4:$L$200,5,FALSE)>10,(X63),1),1)))))))))))) -> #N/A | Z10: =IF(I10="","",IF(X10="","",I10-X10)) -> #N/A | AA10: =IF(Z10="","",Z10/I10) -> #N/A
A11: 1 | G11: 5400 | I11: =IF(F11="","",(F11/1000)*G11) | M11: =IF(K11="","",IF(K11="Biral",IF(VLOOKUP(L11,Biral!$B$4:$L$137,5,FALSE)>10,VLOOKUP(L11,Biral!$B$4:$L$137,6,FALSE),VLOOKUP(L11,Biral!$B$4:$L$137,11,FALSE)),IF(K11="Grundfos",IF(VLOOKUP(L11,Grundfos!$B$4:$L$106,5,FALSE)>10,VLOOKUP(L11,Grundfos!$B$4:$L$106,6,FALSE),VLOOKUP(L11,Grundfos!$B$4:$L$106,11,FALSE)),IF(K11="IMP",IF(VLOOKUP(L11,IMP!$B$4:$L$56,5,FALSE)>10,VLOOKUP(L11,IMP!$B$4:$L$56,6,FALSE),VLOOKUP(L11,IMP!$B$4:$L$56,11,FALSE)),IF(K11="KSB",IF(VLOOKUP(L11,KSB!$B$4:$L$137,5,FALSE)>10,VLOOKUP(L11,KSB!$B$4:$L$137,6,FALSE),VLOOKUP(L11,KSB!$B$4:$L$137,11,FALSE)),IF(K11="Wilo",IF(VLOOKUP(L11,Wilo!$B$4:$L$109,5,FALSE)>10,VLOOKUP(L11,Wilo!$B$4:$L$109,6,FALSE),VLOOKUP(L11,Wilo!$B$4:$L$109,11,FALSE)),IF(K11="sonstige",IF(VLOOKUP(L11,sonstige!$B$4:$L$200,5,FALSE)>10,VLOOKUP(L11,sonstige!$B$4:$L$200,6,FALSE),VLOOKUP(L11,sonstige!$B$4:$L$200,11,FALSE))))))))) | N11: =IF(G11="","",G11) -> 5400 | O11: =IF(G11=N11,"-","") -> - | P11: 1 | Q11: 0.4 | R11: 0.75 | S11: 0.4 | T11: 0.5 | U11: 0.1 | V11: 0.25 | W11: 0.1 | X11: =IF(M11="","",(M11/1000)*N11*IF(K11="Biral",IF(VLOOKUP(L11,Biral!$B$4:$L$137,5,FALSE)>10,(((P11^2.8)*Q11)+((R11^2.8)*S11)+((T11^2.8)*U11)+((V11^2.8)*W11)),1),(IF(K11="Grundfos",IF(VLOOKUP(L11,Grundfos!$B$4:$L$106,5,FALSE)>10,(((P11^2.8)*Q11)+((R11^2.8)*S11)+((T11^2.8)*U11)+((V11^2.8)*W11)),1),(IF(K11="IMP",IF(VLOOKUP(L11,IMP!$B$4:$L$56,5,FALSE)>10,(((P11^2.8)*Q11)+((R11^2.8)*S11)+((T11^2.8)*U11)+((V11^2.8)*W11)),1),(IF(K11="KSB",IF(VLOOKUP(L11,KSB!$B$4:$L$137,5,FALSE)>10,(((P11^2.8)*Q11)+((R11^2.8)*S11)+((T11^2.8)*U11)+((V11^2.8)*W11)),1),(IF(K11="Wilo",IF(VLOOKUP(L11,Wilo!$B$4:$L$109,5,FALSE)>10,(((P11^2.8)*Q11)+((R11^2.8)*S11)+((T11^2.8)*U11)+((V11^2.8)*W11)),1),(IF(K11="sonstige",IF(VLOOKUP(L11,sonstige!$B$4:$L$200,5,FALSE)>10,(((P11^2.8)*Q11)+((R11^2.8)*S11)+((T11^2.8)*U11)+((V11^2.8)*W11)),1),1)))))))))))) | Z11: =IF(I11="","",IF(X11="","",I11-X11)) | AA11: =IF(Z11="","",Z11/I11) | AB11: =IF(AA11="","",IF(AA11>80%,"Stromeinsparung sehr hoch -> bitte überprüfen Sie die Angaben",""))
A12: 2 | G12: 5400 | I12: =IF(F12="","",(F12/1000)*G12) | M12: =IF(K12="","",IF(K12="Biral",IF(VLOOKUP(L12,Biral!$B$4:$L$137,5,FALSE)>10,VLOOKUP(L12,Biral!$B$4:$L$137,6,FALSE),VLOOKUP(L12,Biral!$B$4:$L$137,11,FALSE)),IF(K12="Grundfos",IF(VLOOKUP(L12,Grundfos!$B$4:$L$106,5,FALSE)>10,VLOOKUP(L12,Grundfos!$B$4:$L$106,6,FALSE),VLOOKUP(L12,Grundfos!$B$4:$L$106,11,FALSE)),IF(K12="IMP",IF(VLOOKUP(L12,IMP!$B$4:$L$56,5,FALSE)>10,VLOOKUP(L12,IMP!$B$4:$L$56,6,FALSE),VLOOKUP(L12,IMP!$B$4:$L$56,11,FALSE)),IF(K12="KSB",IF(VLOOKUP(L12,KSB!$B$4:$L$137,5,FALSE)>10,VLOOKUP(L12,KSB!$B$4:$L$137,6,FALSE),VLOOKUP(L12,KSB!$B$4:$L$137,11,FALSE)),IF(K12="Wilo",IF(VLOOKUP(L12,Wilo!$B$4:$L$109,5,FALSE)>10,VLOOKUP(L12,Wilo!$B$4:$L$109,6,FALSE),VLOOKUP(L12,Wilo!$B$4:$L$109,11,FALSE)),IF(K12="sonstige",IF(VLOOKUP(L12,sonstige!$B$4:$L$200,5,FALSE)>10,VLOOKUP(L12,sonstige!$B$4:$L$200,6,FALSE),VLOOKUP(L12,sonstige!$B$4:$L$200,11,FALSE))))))))) | N12: =IF(G12="","",G12) -> 5400 | O12: =IF(G12=N12,"-","") -> - | P12: 1 | Q12: 0.4 | R12: 0.75 | S12: 0.4 | T12: 0.5 | U12: 0.1 | V12: 0.25 | W12: 0.1 | X12: =IF(M12="","",(M12/1000)*N12*IF(K12="Biral",IF(VLOOKUP(L12,Biral!$B$4:$L$137,5,FALSE)>10,(((P12^2.8)*Q12)+((R12^2.8)*S12)+((T12^2.8)*U12)+((V12^2.8)*W12)),1),(IF(K12="Grundfos",IF(VLOOKUP(L12,Grundfos!$B$4:$L$106,5,FALSE)>10,(((P12^2.8)*Q12)+((R12^2.8)*S12)+((T12^2.8)*U12)+((V12^2.8)*W12)),1),(IF(K12="IMP",IF(VLOOKUP(L12,IMP!$B$4:$L$56,5,FALSE)>10,(((P12^2.8)*Q12)+((R12^2.8)*S12)+((T12^2.8)*U12)+((V12^2.8)*W12)),1),(IF(K12="KSB",IF(VLOOKUP(L12,KSB!$B$4:$L$137,5,FALSE)>10,(((P12^2.8)*Q12)+((R12^2.8)*S12)+((T12^2.8)*U12)+((V12^2.8)*W12)),1),(IF(K12="Wilo",IF(VLOOKUP(L12,Wilo!$B$4:$L$109,5,FALSE)>10,(((P12^2.8)*Q12)+((R12^2.8)*S12)+((T12^2.8)*U12)+((V12^2.8)*W12)),1),(IF(K12="sonstige",IF(VLOOKUP(L12,sonstige!$B$4:$L$200,5,FALSE)>10,(((P12^2.8)*Q12)+((R12^2.8)*S12)+((T12^2.8)*U12)+((V12^2.8)*W12)),1),1)))))))))))) | Z12: =IF(I12="","",IF(X12="","",I12-X12)) | AA12: =IF(Z12="","",Z12/I12) | AB12: =IF(AA12="","",IF(AA12>80%,"Stromeinsparung sehr hoch -> bitte überprüfen Sie die Angaben",""))
A13: 3 | G13: 5400 | I13: =IF(F13="","",(F13/1000)*G13) | M13: =IF(K13="","",IF(K13="Biral",IF(VLOOKUP(L13,Biral!$B$4:$L$137,5,FALSE)>10,VLOOKUP(L13,Biral!$B$4:$L$137,6,FALSE),VLOOKUP(L13,Biral!$B$4:$L$137,11,FALSE)),IF(K13="Grundfos",IF(VLOOKUP(L13,Grundfos!$B$4:$L$106,5,FALSE)>10,VLOOKUP(L13,Grundfos!$B$4:$L$106,6,FALSE),VLOOKUP(L13,Grundfos!$B$4:$L$106,11,FALSE)),IF(K13="IMP",IF(VLOOKUP(L13,IMP!$B$4:$L$56,5,FALSE)>10,VLOOKUP(L13,IMP!$B$4:$L$56,6,FALSE),VLOOKUP(L13,IMP!$B$4:$L$56,11,FALSE)),IF(K13="KSB",IF(VLOOKUP(L13,KSB!$B$4:$L$137,5,FALSE)>10,VLOOKUP(L13,KSB!$B$4:$L$137,6,FALSE),VLOOKUP(L13,KSB!$B$4:$L$137,11,FALSE)),IF(K13="Wilo",IF(VLOOKUP(L13,Wilo!$B$4:$L$109,5,FALSE)>10,VLOOKUP(L13,Wilo!$B$4:$L$109,6,FALSE),VLOOKUP(L13,Wilo!$B$4:$L$109,11,FALSE)),IF(K13="sonstige",IF(VLOOKUP(L13,sonstige!$B$4:$L$200,5,FALSE)>10,VLOOKUP(L13,sonstige!$B$4:$L$200,6,FALSE),VLOOKUP(L13,sonstige!$B$4:$L$200,11,FALSE))))))))) | N13: =IF(G13="","",G13) -> 5400 | O13: =IF(G13=N13,"-","") -> - | P13: 1 | Q13: 0.4 | R13: 0.75 | S13: 0.4 | T13: 0.5 | U13: 0.1 | V13: 0.25 | W13: 0.1 | X13: =IF(M13="","",(M13/1000)*N13*IF(K13="Biral",IF(VLOOKUP(L13,Biral!$B$4:$L$137,5,FALSE)>10,(((P13^2.8)*Q13)+((R13^2.8)*S13)+((T13^2.8)*U13)+((V13^2.8)*W13)),1),(IF(K13="Grundfos",IF(VLOOKUP(L13,Grundfos!$B$4:$L$106,5,FALSE)>10,(((P13^2.8)*Q13)+((R13^2.8)*S13)+((T13^2.8)*U13)+((V13^2.8)*W13)),1),(IF(K13="IMP",IF(VLOOKUP(L13,IMP!$B$4:$L$56,5,FALSE)>10,(((P13^2.8)*Q13)+((R13^2.8)*S13)+((T13^2.8)*U13)+((V13^2.8)*W13)),1),(IF(K13="KSB",IF(VLOOKUP(L13,KSB!$B$4:$L$137,5,FALSE)>10,(((P13^2.8)*Q13)+((R13^2.8)*S13)+((T13^2.8)*U13)+((V13^2.8)*W13)),1),(IF(K13="Wilo",IF(VLOOKUP(L13,Wilo!$B$4:$L$109,5,FALSE)>10,(((P13^2.8)*Q13)+((R13^2.8)*S13)+((T13^2.8)*U13)+((V13^2.8)*W13)),1),(IF(K13="sonstige",IF(VLOOKUP(L13,sonstige!$B$4:$L$200,5,FALSE)>10,(((P13^2.8)*Q13)+((R13^2.8)*S13)+((T13^2.8)*U13)+((V13^2.8)*W13)),1),1)))))))))))) | Z13: =IF(I13="","",IF(X13="","",I13-X13)) | AA13: =IF(Z13="","",Z13/I13) | AB13: =IF(AA13="","",IF(AA13>80%,"Stromeinsparung sehr hoch -> bitte überprüfen Sie die Angaben",""))
A14: 4 | G14: 5400 | I14: =IF(F14="","",(F14/1000)*G14) | M14: =IF(K14="","",IF(K14="Biral",IF(VLOOKUP(L14,Biral!$B$4:$L$137,5,FALSE)>10,VLOOKUP(L14,Biral!$B$4:$L$137,6,FALSE),VLOOKUP(L14,Biral!$B$4:$L$137,11,FALSE)),IF(K14="Grundfos",IF(VLOOKUP(L14,Grundfos!$B$4:$L$106,5,FALSE)>10,VLOOKUP(L14,Grundfos!$B$4:$L$106,6,FALSE),VLOOKUP(L14,Grundfos!$B$4:$L$106,11,FALSE)),IF(K14="IMP",IF(VLOOKUP(L14,IMP!$B$4:$L$56,5,FALSE)>10,VLOOKUP(L14,IMP!$B$4:$L$56,6,FALSE),VLOOKUP(L14,IMP!$B$4:$L$56,11,FALSE)),IF(K14="KSB",IF(VLOOKUP(L14,KSB!$B$4:$L$137,5,FALSE)>10,VLOOKUP(L14,KSB!$B$4:$L$137,6,FALSE),VLOOKUP(L14,KSB!$B$4:$L$137,11,FALSE)),IF(K14="Wilo",IF(VLOOKUP(L14,Wilo!$B$4:$L$109,5,FALSE)>10,VLOOKUP(L14,Wilo!$B$4:$L$109,6,FALSE),VLOOKUP(L14,Wilo!$B$4:$L$109,11,FALSE)),IF(K14="sonstige",IF(VLOOKUP(L14,sonstige!$B$4:$L$200,5,FALSE)>10,VLOOKUP(L14,sonstige!$B$4:$L$200,6,FALSE),VLOOKUP(L14,sonstige!$B$4:$L$200,11,FALSE))))))))) | N14: =IF(G14="","",G14) -> 5400 | O14: =IF(G14=N14,"-","") -> - | P14: 1 | Q14: 0.4 | R14: 0.75 | S14: 0.4 | T14: 0.5 | U14: 0.1 | V14: 0.25 | W14: 0.1 | X14: =IF(M14="","",(M14/1000)*N14*IF(K14="Biral",IF(VLOOKUP(L14,Biral!$B$4:$L$137,5,FALSE)>10,(((P14^2.8)*Q14)+((R14^2.8)*S14)+((T14^2.8)*U14)+((V14^2.8)*W14)),1),(IF(K14="Grundfos",IF(VLOOKUP(L14,Grundfos!$B$4:$L$106,5,FALSE)>10,(((P14^2.8)*Q14)+((R14^2.8)*S14)+((T14^2.8)*U14)+((V14^2.8)*W14)),1),(IF(K14="IMP",IF(VLOOKUP(L14,IMP!$B$4:$L$56,5,FALSE)>10,(((P14^2.8)*Q14)+((R14^2.8)*S14)+((T14^2.8)*U14)+((V14^2.8)*W14)),1),(IF(K14="KSB",IF(VLOOKUP(L14,KSB!$B$4:$L$137,5,FALSE)>10,(((P14^2.8)*Q14)+((R14^2.8)*S14)+((T14^2.8)*U14)+((V14^2.8)*W14)),1),(IF(K14="Wilo",IF(VLOOKUP(L14,Wilo!$B$4:$L$109,5,FALSE)>10,(((P14^2.8)*Q14)+((R14^2.8)*S14)+((T14^2.8)*U14)+((V14^2.8)*W14)),1),(IF(K14="sonstige",IF(VLOOKUP(L14,sonstige!$B$4:$L$200,5,FALSE)>10,(((P14^2.8)*Q14)+((R14^2.8)*S14)+((T14^2.8)*U14)+((V14^2.8)*W14)),1),1)))))))))))) | Z14: =IF(I14="","",IF(X14="","",I14-X14)) | AA14: =IF(Z14="","",Z14/I14) | AB14: =IF(AA14="","",IF(AA14>80%,"Stromeinsparung sehr hoch -> bitte überprüfen Sie die Angaben",""))
A15: 5 | G15: 5400 | I15: =IF(F15="","",(F15/1000)*G15) | M15: =IF(K15="","",IF(K15="Biral",IF(VLOOKUP(L15,Biral!$B$4:$L$137,5,FALSE)>10,VLOOKUP(L15,Biral!$B$4:$L$137,6,FALSE),VLOOKUP(L15,Biral!$B$4:$L$137,11,FALSE)),IF(K15="Grundfos",IF(VLOOKUP(L15,Grundfos!$B$4:$L$106,5,FALSE)>10,VLOOKUP(L15,Grundfos!$B$4:$L$106,6,FALSE),VLOOKUP(L15,Grundfos!$B$4:$L$106,11,FALSE)),IF(K15="IMP",IF(VLOOKUP(L15,IMP!$B$4:$L$56,5,FALSE)>10,VLOOKUP(L15,IMP!$B$4:$L$56,6,FALSE),VLOOKUP(L15,IMP!$B$4:$L$56,11,FALSE)),IF(K15="KSB",IF(VLOOKUP(L15,KSB!$B$4:$L$137,5,FALSE)>10,VLOOKUP(L15,KSB!$B$4:$L$137,6,FALSE),VLOOKUP(L15,KSB!$B$4:$L$137,11,FALSE)),IF(K15="Wilo",IF(VLOOKUP(L15,Wilo!$B$4:$L$109,5,FALSE)>10,VLOOKUP(L15,Wilo!$B$4:$L$109,6,FALSE),VLOOKUP(L15,Wilo!$B$4:$L$109,11,FALSE)),IF(K15="sonstige",IF(VLOOKUP(L15,sonstige!$B$4:$L$200,5,FALSE)>10,VLOOKUP(L15,sonstige!$B$4:$L$200,6,FALSE),VLOOKUP(L15,sonstige!$B$4:$L$200,11,FALSE))))))))) | N15: =IF(G15="","",G15) -> 5400 | O15: =IF(G15=N15,"-","") -> - | P15: 1 | Q15: 0.4 | R15: 0.75 | S15: 0.4 | T15: 0.5 | U15: 0.1 | V15: 0.25 | W15: 0.1 | X15: =IF(M15="","",(M15/1000)*N15*IF(K15="Biral",IF(VLOOKUP(L15,Biral!$B$4:$L$137,5,FALSE)>10,(((P15^2.8)*Q15)+((R15^2.8)*S15)+((T15^2.8)*U15)+((V15^2.8)*W15)),1),(IF(K15="Grundfos",IF(VLOOKUP(L15,Grundfos!$B$4:$L$106,5,FALSE)>10,(((P15^2.8)*Q15)+((R15^2.8)*S15)+((T15^2.8)*U15)+((V15^2.8)*W15)),1),(IF(K15="IMP",IF(VLOOKUP(L15,IMP!$B$4:$L$56,5,FALSE)>10,(((P15^2.8)*Q15)+((R15^2.8)*S15)+((T15^2.8)*U15)+((V15^2.8)*W15)),1),(IF(K15="KSB",IF(VLOOKUP(L15,KSB!$B$4:$L$137,5,FALSE)>10,(((P15^2.8)*Q15)+((R15^2.8)*S15)+((T15^2.8)*U15)+((V15^2.8)*W15)),1),(IF(K15="Wilo",IF(VLOOKUP(L15,Wilo!$B$4:$L$109,5,FALSE)>10,(((P15^2.8)*Q15)+((R15^2.8)*S15)+((T15^2.8)*U15)+((V15^2.8)*W15)),1),(IF(K15="sonstige",IF(VLOOKUP(L15,sonstige!$B$4:$L$200,5,FALSE)>10,(((P15^2.8)*Q15)+((R15^2.8)*S15)+((T15^2.8)*U15)+((V15^2.8)*W15)),1),1)))))))))))) | Z15: =IF(I15="","",IF(X15="","",I15-X15)) | AA15: =IF(Z15="","",Z15/I15) | AB15: =IF(AA15="","",IF(AA15>80%,"Stromeinsparung sehr hoch -> bitte überprüfen Sie die Angaben",""))
A16: 6 | G16: 5400 | I16: =IF(F16="","",(F16/1000)*G16) | M16: =IF(K16="","",IF(K16="Biral",IF(VLOOKUP(L16,Biral!$B$4:$L$137,5,FALSE)>10,VLOOKUP(L16,Biral!$B$4:$L$137,6,FALSE),VLOOKUP(L16,Biral!$B$4:$L$137,11,FALSE)),IF(K16="Grundfos",IF(VLOOKUP(L16,Grundfos!$B$4:$L$106,5,FALSE)>10,VLOOKUP(L16,Grundfos!$B$4:$L$106,6,FALSE),VLOOKUP(L16,Grundfos!$B$4:$L$106,11,FALSE)),IF(K16="IMP",IF(VLOOKUP(L16,IMP!$B$4:$L$56,5,FALSE)>10,VLOOKUP(L16,IMP!$B$4:$L$56,6,FALSE),VLOOKUP(L16,IMP!$B$4:$L$56,11,FALSE)),IF(K16="KSB",IF(VLOOKUP(L16,KSB!$B$4:$L$137,5,FALSE)>10,VLOOKUP(L16,KSB!$B$4:$L$137,6,FALSE),VLOOKUP(L16,KSB!$B$4:$L$137,11,FALSE)),IF(K16="Wilo",IF(VLOOKUP(L16,Wilo!$B$4:$L$109,5,FALSE)>10,VLOOKUP(L16,Wilo!$B$4:$L$109,6,FALSE),VLOOKUP(L16,Wilo!$B$4:$L$109,11,FALSE)),IF(K16="sonstige",IF(VLOOKUP(L16,sonstige!$B$4:$L$200,5,FALSE)>10,VLOOKUP(L16,sonstige!$B$4:$L$200,6,FALSE),VLOOKUP(L16,sonstige!$B$4:$L$200,11,FALSE))))))))) | N16: =IF(G16="","",G16) -> 5400 | O16: =IF(G16=N16,"-","") -> - | P16: 1 | Q16: 0.4 | R16: 0.75 | S16: 0.4 | T16: 0.5 | U16: 0.1 | V16: 0.25 | W16: 0.1 | X16: =IF(M16="","",(M16/1000)*N16*IF(K16="Biral",IF(VLOOKUP(L16,Biral!$B$4:$L$137,5,FALSE)>10,(((P16^2.8)*Q16)+((R16^2.8)*S16)+((T16^2.8)*U16)+((V16^2.8)*W16)),1),(IF(K16="Grundfos",IF(VLOOKUP(L16,Grundfos!$B$4:$L$106,5,FALSE)>10,(((P16^2.8)*Q16)+((R16^2.8)*S16)+((T16^2.8)*U16)+((V16^2.8)*W16)),1),(IF(K16="IMP",IF(VLOOKUP(L16,IMP!$B$4:$L$56,5,FALSE)>10,(((P16^2.8)*Q16)+((R16^2.8)*S16)+((T16^2.8)*U16)+((V16^2.8)*W16)),1),(IF(K16="KSB",IF(VLOOKUP(L16,KSB!$B$4:$L$137,5,FALSE)>10,(((P16^2.8)*Q16)+((R16^2.8)*S16)+((T16^2.8)*U16)+((V16^2.8)*W16)),1),(IF(K16="Wilo",IF(VLOOKUP(L16,Wilo!$B$4:$L$109,5,FALSE)>10,(((P16^2.8)*Q16)+((R16^2.8)*S16)+((T16^2.8)*U16)+((V16^2.8)*W16)),1),(IF(K16="sonstige",IF(VLOOKUP(L16,sonstige!$B$4:$L$200,5,FALSE)>10,(((P16^2.8)*Q16)+((R16^2.8)*S16)+((T16^2.8)*U16)+((V16^2.8)*W16)),1),1)))))))))))) | Z16: =IF(I16="","",IF(X16="","",I16-X16)) | AA16: =IF(Z16="","",Z16/I16) | AB16: =IF(AA16="","",IF(AA16>80%,"Stromeinsparung sehr hoch -> bitte überprüfen Sie die Angaben",""))
A17: 7 | G17: 5400 | I17: =IF(F17="","",(F17/1000)*G17) | M17: =IF(K17="","",IF(K17="Biral",IF(VLOOKUP(L17,Biral!$B$4:$L$137,5,FALSE)>10,VLOOKUP(L17,Biral!$B$4:$L$137,6,FALSE),VLOOKUP(L17,Biral!$B$4:$L$137,11,FALSE)),IF(K17="Grundfos",IF(VLOOKUP(L17,Grundfos!$B$4:$L$106,5,FALSE)>10,VLOOKUP(L17,Grundfos!$B$4:$L$106,6,FALSE),VLOOKUP(L17,Grundfos!$B$4:$L$106,11,FALSE)),IF(K17="IMP",IF(VLOOKUP(L17,IMP!$B$4:$L$56,5,FALSE)>10,VLOOKUP(L17,IMP!$B$4:$L$56,6,FALSE),VLOOKUP(L17,IMP!$B$4:$L$56,11,FALSE)),IF(K17="KSB",IF(VLOOKUP(L17,KSB!$B$4:$L$137,5,FALSE)>10,VLOOKUP(L17,KSB!$B$4:$L$137,6,FALSE),VLOOKUP(L17,KSB!$B$4:$L$137,11,FALSE)),IF(K17="Wilo",IF(VLOOKUP(L17,Wilo!$B$4:$L$109,5,FALSE)>10,VLOOKUP(L17,Wilo!$B$4:$L$109,6,FALSE),VLOOKUP(L17,Wilo!$B$4:$L$109,11,FALSE)),IF(K17="sonstige",IF(VLOOKUP(L17,sonstige!$B$4:$L$200,5,FALSE)>10,VLOOKUP(L17,sonstige!$B$4:$L$200,6,FALSE),VLOOKUP(L17,sonstige!$B$4:$L$200,11,FALSE))))))))) | N17: =IF(G17="","",G17) -> 5400 | O17: =IF(G17=N17,"-","") -> - | P17: 1 | Q17: 0.4 | R17: 0.75 | S17: 0.4 | T17: 0.5 | U17: 0.1 | V17: 0.25 | W17: 0.1 | X17: =IF(M17="","",(M17/1000)*N17*IF(K17="Biral",IF(VLOOKUP(L17,Biral!$B$4:$L$137,5,FALSE)>10,(((P17^2.8)*Q17)+((R17^2.8)*S17)+((T17^2.8)*U17)+((V17^2.8)*W17)),1),(IF(K17="Grundfos",IF(VLOOKUP(L17,Grundfos!$B$4:$L$106,5,FALSE)>10,(((P17^2.8)*Q17)+((R17^2.8)*S17)+((T17^2.8)*U17)+((V17^2.8)*W17)),1),(IF(K17="IMP",IF(VLOOKUP(L17,IMP!$B$4:$L$56,5,FALSE)>10,(((P17^2.8)*Q17)+((R17^2.8)*S17)+((T17^2.8)*U17)+((V17^2.8)*W17)),1),(IF(K17="KSB",IF(VLOOKUP(L17,KSB!$B$4:$L$137,5,FALSE)>10,(((P17^2.8)*Q17)+((R17^2.8)*S17)+((T17^2.8)*U17)+((V17^2.8)*W17)),1),(IF(K17="Wilo",IF(VLOOKUP(L17,Wilo!$B$4:$L$109,5,FALSE)>10,(((P17^2.8)*Q17)+((R17^2.8)*S17)+((T17^2.8)*U17)+((V17^2.8)*W17)),1),(IF(K17="sonstige",IF(VLOOKUP(L17,sonstige!$B$4:$L$200,5,FALSE)>10,(((P17^2.8)*Q17)+((R17^2.8)*S17)+((T17^2.8)*U17)+((V17^2.8)*W17)),1),1)))))))))))) | Z17: =IF(I17="","",IF(X17="","",I17-X17)) | AA17: =IF(Z17="","",Z17/I17) | AB17: =IF(AA17="","",IF(AA17>80%,"Stromeinsparung sehr hoch -> bitte überprüfen Sie die Angaben",""))
A18: 8 | G18: 5400 | I18: =IF(F18="","",(F18/1000)*G18) | M18: =IF(K18="","",IF(K18="Biral",IF(VLOOKUP(L18,Biral!$B$4:$L$137,5,FALSE)>10,VLOOKUP(L18,Biral!$B$4:$L$137,6,FALSE),VLOOKUP(L18,Biral!$B$4:$L$137,11,FALSE)),IF(K18="Grundfos",IF(VLOOKUP(L18,Grundfos!$B$4:$L$106,5,FALSE)>10,VLOOKUP(L18,Grundfos!$B$4:$L$106,6,FALSE),VLOOKUP(L18,Grundfos!$B$4:$L$106,11,FALSE)),IF(K18="IMP",IF(VLOOKUP(L18,IMP!$B$4:$L$56,5,FALSE)>10,VLOOKUP(L18,IMP!$B$4:$L$56,6,FALSE),VLOOKUP(L18,IMP!$B$4:$L$56,11,FALSE)),IF(K18="KSB",IF(VLOOKUP(L18,KSB!$B$4:$L$137,5,FALSE)>10,VLOOKUP(L18,KSB!$B$4:$L$137,6,FALSE),VLOOKUP(L18,KSB!$B$4:$L$137,11,FALSE)),IF(K18="Wilo",IF(VLOOKUP(L18,Wilo!$B$4:$L$109,5,FALSE)>10,VLOOKUP(L18,Wilo!$B$4:$L$109,6,FALSE),VLOOKUP(L18,Wilo!$B$4:$L$109,11,FALSE)),IF(K18="sonstige",IF(VLOOKUP(L18,sonstige!$B$4:$L$200,5,FALSE)>10,VLOOKUP(L18,sonstige!$B$4:$L$200,6,FALSE),VLOOKUP(L18,sonstige!$B$4:$L$200,11,FALSE))))))))) | N18: =IF(G18="","",G18) -> 5400 | O18: =IF(G18=N18,"-","") -> - | P18: 1 | Q18: 0.4 | R18: 0.75 | S18: 0.4 | T18: 0.5 | U18: 0.1 | V18: 0.25 | W18: 0.1 | X18: =IF(M18="","",(M18/1000)*N18*IF(K18="Biral",IF(VLOOKUP(L18,Biral!$B$4:$L$137,5,FALSE)>10,(((P18^2.8)*Q18)+((R18^2.8)*S18)+((T18^2.8)*U18)+((V18^2.8)*W18)),1),(IF(K18="Grundfos",IF(VLOOKUP(L18,Grundfos!$B$4:$L$106,5,FALSE)>10,(((P18^2.8)*Q18)+((R18^2.8)*S18)+((T18^2.8)*U18)+((V18^2.8)*W18)),1),(IF(K18="IMP",IF(VLOOKUP(L18,IMP!$B$4:$L$56,5,FALSE)>10,(((P18^2.8)*Q18)+((R18^2.8)*S18)+((T18^2.8)*U18)+((V18^2.8)*W18)),1),(IF(K18="KSB",IF(VLOOKUP(L18,KSB!$B$4:$L$137,5,FALSE)>10,(((P18^2.8)*Q18)+((R18^2.8)*S18)+((T18^2.8)*U18)+((V18^2.8)*W18)),1),(IF(K18="Wilo",IF(VLOOKUP(L18,Wilo!$B$4:$L$109,5,FALSE)>10,(((P18^2.8)*Q18)+((R18^2.8)*S18)+((T18^2.8)*U18)+((V18^2.8)*W18)),1),(IF(K18="sonstige",IF(VLOOKUP(L18,sonstige!$B$4:$L$200,5,FALSE)>10,(((P18^2.8)*Q18)+((R18^2.8)*S18)+((T18^2.8)*U18)+((V18^2.8)*W18)),1),1)))))))))))) | Z18: =IF(I18="","",IF(X18="","",I18-X18)) | AA18: =IF(Z18="","",Z18/I18) | AB18: =IF(AA18="","",IF(AA18>80%,"Stromeinsparung sehr hoch -> bitte überprüfen Sie die Angaben",""))
A19: 9 | G19: 5400 | I19: =IF(F19="","",(F19/1000)*G19) | M19: =IF(K19="","",IF(K19="Biral",IF(VLOOKUP(L19,Biral!$B$4:$L$137,5,FALSE)>10,VLOOKUP(L19,Biral!$B$4:$L$137,6,FALSE),VLOOKUP(L19,Biral!$B$4:$L$137,11,FALSE)),IF(K19="Grundfos",IF(VLOOKUP(L19,Grundfos!$B$4:$L$106,5,FALSE)>10,VLOOKUP(L19,Grundfos!$B$4:$L$106,6,FALSE),VLOOKUP(L19,Grundfos!$B$4:$L$106,11,FALSE)),IF(K19="IMP",IF(VLOOKUP(L19,IMP!$B$4:$L$56,5,FALSE)>10,VLOOKUP(L19,IMP!$B$4:$L$56,6,FALSE),VLOOKUP(L19,IMP!$B$4:$L$56,11,FALSE)),IF(K19="KSB",IF(VLOOKUP(L19,KSB!$B$4:$L$137,5,FALSE)>10,VLOOKUP(L19,KSB!$B$4:$L$137,6,FALSE),VLOOKUP(L19,KSB!$B$4:$L$137,11,FALSE)),IF(K19="Wilo",IF(VLOOKUP(L19,Wilo!$B$4:$L$109,5,FALSE)>10,VLOOKUP(L19,Wilo!$B$4:$L$109,6,FALSE),VLOOKUP(L19,Wilo!$B$4:$L$109,11,FALSE)),IF(K19="sonstige",IF(VLOOKUP(L19,sonstige!$B$4:$L$200,5,FALSE)>10,VLOOKUP(L19,sonstige!$B$4:$L$200,6,FALSE),VLOOKUP(L19,sonstige!$B$4:$L$200,11,FALSE))))))))) | N19: =IF(G19="","",G19) -> 5400 | O19: =IF(G19=N19,"-","") -> - | P19: 1 | Q19: 0.4 | R19: 0.75 | S19: 0.4 | T19: 0.5 | U19: 0.1 | V19: 0.25 | W19: 0.1 | X19: =IF(M19="","",(M19/1000)*N19*IF(K19="Biral",IF(VLOOKUP(L19,Biral!$B$4:$L$137,5,FALSE)>10,(((P19^2.8)*Q19)+((R19^2.8)*S19)+((T19^2.8)*U19)+((V19^2.8)*W19)),1),(IF(K19="Grundfos",IF(VLOOKUP(L19,Grundfos!$B$4:$L$106,5,FALSE)>10,(((P19^2.8)*Q19)+((R19^2.8)*S19)+((T19^2.8)*U19)+((V19^2.8)*W19)),1),(IF(K19="IMP",IF(VLOOKUP(L19,IMP!$B$4:$L$56,5,FALSE)>10,(((P19^2.8)*Q19)+((R19^2.8)*S19)+((T19^2.8)*U19)+((V19^2.8)*W19)),1),(IF(K19="KSB",IF(VLOOKUP(L19,KSB!$B$4:$L$137,5,FALSE)>10,(((P19^2.8)*Q19)+((R19^2.8)*S19)+((T19^2.8)*U19)+((V19^2.8)*W19)),1),(IF(K19="Wilo",IF(VLOOKUP(L19,Wilo!$B$4:$L$109,5,FALSE)>10,(((P19^2.8)*Q19)+((R19^2.8)*S19)+((T19^2.8)*U19)+((V19^2.8)*W19)),1),(IF(K19="sonstige",IF(VLOOKUP(L19,sonstige!$B$4:$L$200,5,FALSE)>10,(((P19^2.8)*Q19)+((R19^2.8)*S19)+((T19^2.8)*U19)+((V19^2.8)*W19)),1),1)))))))))))) | Z19: =IF(I19="","",IF(X19="","",I19-X19)) | AA19: =IF(Z19="","",Z19/I19) | AB19: =IF(AA19="","",IF(AA19>80%,"Stromeinsparung sehr hoch -> bitte überprüfen Sie die Angaben",""))
A20: 10 | G20: 5400 | I20: =IF(F20="","",(F20/1000)*G20) | M20: =IF(K20="","",IF(K20="Biral",IF(VLOOKUP(L20,Biral!$B$4:$L$137,5,FALSE)>10,VLOOKUP(L20,Biral!$B$4:$L$137,6,FALSE),VLOOKUP(L20,Biral!$B$4:$L$137,11,FALSE)),IF(K20="Grundfos",IF(VLOOKUP(L20,Grundfos!$B$4:$L$106,5,FALSE)>10,VLOOKUP(L20,Grundfos!$B$4:$L$106,6,FALSE),VLOOKUP(L20,Grundfos!$B$4:$L$106,11,FALSE)),IF(K20="IMP",IF(VLOOKUP(L20,IMP!$B$4:$L$56,5,FALSE)>10,VLOOKUP(L20,IMP!$B$4:$L$56,6,FALSE),VLOOKUP(L20,IMP!$B$4:$L$56,11,FALSE)),IF(K20="KSB",IF(VLOOKUP(L20,KSB!$B$4:$L$137,5,FALSE)>10,VLOOKUP(L20,KSB!$B$4:$L$137,6,FALSE),VLOOKUP(L20,KSB!$B$4:$L$137,11,FALSE)),IF(K20="Wilo",IF(VLOOKUP(L20,Wilo!$B$4:$L$109,5,FALSE)>10,VLOOKUP(L20,Wilo!$B$4:$L$109,6,FALSE),VLOOKUP(L20,Wilo!$B$4:$L$109,11,FALSE)),IF(K20="sonstige",IF(VLOOKUP(L20,sonstige!$B$4:$L$200,5,FALSE)>10,VLOOKUP(L20,sonstige!$B$4:$L$200,6,FALSE),VLOOKUP(L20,sonstige!$B$4:$L$200,11,FALSE))))))))) | N20: =IF(G20="","",G20) -> 5400 | O20: =IF(G20=N20,"-","") -> - | P20: 1 | Q20: 0.4 | R20: 0.75 | S20: 0.4 | T20: 0.5 | U20: 0.1 | V20: 0.25 | W20: 0.1 | X20: =IF(M20="","",(M20/1000)*N20*IF(K20="Biral",IF(VLOOKUP(L20,Biral!$B$4:$L$137,5,FALSE)>10,(((P20^2.8)*Q20)+((R20^2.8)*S20)+((T20^2.8)*U20)+((V20^2.8)*W20)),1),(IF(K20="Grundfos",IF(VLOOKUP(L20,Grundfos!$B$4:$L$106,5,FALSE)>10,(((P20^2.8)*Q20)+((R20^2.8)*S20)+((T20^2.8)*U20)+((V20^2.8)*W20)),1),(IF(K20="IMP",IF(VLOOKUP(L20,IMP!$B$4:$L$56,5,FALSE)>10,(((P20^2.8)*Q20)+((R20^2.8)*S20)+((T20^2.8)*U20)+((V20^2.8)*W20)),1),(IF(K20="KSB",IF(VLOOKUP(L20,KSB!$B$4:$L$137,5,FALSE)>10,(((P20^2.8)*Q20)+((R20^2.8)*S20)+((T20^2.8)*U20)+((V20^2.8)*W20)),1),(IF(K20="Wilo",IF(VLOOKUP(L20,Wilo!$B$4:$L$109,5,FALSE)>10,(((P20^2.8)*Q20)+((R20^2.8)*S20)+((T20^2.8)*U20)+((V20^2.8)*W20)),1),(IF(K20="sonstige",IF(VLOOKUP(L20,sonstige!$B$4:$L$200,5,FALSE)>10,(((P20^2.8)*Q20)+((R20^2.8)*S20)+((T20^2.8)*U20)+((V20^2.8)*W20)),1),1)))))))))))) | Z20: =IF(I20="","",IF(X20="","",I20-X20)) | AA20: =IF(Z20="","",Z20/I20) | AB20: =IF(AA20="","",IF(AA20>80%,"Stromeinsparung sehr hoch -> bitte überprüfen Sie die Angaben",""))
A21: 11 | G21: 5400 | I21: =IF(F21="","",(F21/1000)*G21) | M21: =IF(K21="","",IF(K21="Biral",IF(VLOOKUP(L21,Biral!$B$4:$L$137,5,FALSE)>10,VLOOKUP(L21,Biral!$B$4:$L$137,6,FALSE),VLOOKUP(L21,Biral!$B$4:$L$137,11,FALSE)),IF(K21="Grundfos",IF(VLOOKUP(L21,Grundfos!$B$4:$L$106,5,FALSE)>10,VLOOKUP(L21,Grundfos!$B$4:$L$106,6,FALSE),VLOOKUP(L21,Grundfos!$B$4:$L$106,11,FALSE)),IF(K21="IMP",IF(VLOOKUP(L21,IMP!$B$4:$L$56,5,FALSE)>10,VLOOKUP(L21,IMP!$B$4:$L$56,6,FALSE),VLOOKUP(L21,IMP!$B$4:$L$56,11,FALSE)),IF(K21="KSB",IF(VLOOKUP(L21,KSB!$B$4:$L$137,5,FALSE)>10,VLOOKUP(L21,KSB!$B$4:$L$137,6,FALSE),VLOOKUP(L21,KSB!$B$4:$L$137,11,FALSE)),IF(K21="Wilo",IF(VLOOKUP(L21,Wilo!$B$4:$L$109,5,FALSE)>10,VLOOKUP(L21,Wilo!$B$4:$L$109,6,FALSE),VLOOKUP(L21,Wilo!$B$4:$L$109,11,FALSE)),IF(K21="sonstige",IF(VLOOKUP(L21,sonstige!$B$4:$L$200,5,FALSE)>10,VLOOKUP(L21,sonstige!$B$4:$L$200,6,FALSE),VLOOKUP(L21,sonstige!$B$4:$L$200,11,FALSE))))))))) | N21: =IF(G21="","",G21) -> 5400 | O21: =IF(G21=N21,"-","") -> - | P21: 1 | Q21: 0.4 | R21: 0.75 | S21: 0.4 | T21: 0.5 | U21: 0.1 | V21: 0.25 | W21: 0.1 | X21: =IF(M21="","",(M21/1000)*N21*IF(K21="Biral",IF(VLOOKUP(L21,Biral!$B$4:$L$137,5,FALSE)>10,(((P21^2.8)*Q21)+((R21^2.8)*S21)+((T21^2.8)*U21)+((V21^2.8)*W21)),1),(IF(K21="Grundfos",IF(VLOOKUP(L21,Grundfos!$B$4:$L$106,5,FALSE)>10,(((P21^2.8)*Q21)+((R21^2.8)*S21)+((T21^2.8)*U21)+((V21^2.8)*W21)),1),(IF(K21="IMP",IF(VLOOKUP(L21,IMP!$B$4:$L$56,5,FALSE)>10,(((P21^2.8)*Q21)+((R21^2.8)*S21)+((T21^2.8)*U21)+((V21^2.8)*W21)),1),(IF(K21="KSB",IF(VLOOKUP(L21,KSB!$B$4:$L$137,5,FALSE)>10,(((P21^2.8)*Q21)+((R21^2.8)*S21)+((T21^2.8)*U21)+((V21^2.8)*W21)),1),(IF(K21="Wilo",IF(VLOOKUP(L21,Wilo!$B$4:$L$109,5,FALSE)>10,(((P21^2.8)*Q21)+((R21^2.8)*S21)+((T21^2.8)*U21)+((V21^2.8)*W21)),1),(IF(K21="sonstige",IF(VLOOKUP(L21,sonstige!$B$4:$L$200,5,FALSE)>10,(((P21^2.8)*Q21)+((R21^2.8)*S21)+((T21^2.8)*U21)+((V21^2.8)*W21)),1),1)))))))))))) | Z21: =IF(I21="","",IF(X21="","",I21-X21)) | AA21: =IF(Z21="","",Z21/I21) | AB21: =IF(AA21="","",IF(AA21>80%,"Stromeinsparung sehr hoch -> bitte überprüfen Sie die Angaben",""))
A22: 12 | G22: 5400 | I22: =IF(F22="","",(F22/1000)*G22) | M22: =IF(K22="","",IF(K22="Biral",IF(VLOOKUP(L22,Biral!$B$4:$L$137,5,FALSE)>10,VLOOKUP(L22,Biral!$B$4:$L$137,6,FALSE),VLOOKUP(L22,Biral!$B$4:$L$137,11,FALSE)),IF(K22="Grundfos",IF(VLOOKUP(L22,Grundfos!$B$4:$L$106,5,FALSE)>10,VLOOKUP(L22,Grundfos!$B$4:$L$106,6,FALSE),VLOOKUP(L22,Grundfos!$B$4:$L$106,11,FALSE)),IF(K22="IMP",IF(VLOOKUP(L22,IMP!$B$4:$L$56,5,FALSE)>10,VLOOKUP(L22,IMP!$B$4:$L$56,6,FALSE),VLOOKUP(L22,IMP!$B$4:$L$56,11,FALSE)),IF(K22="KSB",IF(VLOOKUP(L22,KSB!$B$4:$L$137,5,FALSE)>10,VLOOKUP(L22,KSB!$B$4:$L$137,6,FALSE),VLOOKUP(L22,KSB!$B$4:$L$137,11,FALSE)),IF(K22="Wilo",IF(VLOOKUP(L22,Wilo!$B$4:$L$109,5,FALSE)>10,VLOOKUP(L22,Wilo!$B$4:$L$109,6,FALSE),VLOOKUP(L22,Wilo!$B$4:$L$109,11,FALSE)),IF(K22="sonstige",IF(VLOOKUP(L22,sonstige!$B$4:$L$200,5,FALSE)>10,VLOOKUP(L22,sonstige!$B$4:$L$200,6,FALSE),VLOOKUP(L22,sonstige!$B$4:$L$200,11,FALSE))))))))) | N22: =IF(G22="","",G22) -> 5400 | O22: =IF(G22=N22,"-","") -> - | P22: 1 | Q22: 0.4 | R22: 0.75 | S22: 0.4 | T22: 0.5 | U22: 0.1 | V22: 0.25 | W22: 0.1 | X22: =IF(M22="","",(M22/1000)*N22*IF(K22="Biral",IF(VLOOKUP(L22,Biral!$B$4:$L$137,5,FALSE)>10,(((P22^2.8)*Q22)+((R22^2.8)*S22)+((T22^2.8)*U22)+((V22^2.8)*W22)),1),(IF(K22="Grundfos",IF(VLOOKUP(L22,Grundfos!$B$4:$L$106,5,FALSE)>10,(((P22^2.8)*Q22)+((R22^2.8)*S22)+((T22^2.8)*U22)+((V22^2.8)*W22)),1),(IF(K22="IMP",IF(VLOOKUP(L22,IMP!$B$4:$L$56,5,FALSE)>10,(((P22^2.8)*Q22)+((R22^2.8)*S22)+((T22^2.8)*U22)+((V22^2.8)*W22)),1),(IF(K22="KSB",IF(VLOOKUP(L22,KSB!$B$4:$L$137,5,FALSE)>10,(((P22^2.8)*Q22)+((R22^2.8)*S22)+((T22^2.8)*U22)+((V22^2.8)*W22)),1),(IF(K22="Wilo",IF(VLOOKUP(L22,Wilo!$B$4:$L$109,5,FALSE)>10,(((P22^2.8)*Q22)+((R22^2.8)*S22)+((T22^2.8)*U22)+((V22^2.8)*W22)),1),(IF(K22="sonstige",IF(VLOOKUP(L22,sonstige!$B$4:$L$200,5,FALSE)>10,(((P22^2.8)*Q22)+((R22^2.8)*S22)+((T22^2.8)*U22)+((V22^2.8)*W22)),1),1)))))))))))) | Z22: =IF(I22="","",IF(X22="","",I22-X22)) | AA22: =IF(Z22="","",Z22/I22) | AB22: =IF(AA22="","",IF(AA22>80%,"Stromeinsparung sehr hoch -> bitte überprüfen Sie die Angaben",""))
... A60: 50 | G60: 5400 | I60: =IF(F60="","",(F60/1000)*G60) | M60: =IF(K60="","",IF(K60="Biral",IF(VLOOKUP(L60,Biral!$B$4:$L$137,5,FALSE)>10,VLOOKUP(L60,Biral!$B$4:$L$137,6,FALSE),VLOOKUP(L60,Biral!$B$4:$L$137,11,FALSE)),IF(K60="Grundfos",IF(VLOOKUP(L60,Grundfos!$B$4:$L$106,5,FALSE)>10,VLOOKUP(L60,Grundfos!$B$4:$L$106,6,FALSE),VLOOKUP(L60,Grundfos!$B$4:$L$106,11,FALSE)),IF(K60="IMP",IF(VLOOKUP(L60,IMP!$B$4:$L$56,5,FALSE)>10,VLOOKUP(L60,IMP!$B$4:$L$56,6,FALSE),VLOOKUP(L60,IMP!$B$4:$L$56,11,FALSE)),IF(K60="KSB",IF(VLOOKUP(L60,KSB!$B$4:$L$137,5,FALSE)>10,VLOOKUP(L60,KSB!$B$4:$L$137,6,FALSE),VLOOKUP(L60,KSB!$B$4:$L$137,11,FALSE)),IF(K60="Wilo",IF(VLOOKUP(L60,Wilo!$B$4:$L$109,5,FALSE)>10,VLOOKUP(L60,Wilo!$B$4:$L$109,6,FALSE),VLOOKUP(L60,Wilo!$B$4:$L$109,11,FALSE)),IF(K60="sonstige",IF(VLOOKUP(L60,sonstige!$B$4:$L$200,5,FALSE)>10,VLOOKUP(L60,sonstige!$B$4:$L$200,6,FALSE),VLOOKUP(L60,sonstige!$B$4:$L$200,11,FALSE))))))))) | N60: =IF(G60="","",G60) -> 5400 | O60: =IF(G60=N60,"-","") -> - | P60: 1 | Q60: 0.4 | R60: 0.75 | S60: 0.4 | T60: 0.5 | U60: 0.1 | V60: 0.25 | W60: 0.1 | X60: =IF(M60="","",(M60/1000)*N60*IF(K60="Biral",IF(VLOOKUP(L60,Biral!$B$4:$L$137,5,FALSE)>10,(((P60^2.8)*Q60)+((R60^2.8)*S60)+((T60^2.8)*U60)+((V60^2.8)*W60)),1),(IF(K60="Grundfos",IF(VLOOKUP(L60,Grundfos!$B$4:$L$106,5,FALSE)>10,(((P60^2.8)*Q60)+((R60^2.8)*S60)+((T60^2.8)*U60)+((V60^2.8)*W60)),1),(IF(K60="IMP",IF(VLOOKUP(L60,IMP!$B$4:$L$56,5,FALSE)>10,(((P60^2.8)*Q60)+((R60^2.8)*S60)+((T60^2.8)*U60)+((V60^2.8)*W60)),1),(IF(K60="KSB",IF(VLOOKUP(L60,KSB!$B$4:$L$137,5,FALSE)>10,(((P60^2.8)*Q60)+((R60^2.8)*S60)+((T60^2.8)*U60)+((V60^2.8)*W60)),1),(IF(K60="Wilo",IF(VLOOKUP(L60,Wilo!$B$4:$L$109,5,FALSE)>10,(((P60^2.8)*Q60)+((R60^2.8)*S60)+((T60^2.8)*U60)+((V60^2.8)*W60)),1),(IF(K60="sonstige",IF(VLOOKUP(L60,sonstige!$B$4:$L$200,5,FALSE)>10,(((P60^2.8)*Q60)+((R60^2.8)*S60)+((T60^2.8)*U60)+((V60^2.8)*W60)),1),1)))))))))))) | Z60: =IF(I60="","",IF(X60="","",I60-X60)) | AA60: =IF(Z60="","",Z60/I60) | AB60: =IF(AA60="","",IF(AA60>80%,"Stromeinsparung sehr hoch -> bitte überprüfen Sie die Angaben",""))
F61: =SUM(F11:F60) -> 0 | I61: =SUM(I11:I60) -> 0 | M61: =SUM(M11:M60) -> 0 | X61: =SUM(X11:X60) -> 0 | Z61: =SUM(Z11:Z60) -> 0
X62: Lastfaktor:
P63: 1 | Q63: 0.4 | R63: 0.75 | S63: 0.4 | T63: 0.5 | U63: 0.1 | V63: 0.25 | W63: 0.1 | X63: =((P63^2.8)*Q63)+((R63^2.8)*S63)+((T63^2.8)*U63)+((V63^2.8)*W63) -> 0.59516448

Sheet Trockenläuferpumpen
C2: Standardanwendung = Alle Arten von Pumpsystemen, ausser Anlagen, bei denen nahezu ausschliesslich Hebearbeit verrichtet wird (z.B. Reservoir füllen). | N2: Angaben zur Berechnung der elektrischen Leistungsaufnahme bitte unter + (siehe oben) eintragen | R2: Bei mehrstufigem Betrieb oder Betrieb mit Frequenzumrichter (FU) bitte Angaben unter + (siehe oben) aufklappen und eintragen | AN2: Angaben zur Berechnung der elektrischen Leistungsaufnahme bitte unter + (siehe oben) eintragen | AQ2: Bei mehrstufigem Betrieb oder Betrieb mit Frequenzumrichter (FU) bitte Angaben unter + (siehe oben) aufklappen und eintragen
G5: falls bekannt, bitte Angaben unter Berechnungsvariante 1 oder Berechnungsvariante 2 ausfüllen
A6: Berechnung Ersatz Trockenläuferpumpen | M6: Standard (IE1) kann überschrieben werden | AG6: bitte Angaben unter Berechnungsvariante 1 oder Berechnungsvariante 2 ausfüllen | AM6: Standard (IE4) kann überschrieben werden
A7: Anlage | E7: Situation vor der Umsetzung | G7: Berechnungsvariante 1 | H7: Berechnungsvariante 2 | AE7: Situation nach der Umsetzung | AG7: Berechnungsvariante 1 | AH7: Berechnungsvariante 2 | BD7: Stromeinsparung
A8: Nr. | B8: Pumpenbezeichnung | C8: Pumpensystem | E8: Hersteller | F8: Typ | G8: Mechanischer Leistungsbedarf der Pumpe an der Welle | H8: Nenn-Fördervolumen | I8: Nenn-Förderhöhe | J8: Wirkungsgrad der Pumpe | K8: Transmission | L8: Nennleistung des Motors | M8: Wirkungsgrad des Motors (vgl. Register "Wirkungsgrade") | N8: elektrische Leistungsaufnahme gem. Pumpenangaben | O8: elektrische Leistungsaufnahme gem. Motor | P8: Betriebszeit | Q8: Erklärung zur Betriebszeit | R8: Wird die bestehende Pumpe mit einem Frequenzumrichter (FU) betrieben? | S8: Lastprofil für FU betriebene Pumpen -> bei Pumpen ohne FU muss hier nichts eingetragen werden | AA8: Lastfaktor | AB8: Wirkungsgrad FU | AC8: Stromverbrauch | AE8: Hersteller | AF8: Typ | AG8: Mechanischer Leistungsbedarf der Pumpe an der Welle | AH8: Nenn-Fördervolumen | AI8: Nenn-Förderhöhe | AJ8: Wirkungsgrad der Pumpe | AK8: Transmission | AL8: Nennleistung des Motors (falls bekannt) | AM8: Wirkungsgrad des Motors (vgl. Register "Wirkungsgrade") | AN8: elektrische Leistungsaufnahme | AO8: Betriebszeit | AP8: Erklärung zur Betriebszeit | AQ8: Wird die neue Pumpe mit einem Frequenzumrichter (FU) betrieben? | AR8: Lastprofil für FU betriebene Pumpen -> bei Pumpen ohne FU muss hier nichts eingetragen werden | AZ8: Lastfaktor | BA8: Wirkungsgrad FU | BB8: Stromverbrauch
G9: kW | H9: m3/h | I9: m | J9: % | L9: kW | M9: % | N9: kW | O9: kW | P9: h/Jahr | R9: bitte auswählen | S9: Betriebspunkt 1 | U9: Betriebspunkt 2 | W9: Betriebspunkt 3 | Y9: Betriebspunkt 4 | AB9: % | AC9: kWh/Jahr | AG9: kW | AH9: m3/h | AI9: m | AJ9: % | AL9: kW | AM9: % | AN9: kW | AO9: h/Jahr | AP9: nur notwendig, falls von Betriebszeit vor der Umsetzung abweichend | AQ9: bitte auswählen | AR9: Betriebspunkt 1 | AT9: Betriebspunkt 2 | AV9: Betriebspunkt 3 | AX9: Betriebspunkt 4 | BA9: % | BB9: kWh/Jahr | BD9: kWh/Jahr | BE9: %
A10: Bsp. | B10: Tauchmotorpumpe | C10: keine Standardanwendung | E10: KSB | F10: ARX F150-230/077F4USG | G10: vgl. Datenblatt oder Typenschild der Pumpe (nicht des Motors!) | K10: Direktantrieb | L10: vgl. Datenblatt oder Typenschild des Motors | P10: 4380 | Q10: während Sommerhalbjahr, 24 h/Tag in Betrieb | R10: Nein | S10: % Volumenstrom | T10: % Betriebsstunden | U10: % Volumenstrom | V10: % Betriebsstunden | W10: % Volumenstrom | X10: % Betriebsstunden | Y10: % Volumenstrom | Z10: % Betriebsstunden | AE10: Grundfos | AF10: TPE2 200-200 A-F-A-BQQE-QWA | AG10: vgl. Datenblatt oder Typenschild der Pumpe (nicht des Motors!) | AK10: Standard | AL10: vgl. Datenblatt oder Typenschild Motor | AO10: 4380 | AP10: =IF(P10=AO10,"-","") -> - | AQ10: Ja | AR10: % Volumenstrom | AS10: % Betriebsstunden | AT10: % Volumenstrom | AU10: % Betriebsstunden | AV10: % Volumenstrom | AW10: % Betriebsstunden | AX10: % Volumenstrom | AY10: % Betriebsstunden
A11: 1 | K11: Direktantrieb | M11: =IF(L11="","",VLOOKUP(L11,Wirkungsgrade!$M$4:$R$5934,3,FALSE)/100) | N11: =IF(AND(G11="",J11=""),"",IF(G11="",((0.00272*H11*I11)/J11/IF(K11="Keilriemen",0.94,IF(K11="Flachriemen",0.97,1))/M11),G11/IF(K11="Keilriemen",0.94,IF(K11="Flachriemen",0.97,1))/M11)) | O11: =IF(L11="","",L11*0.8/M11) | S11: =IF(R11="Nein","-",100%) -> 1 | T11: =IF(R11="Nein","-",IF(R11="Ja","bitte eintragen","")) | U11: =IF(R11="Nein","-",75%) -> 0.75 | V11: =IF(R11="Nein","-",IF(R11="Ja","bitte eintragen","")) | W11: =IF(R11="Nein","-",50%) -> 0.5 | X11: =IF(R11="Nein","-",IF(R11="Ja","bitte eintragen","")) | Y11: =IF(R11="Nein","-",25%) -> 0.25 | Z11: =IF(R11="Nein","-",IF(R11="Ja","bitte eintragen","")) | AA11: =IF(R11="Ja",IF(C11="Standardanwendung",(((S11^2.8)*T11)+((U11^2.8)*V11)+((W11^2.8)*X11)+((Y11^2.8)*Z11)),IF(C11="keine Standardanwendung",(((S11)*T11)+((U11)*V11)+((W11)*X11)+((Y11)*Z11)),"Spalte C ausfüllen")),1) -> 1 | AB11: =IF(R11="Ja",0.95,1) -> 1 | AC11: =IF(M11="","",IF(N11="",((O11/AB11)*P11*AA11),((N11/AB11)*P11*AA11))) | AK11: Direktantrieb | AM11: =IF(AL11="","",VLOOKUP(AL11,Wirkungsgrade!$M$4:$R$5934,6,FALSE)/100) | AN11: =IF(AND(AG11="",AJ11=""),"",IF(AG11="",((0.00272*AH11*AI11)/AJ11/IF(AK11="Keilriemen",0.94,IF(AK11="Flachriemen",0.97,1))/AM11),AG11/IF(AK11="Keilriemen",0.94,IF(AK11="Flachriemen",0.97,1))/AM11)) | AO11: =IF(P11="","",P11) | AP11: =IF(P11=AO11,"-","") -> - | AR11: =IF(AQ11="Nein","-",100%) -> 1 | AS11: =IF(AQ11="Nein","-",IF(AQ11="Ja","bitte eintragen","")) | AT11: =IF(AQ11="Nein","-",75%) -> 0.75 | AU11: =IF(AQ11="Nein","-",IF(AQ11="Ja","bitte eintragen","")) | AV11: =IF(AQ11="Nein","-",50%) -> 0.5 | AW11: =IF(AQ11="Nein","-",IF(AQ11="Ja","bitte eintragen","")) | AX11: =IF(AQ11="Nein","-",25%) -> 0.25 | AY11: =IF(AQ11="Nein","-",IF(AQ11="Ja","bitte eintragen","")) | AZ11: =IF(AQ11="Ja",IF(C11="Standardanwendung",(((AR11^2.8)*AS11)+((AT11^2.8)*AU11)+((AV11^2.8)*AW11)+((AX11^2.8)*AY11)),IF(C11="keine Standardanwendung",(((AR11)*AS11)+((AT11)*AU11)+((AV11)*AW11)+((AX11)*AY11)),"Spalte C ausfüllen")),1) -> 1 | BA11: =IF(AQ11="Ja",0.98,1) -> 1 | BB11: =IF(AN11="","",(AN11/BA11)*AO11*AZ11) | BD11: =IF(AC11="","",IF(BB11="","",AC11-BB11)) | BE11: =IF(BD11="","",BD11/AC11) | BF11: =IF(BE11="","",IF(BE11>80%,"Stromeinsparung sehr hoch -> bitte überprüfen Sie die Angaben",""))
A12: 2 | K12: Direktantrieb | M12: =IF(L12="","",VLOOKUP(L12,Wirkungsgrade!$M$4:$R$5934,3,FALSE)/100) | N12: =IF(AND(G12="",J12=""),"",IF(G12="",((0.00272*H12*I12)/J12/IF(K12="Keilriemen",0.94,IF(K12="Flachriemen",0.97,1))/M12),G12/IF(K12="Keilriemen",0.94,IF(K12="Flachriemen",0.97,1))/M12)) | O12: =IF(L12="","",L12*0.8/M12) | S12: =IF(R12="Nein","-",100%) -> 1 | T12: =IF(R12="Nein","-",IF(R12="Ja","bitte eintragen","")) | U12: =IF(R12="Nein","-",75%) -> 0.75 | V12: =IF(R12="Nein","-",IF(R12="Ja","bitte eintragen","")) | W12: =IF(R12="Nein","-",50%) -> 0.5 | X12: =IF(R12="Nein","-",IF(R12="Ja","bitte eintragen","")) | Y12: =IF(R12="Nein","-",25%) -> 0.25 | Z12: =IF(R12="Nein","-",IF(R12="Ja","bitte eintragen","")) | AA12: =IF(R12="Ja",IF(C12="Standardanwendung",(((S12^2.8)*T12)+((U12^2.8)*V12)+((W12^2.8)*X12)+((Y12^2.8)*Z12)),IF(C12="keine Standardanwendung",(((S12)*T12)+((U12)*V12)+((W12)*X12)+((Y12)*Z12)),"Spalte C ausfüllen")),1) -> 1 | AB12: =IF(R12="Ja",0.95,1) -> 1 | AC12: =IF(M12="","",IF(N12="",((O12/AB12)*P12*AA12),((N12/AB12)*P12*AA12))) | AK12: Direktantrieb | AM12: =IF(AL12="","",VLOOKUP(AL12,Wirkungsgrade!$M$4:$R$5934,6,FALSE)/100) | AN12: =IF(AND(AG12="",AJ12=""),"",IF(AG12="",((0.00272*AH12*AI12)/AJ12/IF(AK12="Keilriemen",0.94,IF(AK12="Flachriemen",0.97,1))/AM12),AG12/IF(AK12="Keilriemen",0.94,IF(AK12="Flachriemen",0.97,1))/AM12)) | AO12: =IF(P12="","",P12) | AP12: =IF(P12=AO12,"-","") -> - | AR12: =IF(AQ12="Nein","-",100%) -> 1 | AS12: =IF(AQ12="Nein","-",IF(AQ12="Ja","bitte eintragen","")) | AT12: =IF(AQ12="Nein","-",75%) -> 0.75 | AU12: =IF(AQ12="Nein","-",IF(AQ12="Ja","bitte eintragen","")) | AV12: =IF(AQ12="Nein","-",50%) -> 0.5 | AW12: =IF(AQ12="Nein","-",IF(AQ12="Ja","bitte eintragen","")) | AX12: =IF(AQ12="Nein","-",25%) -> 0.25 | AY12: =IF(AQ12="Nein","-",IF(AQ12="Ja","bitte eintragen","")) | AZ12: =IF(AQ12="Ja",IF(C12="Standardanwendung",(((AR12^2.8)*AS12)+((AT12^2.8)*AU12)+((AV12^2.8)*AW12)+((AX12^2.8)*AY12)),IF(C12="keine Standardanwendung",(((AR12)*AS12)+((AT12)*AU12)+((AV12)*AW12)+((AX12)*AY12)),"Spalte C ausfüllen")),1) -> 1 | BA12: =IF(AQ12="Ja",0.98,1) -> 1 | BB12: =IF(AN12="","",(AN12/BA12)*AO12*AZ12) | BD12: =IF(AC12="","",IF(BB12="","",AC12-BB12)) | BE12: =IF(AD12="","",IF(BC12="","",AD12-BC12)) | BF12: =IF(BE12="","",IF(BE12>80%,"Stromeinsparung sehr hoch -> bitte überprüfen Sie die Angaben",""))
A13: 3 | K13: Direktantrieb | M13: =IF(L13="","",VLOOKUP(L13,Wirkungsgrade!$M$4:$R$5934,3,FALSE)/100) | N13: =IF(AND(G13="",J13=""),"",IF(G13="",((0.00272*H13*I13)/J13/IF(K13="Keilriemen",0.94,IF(K13="Flachriemen",0.97,1))/M13),G13/IF(K13="Keilriemen",0.94,IF(K13="Flachriemen",0.97,1))/M13)) | O13: =IF(L13="","",L13*0.8/M13) | S13: =IF(R13="Nein","-",100%) -> 1 | T13: =IF(R13="Nein","-",IF(R13="Ja","bitte eintragen","")) | U13: =IF(R13="Nein","-",75%) -> 0.75 | V13: =IF(R13="Nein","-",IF(R13="Ja","bitte eintragen","")) | W13: =IF(R13="Nein","-",50%) -> 0.5 | X13: =IF(R13="Nein","-",IF(R13="Ja","bitte eintragen","")) | Y13: =IF(R13="Nein","-",25%) -> 0.25 | Z13: =IF(R13="Nein","-",IF(R13="Ja","bitte eintragen","")) | AA13: =IF(R13="Ja",IF(C13="Standardanwendung",(((S13^2.8)*T13)+((U13^2.8)*V13)+((W13^2.8)*X13)+((Y13^2.8)*Z13)),IF(C13="keine Standardanwendung",(((S13)*T13)+((U13)*V13)+((W13)*X13)+((Y13)*Z13)),"Spalte C ausfüllen")),1) -> 1 | AB13: =IF(R13="Ja",0.95,1) -> 1 | AC13: =IF(M13="","",IF(N13="",((O13/AB13)*P13*AA13),((N13/AB13)*P13*AA13))) | AK13: Direktantrieb | AM13: =IF(AL13="","",VLOOKUP(AL13,Wirkungsgrade!$M$4:$R$5934,6,FALSE)/100) | AN13: =IF(AND(AG13="",AJ13=""),"",IF(AG13="",((0.00272*AH13*AI13)/AJ13/IF(AK13="Keilriemen",0.94,IF(AK13="Flachriemen",0.97,1))/AM13),AG13/IF(AK13="Keilriemen",0.94,IF(AK13="Flachriemen",0.97,1))/AM13)) | AO13: =IF(P13="","",P13) | AP13: =IF(P13=AO13,"-","") -> - | AR13: =IF(AQ13="Nein","-",100%) -> 1 | AS13: =IF(AQ13="Nein","-",IF(AQ13="Ja","bitte eintragen","")) | AT13: =IF(AQ13="Nein","-",75%) -> 0.75 | AU13: =IF(AQ13="Nein","-",IF(AQ13="Ja","bitte eintragen","")) | AV13: =IF(AQ13="Nein","-",50%) -> 0.5 | AW13: =IF(AQ13="Nein","-",IF(AQ13="Ja","bitte eintragen","")) | AX13: =IF(AQ13="Nein","-",25%) -> 0.25 | AY13: =IF(AQ13="Nein","-",IF(AQ13="Ja","bitte eintragen","")) | AZ13: =IF(AQ13="Ja",IF(C13="Standardanwendung",(((AR13^2.8)*AS13)+((AT13^2.8)*AU13)+((AV13^2.8)*AW13)+((AX13^2.8)*AY13)),IF(C13="keine Standardanwendung",(((AR13)*AS13)+((AT13)*AU13)+((AV13)*AW13)+((AX13)*AY13)),"Spalte C ausfüllen")),1) -> 1 | BA13: =IF(AQ13="Ja",0.98,1) -> 1 | BB13: =IF(AN13="","",(AN13/BA13)*AO13*AZ13) | BD13: =IF(AC13="","",IF(BB13="","",AC13-BB13)) | BE13: =IF(AD13="","",IF(BC13="","",AD13-BC13)) | BF13: =IF(BE13="","",IF(BE13>80%,"Stromeinsparung sehr hoch -> bitte überprüfen Sie die Angaben",""))
A14: 4 | K14: Direktantrieb | M14: =IF(L14="","",VLOOKUP(L14,Wirkungsgrade!$M$4:$R$5934,3,FALSE)/100) | N14: =IF(AND(G14="",J14=""),"",IF(G14="",((0.00272*H14*I14)/J14/IF(K14="Keilriemen",0.94,IF(K14="Flachriemen",0.97,1))/M14),G14/IF(K14="Keilriemen",0.94,IF(K14="Flachriemen",0.97,1))/M14)) | O14: =IF(L14="","",L14*0.8/M14) | S14: =IF(R14="Nein","-",100%) -> 1 | T14: =IF(R14="Nein","-",IF(R14="Ja","bitte eintragen","")) | U14: =IF(R14="Nein","-",75%) -> 0.75 | V14: =IF(R14="Nein","-",IF(R14="Ja","bitte eintragen","")) | W14: =IF(R14="Nein","-",50%) -> 0.5 | X14: =IF(R14="Nein","-",IF(R14="Ja","bitte eintragen","")) | Y14: =IF(R14="Nein","-",25%) -> 0.25 | Z14: =IF(R14="Nein","-",IF(R14="Ja","bitte eintragen","")) | AA14: =IF(R14="Ja",IF(C14="Standardanwendung",(((S14^2.8)*T14)+((U14^2.8)*V14)+((W14^2.8)*X14)+((Y14^2.8)*Z14)),IF(C14="keine Standardanwendung",(((S14)*T14)+((U14)*V14)+((W14)*X14)+((Y14)*Z14)),"Spalte C ausfüllen")),1) -> 1 | AB14: =IF(R14="Ja",0.95,1) -> 1 | AC14: =IF(M14="","",IF(N14="",((O14/AB14)*P14*AA14),((N14/AB14)*P14*AA14))) | AK14: Direktantrieb | AM14: =IF(AL14="","",VLOOKUP(AL14,Wirkungsgrade!$M$4:$R$5934,6,FALSE)/100) | AN14: =IF(AND(AG14="",AJ14=""),"",IF(AG14="",((0.00272*AH14*AI14)/AJ14/IF(AK14="Keilriemen",0.94,IF(AK14="Flachriemen",0.97,1))/AM14),AG14/IF(AK14="Keilriemen",0.94,IF(AK14="Flachriemen",0.97,1))/AM14)) | AO14: =IF(P14="","",P14) | AP14: =IF(P14=AO14,"-","") -> - | AR14: =IF(AQ14="Nein","-",100%) -> 1 | AS14: =IF(AQ14="Nein","-",IF(AQ14="Ja","bitte eintragen","")) | AT14: =IF(AQ14="Nein","-",75%) -> 0.75 | AU14: =IF(AQ14="Nein","-",IF(AQ14="Ja","bitte eintragen","")) | AV14: =IF(AQ14="Nein","-",50%) -> 0.5 | AW14: =IF(AQ14="Nein","-",IF(AQ14="Ja","bitte eintragen","")) | AX14: =IF(AQ14="Nein","-",25%) -> 0.25 | AY14: =IF(AQ14="Nein","-",IF(AQ14="Ja","bitte eintragen","")) | AZ14: =IF(AQ14="Ja",IF(C14="Standardanwendung",(((AR14^2.8)*AS14)+((AT14^2.8)*AU14)+((AV14^2.8)*AW14)+((AX14^2.8)*AY14)),IF(C14="keine Standardanwendung",(((AR14)*AS14)+((AT14)*AU14)+((AV14)*AW14)+((AX14)*AY14)),"Spalte C ausfüllen")),1) -> 1 | BA14: =IF(AQ14="Ja",0.98,1) -> 1 | BB14: =IF(AN14="","",(AN14/BA14)*AO14*AZ14) | BD14: =IF(AC14="","",IF(BB14="","",AC14-BB14)) | BE14: =IF(AD14="","",IF(BC14="","",AD14-BC14)) | BF14: =IF(BE14="","",IF(BE14>80%,"Stromeinsparung sehr hoch -> bitte überprüfen Sie die Angaben",""))
A15: 5 | K15: Direktantrieb | M15: =IF(L15="","",VLOOKUP(L15,Wirkungsgrade!$M$4:$R$5934,3,FALSE)/100) | N15: =IF(AND(G15="",J15=""),"",IF(G15="",((0.00272*H15*I15)/J15/IF(K15="Keilriemen",0.94,IF(K15="Flachriemen",0.97,1))/M15),G15/IF(K15="Keilriemen",0.94,IF(K15="Flachriemen",0.97,1))/M15)) | O15: =IF(L15="","",L15*0.8/M15) | S15: =IF(R15="Nein","-",100%) -> 1 | T15: =IF(R15="Nein","-",IF(R15="Ja","bitte eintragen","")) | U15: =IF(R15="Nein","-",75%) -> 0.75 | V15: =IF(R15="Nein","-",IF(R15="Ja","bitte eintragen","")) | W15: =IF(R15="Nein","-",50%) -> 0.5 | X15: =IF(R15="Nein","-",IF(R15="Ja","bitte eintragen","")) | Y15: =IF(R15="Nein","-",25%) -> 0.25 | Z15: =IF(R15="Nein","-",IF(R15="Ja","bitte eintragen","")) | AA15: =IF(R15="Ja",IF(C15="Standardanwendung",(((S15^2.8)*T15)+((U15^2.8)*V15)+((W15^2.8)*X15)+((Y15^2.8)*Z15)),IF(C15="keine Standardanwendung",(((S15)*T15)+((U15)*V15)+((W15)*X15)+((Y15)*Z15)),"Spalte C ausfüllen")),1) -> 1 | AB15: =IF(R15="Ja",0.95,1) -> 1 | AC15: =IF(M15="","",IF(N15="",((O15/AB15)*P15*AA15),((N15/AB15)*P15*AA15))) | AK15: Direktantrieb | AM15: =IF(AL15="","",VLOOKUP(AL15,Wirkungsgrade!$M$4:$R$5934,6,FALSE)/100) | AN15: =IF(AND(AG15="",AJ15=""),"",IF(AG15="",((0.00272*AH15*AI15)/AJ15/IF(AK15="Keilriemen",0.94,IF(AK15="Flachriemen",0.97,1))/AM15),AG15/IF(AK15="Keilriemen",0.94,IF(AK15="Flachriemen",0.97,1))/AM15)) | AO15: =IF(P15="","",P15) | AP15: =IF(P15=AO15,"-","") -> - | AR15: =IF(AQ15="Nein","-",100%) -> 1 | AS15: =IF(AQ15="Nein","-",IF(AQ15="Ja","bitte eintragen","")) | AT15: =IF(AQ15="Nein","-",75%) -> 0.75 | AU15: =IF(AQ15="Nein","-",IF(AQ15="Ja","bitte eintragen","")) | AV15: =IF(AQ15="Nein","-",50%) -> 0.5 | AW15: =IF(AQ15="Nein","-",IF(AQ15="Ja","bitte eintragen","")) | AX15: =IF(AQ15="Nein","-",25%) -> 0.25 | AY15: =IF(AQ15="Nein","-",IF(AQ15="Ja","bitte eintragen","")) | AZ15: =IF(AQ15="Ja",IF(C15="Standardanwendung",(((AR15^2.8)*AS15)+((AT15^2.8)*AU15)+((AV15^2.8)*AW15)+((AX15^2.8)*AY15)),IF(C15="keine Standardanwendung",(((AR15)*AS15)+((AT15)*AU15)+((AV15)*AW15)+((AX15)*AY15)),"Spalte C ausfüllen")),1) -> 1 | BA15: =IF(AQ15="Ja",0.98,1) -> 1 | BB15: =IF(AN15="","",(AN15/BA15)*AO15*AZ15) | BD15: =IF(AC15="","",IF(BB15="","",AC15-BB15)) | BE15: =IF(AD15="","",IF(BC15="","",AD15-BC15)) | BF15: =IF(BE15="","",IF(BE15>80%,"Stromeinsparung sehr hoch -> bitte überprüfen Sie die Angaben",""))
A16: 6 | K16: Direktantrieb | M16: =IF(L16="","",VLOOKUP(L16,Wirkungsgrade!$M$4:$R$5934,3,FALSE)/100) | N16: =IF(AND(G16="",J16=""),"",IF(G16="",((0.00272*H16*I16)/J16/IF(K16="Keilriemen",0.94,IF(K16="Flachriemen",0.97,1))/M16),G16/IF(K16="Keilriemen",0.94,IF(K16="Flachriemen",0.97,1))/M16)) | O16: =IF(L16="","",L16*0.8/M16) | S16: =IF(R16="Nein","-",100%) -> 1 | T16: =IF(R16="Nein","-",IF(R16="Ja","bitte eintragen","")) | U16: =IF(R16="Nein","-",75%) -> 0.75 | V16: =IF(R16="Nein","-",IF(R16="Ja","bitte eintragen","")) | W16: =IF(R16="Nein","-",50%) -> 0.5 | X16: =IF(R16="Nein","-",IF(R16="Ja","bitte eintragen","")) | Y16: =IF(R16="Nein","-",25%) -> 0.25 | Z16: =IF(R16="Nein","-",IF(R16="Ja","bitte eintragen","")) | AA16: =IF(R16="Ja",IF(C16="Standardanwendung",(((S16^2.8)*T16)+((U16^2.8)*V16)+((W16^2.8)*X16)+((Y16^2.8)*Z16)),IF(C16="keine Standardanwendung",(((S16)*T16)+((U16)*V16)+((W16)*X16)+((Y16)*Z16)),"Spalte C ausfüllen")),1) -> 1 | AB16: =IF(R16="Ja",0.95,1) -> 1 | AC16: =IF(M16="","",IF(N16="",((O16/AB16)*P16*AA16),((N16/AB16)*P16*AA16))) | AK16: Direktantrieb | AM16: =IF(AL16="","",VLOOKUP(AL16,Wirkungsgrade!$M$4:$R$5934,6,FALSE)/100) | AN16: =IF(AND(AG16="",AJ16=""),"",IF(AG16="",((0.00272*AH16*AI16)/AJ16/IF(AK16="Keilriemen",0.94,IF(AK16="Flachriemen",0.97,1))/AM16),AG16/IF(AK16="Keilriemen",0.94,IF(AK16="Flachriemen",0.97,1))/AM16)) | AO16: =IF(P16="","",P16) | AP16: =IF(P16=AO16,"-","") -> - | AR16: =IF(AQ16="Nein","-",100%) -> 1 | AS16: =IF(AQ16="Nein","-",IF(AQ16="Ja","bitte eintragen","")) | AT16: =IF(AQ16="Nein","-",75%) -> 0.75 | AU16: =IF(AQ16="Nein","-",IF(AQ16="Ja","bitte eintragen","")) | AV16: =IF(AQ16="Nein","-",50%) -> 0.5 | AW16: =IF(AQ16="Nein","-",IF(AQ16="Ja","bitte eintragen","")) | AX16: =IF(AQ16="Nein","-",25%) -> 0.25 | AY16: =IF(AQ16="Nein","-",IF(AQ16="Ja","bitte eintragen","")) | AZ16: =IF(AQ16="Ja",IF(C16="Standardanwendung",(((AR16^2.8)*AS16)+((AT16^2.8)*AU16)+((AV16^2.8)*AW16)+((AX16^2.8)*AY16)),IF(C16="keine Standardanwendung",(((AR16)*AS16)+((AT16)*AU16)+((AV16)*AW16)+((AX16)*AY16)),"Spalte C ausfüllen")),1) -> 1 | BA16: =IF(AQ16="Ja",0.98,1) -> 1 | BB16: =IF(AN16="","",(AN16/BA16)*AO16*AZ16) | BD16: =IF(AC16="","",IF(BB16="","",AC16-BB16)) | BE16: =IF(AD16="","",IF(BC16="","",AD16-BC16)) | BF16: =IF(BE16="","",IF(BE16>80%,"Stromeinsparung sehr hoch -> bitte überprüfen Sie die Angaben",""))
A17: 7 | K17: Direktantrieb | M17: =IF(L17="","",VLOOKUP(L17,Wirkungsgrade!$M$4:$R$5934,3,FALSE)/100) | N17: =IF(AND(G17="",J17=""),"",IF(G17="",((0.00272*H17*I17)/J17/IF(K17="Keilriemen",0.94,IF(K17="Flachriemen",0.97,1))/M17),G17/IF(K17="Keilriemen",0.94,IF(K17="Flachriemen",0.97,1))/M17)) | O17: =IF(L17="","",L17*0.8/M17) | S17: =IF(R17="Nein","-",100%) -> 1 | T17: =IF(R17="Nein","-",IF(R17="Ja","bitte eintragen","")) | U17: =IF(R17="Nein","-",75%) -> 0.75 | V17: =IF(R17="Nein","-",IF(R17="Ja","bitte eintragen","")) | W17: =IF(R17="Nein","-",50%) -> 0.5 | X17: =IF(R17="Nein","-",IF(R17="Ja","bitte eintragen","")) | Y17: =IF(R17="Nein","-",25%) -> 0.25 | Z17: =IF(R17="Nein","-",IF(R17="Ja","bitte eintragen","")) | AA17: =IF(R17="Ja",IF(C17="Standardanwendung",(((S17^2.8)*T17)+((U17^2.8)*V17)+((W17^2.8)*X17)+((Y17^2.8)*Z17)),IF(C17="keine Standardanwendung",(((S17)*T17)+((U17)*V17)+((W17)*X17)+((Y17)*Z17)),"Spalte C ausfüllen")),1) -> 1 | AB17: =IF(R17="Ja",0.95,1) -> 1 | AC17: =IF(M17="","",IF(N17="",((O17/AB17)*P17*AA17),((N17/AB17)*P17*AA17))) | AK17: Direktantrieb | AM17: =IF(AL17="","",VLOOKUP(AL17,Wirkungsgrade!$M$4:$R$5934,6,FALSE)/100) | AN17: =IF(AND(AG17="",AJ17=""),"",IF(AG17="",((0.00272*AH17*AI17)/AJ17/IF(AK17="Keilriemen",0.94,IF(AK17="Flachriemen",0.97,1))/AM17),AG17/IF(AK17="Keilriemen",0.94,IF(AK17="Flachriemen",0.97,1))/AM17)) | AO17: =IF(P17="","",P17) | AP17: =IF(P17=AO17,"-","") -> - | AR17: =IF(AQ17="Nein","-",100%) -> 1 | AS17: =IF(AQ17="Nein","-",IF(AQ17="Ja","bitte eintragen","")) | AT17: =IF(AQ17="Nein","-",75%) -> 0.75 | AU17: =IF(AQ17="Nein","-",IF(AQ17="Ja","bitte eintragen","")) | AV17: =IF(AQ17="Nein","-",50%) -> 0.5 | AW17: =IF(AQ17="Nein","-",IF(AQ17="Ja","bitte eintragen","")) | AX17: =IF(AQ17="Nein","-",25%) -> 0.25 | AY17: =IF(AQ17="Nein","-",IF(AQ17="Ja","bitte eintragen","")) | AZ17: =IF(AQ17="Ja",IF(C17="Standardanwendung",(((AR17^2.8)*AS17)+((AT17^2.8)*AU17)+((AV17^2.8)*AW17)+((AX17^2.8)*AY17)),IF(C17="keine Standardanwendung",(((AR17)*AS17)+((AT17)*AU17)+((AV17)*AW17)+((AX17)*AY17)),"Spalte C ausfüllen")),1) -> 1 | BA17: =IF(AQ17="Ja",0.98,1) -> 1 | BB17: =IF(AN17="","",(AN17/BA17)*AO17*AZ17) | BD17: =IF(AC17="","",IF(BB17="","",AC17-BB17)) | BE17: =IF(AD17="","",IF(BC17="","",AD17-BC17)) | BF17: =IF(BE17="","",IF(BE17>80%,"Stromeinsparung sehr hoch -> bitte überprüfen Sie die Angaben",""))
A18: 8 | K18: Direktantrieb | M18: =IF(L18="","",VLOOKUP(L18,Wirkungsgrade!$M$4:$R$5934,3,FALSE)/100) | N18: =IF(AND(G18="",J18=""),"",IF(G18="",((0.00272*H18*I18)/J18/IF(K18="Keilriemen",0.94,IF(K18="Flachriemen",0.97,1))/M18),G18/IF(K18="Keilriemen",0.94,IF(K18="Flachriemen",0.97,1))/M18)) | O18: =IF(L18="","",L18*0.8/M18) | S18: =IF(R18="Nein","-",100%) -> 1 | T18: =IF(R18="Nein","-",IF(R18="Ja","bitte eintragen","")) | U18: =IF(R18="Nein","-",75%) -> 0.75 | V18: =IF(R18="Nein","-",IF(R18="Ja","bitte eintragen","")) | W18: =IF(R18="Nein","-",50%) -> 0.5 | X18: =IF(R18="Nein","-",IF(R18="Ja","bitte eintragen","")) | Y18: =IF(R18="Nein","-",25%) -> 0.25 | Z18: =IF(R18="Nein","-",IF(R18="Ja","bitte eintragen","")) | AA18: =IF(R18="Ja",IF(C18="Standardanwendung",(((S18^2.8)*T18)+((U18^2.8)*V18)+((W18^2.8)*X18)+((Y18^2.8)*Z18)),IF(C18="keine Standardanwendung",(((S18)*T18)+((U18)*V18)+((W18)*X18)+((Y18)*Z18)),"Spalte C ausfüllen")),1) -> 1 | AB18: =IF(R18="Ja",0.95,1) -> 1 | AC18: =IF(M18="","",IF(N18="",((O18/AB18)*P18*AA18),((N18/AB18)*P18*AA18))) | AK18: Direktantrieb | AM18: =IF(AL18="","",VLOOKUP(AL18,Wirkungsgrade!$M$4:$R$5934,6,FALSE)/100) | AN18: =IF(AND(AG18="",AJ18=""),"",IF(AG18="",((0.00272*AH18*AI18)/AJ18/IF(AK18="Keilriemen",0.94,IF(AK18="Flachriemen",0.97,1))/AM18),AG18/IF(AK18="Keilriemen",0.94,IF(AK18="Flachriemen",0.97,1))/AM18)) | AO18: =IF(P18="","",P18) | AP18: =IF(P18=AO18,"-","") -> - | AR18: =IF(AQ18="Nein","-",100%) -> 1 | AS18: =IF(AQ18="Nein","-",IF(AQ18="Ja","bitte eintragen","")) | AT18: =IF(AQ18="Nein","-",75%) -> 0.75 | AU18: =IF(AQ18="Nein","-",IF(AQ18="Ja","bitte eintragen","")) | AV18: =IF(AQ18="Nein","-",50%) -> 0.5 | AW18: =IF(AQ18="Nein","-",IF(AQ18="Ja","bitte eintragen","")) | AX18: =IF(AQ18="Nein","-",25%) -> 0.25 | AY18: =IF(AQ18="Nein","-",IF(AQ18="Ja","bitte eintragen","")) | AZ18: =IF(AQ18="Ja",IF(C18="Standardanwendung",(((AR18^2.8)*AS18)+((AT18^2.8)*AU18)+((AV18^2.8)*AW18)+((AX18^2.8)*AY18)),IF(C18="keine Standardanwendung",(((AR18)*AS18)+((AT18)*AU18)+((AV18)*AW18)+((AX18)*AY18)),"Spalte C ausfüllen")),1) -> 1 | BA18: =IF(AQ18="Ja",0.98,1) -> 1 | BB18: =IF(AN18="","",(AN18/BA18)*AO18*AZ18) | BD18: =IF(AC18="","",IF(BB18="","",AC18-BB18)) | BE18: =IF(AD18="","",IF(BC18="","",AD18-BC18)) | BF18: =IF(BE18="","",IF(BE18>80%,"Stromeinsparung sehr hoch -> bitte überprüfen Sie die Angaben",""))
A19: 9 | K19: Direktantrieb | M19: =IF(L19="","",VLOOKUP(L19,Wirkungsgrade!$M$4:$R$5934,3,FALSE)/100) | N19: =IF(AND(G19="",J19=""),"",IF(G19="",((0.00272*H19*I19)/J19/IF(K19="Keilriemen",0.94,IF(K19="Flachriemen",0.97,1))/M19),G19/IF(K19="Keilriemen",0.94,IF(K19="Flachriemen",0.97,1))/M19)) | O19: =IF(L19="","",L19*0.8/M19) | S19: =IF(R19="Nein","-",100%) -> 1 | T19: =IF(R19="Nein","-",IF(R19="Ja","bitte eintragen","")) | U19: =IF(R19="Nein","-",75%) -> 0.75 | V19: =IF(R19="Nein","-",IF(R19="Ja","bitte eintragen","")) | W19: =IF(R19="Nein","-",50%) -> 0.5 | X19: =IF(R19="Nein","-",IF(R19="Ja","bitte eintragen","")) | Y19: =IF(R19="Nein","-",25%) -> 0.25 | Z19: =IF(R19="Nein","-",IF(R19="Ja","bitte eintragen","")) | AA19: =IF(R19="Ja",IF(C19="Standardanwendung",(((S19^2.8)*T19)+((U19^2.8)*V19)+((W19^2.8)*X19)+((Y19^2.8)*Z19)),IF(C19="keine Standardanwendung",(((S19)*T19)+((U19)*V19)+((W19)*X19)+((Y19)*Z19)),"Spalte C ausfüllen")),1) -> 1 | AB19: =IF(R19="Ja",0.95,1) -> 1 | AC19: =IF(M19="","",IF(N19="",((O19/AB19)*P19*AA19),((N19/AB19)*P19*AA19))) | AK19: Direktantrieb | AM19: =IF(AL19="","",VLOOKUP(AL19,Wirkungsgrade!$M$4:$R$5934,6,FALSE)/100) | AN19: =IF(AND(AG19="",AJ19=""),"",IF(AG19="",((0.00272*AH19*AI19)/AJ19/IF(AK19="Keilriemen",0.94,IF(AK19="Flachriemen",0.97,1))/AM19),AG19/IF(AK19="Keilriemen",0.94,IF(AK19="Flachriemen",0.97,1))/AM19)) | AO19: =IF(P19="","",P19) | AP19: =IF(P19=AO19,"-","") -> - | AR19: =IF(AQ19="Nein","-",100%) -> 1 | AS19: =IF(AQ19="Nein","-",IF(AQ19="Ja","bitte eintragen","")) | AT19: =IF(AQ19="Nein","-",75%) -> 0.75 | AU19: =IF(AQ19="Nein","-",IF(AQ19="Ja","bitte eintragen","")) | AV19: =IF(AQ19="Nein","-",50%) -> 0.5 | AW19: =IF(AQ19="Nein","-",IF(AQ19="Ja","bitte eintragen","")) | AX19: =IF(AQ19="Nein","-",25%) -> 0.25 | AY19: =IF(AQ19="Nein","-",IF(AQ19="Ja","bitte eintragen","")) | AZ19: =IF(AQ19="Ja",IF(C19="Standardanwendung",(((AR19^2.8)*AS19)+((AT19^2.8)*AU19)+((AV19^2.8)*AW19)+((AX19^2.8)*AY19)),IF(C19="keine Standardanwendung",(((AR19)*AS19)+((AT19)*AU19)+((AV19)*AW19)+((AX19)*AY19)),"Spalte C ausfüllen")),1) -> 1 | BA19: =IF(AQ19="Ja",0.98,1) -> 1 | BB19: =IF(AN19="","",(AN19/BA19)*AO19*AZ19) | BD19: =IF(AC19="","",IF(BB19="","",AC19-BB19)) | BE19: =IF(AD19="","",IF(BC19="","",AD19-BC19)) | BF19: =IF(BE19="","",IF(BE19>80%,"Stromeinsparung sehr hoch -> bitte überprüfen Sie die Angaben",""))
