Workbook
Name FU: Dropdowns!$D$25:$D$26
Name Transmission: Dropdowns!$C$25:$C$27
Name sonstige: sonstige!$C$4:$C$799
Name Pumpensystem: Dropdowns!$B$25:$B$26
Name Wilo: Wilo!$B$4:$B$702
Name KSB: KSB!$B$4:$B$736
Name Hersteller: Dropdowns!$A$25:$A$30
Name IMP: IMP!$B$4:$B$643
Name Biral: Biral!$B$4:$B$701
Name Grundfos: Grundfos!$B$4:$B$698

Sheet Förderrechner
B2: Förderprogramme
B3: Energie Zukunft Schweiz
B4: Aeschenplatz 6
B5: CH-4052 Basel
B6: Tel. +41 61 500 18 72
B7: stromeffizienz@energiezukunftschweiz.ch
B8: https://foerderplattform.ch/
B11: Förderrechner | J11: Diese Seite dient der Übersicht. Es müssen bloss die Investitionskosten eingetragen werden.
B14: Investitionskosten
B16: Stromrelevante Investitionskosten: | AD16: CHF
B18: Durchschnittlicher Stromtarif: | Y18: 15 | AD18: Rp/kWh
B21: Erwartete Stromeinsparung
B23: Stromverbrauch der bestehenden Anlage: | Y23: ='Nassläuferpumpen'!$I$61+'Trockenläuferpumpen'!$AC$61 -> 0 | AD23: kWh/Jahr
B25: Stromverbrauch der neuen energieeffizienten Anlage: | Y25: ='Nassläuferpumpen'!$X$61+'Trockenläuferpumpen'!$BB$61 -> 0 | AD25: kWh/Jahr
B27: Einsparung pro Jahr gegenüber bestehender Anlage: | Y27: =Y23-Y25 -> 0 | AD27: kWh/Jahr
B29: Anrechenbare Nutzungsdauer der neuen Anlagen: | Y29: 15 | AD29: Jahre
B31: Erwartete Stromeinsparung über Nutzungsdauer: | Y31: =Y27*Y29*0.75 -> 0 | AD31: kWh
B33: Paybackzeit und maximaler ProKilowatt-Förderbeitrag
B35: Max. Förderbeitrag ProKilowatt: | Y35: =Y16*0.2 -> 0 | AD35: CHF
B37: Förderbeitrag | Y37: =IF(Y43<4,"Payback zu tief",IF(Y31*0.02>Y35,Y35,Y31*0.02)) -> 0 | AD37: CHF
B39: Förderbeitrag Corona-Bonus (bei Umsetzung bis 31.12.2021) | Y39: =IF(Y35="Zu hohe Investitionssumme","Zu hohe Investitionssumme",IF(Y43<4,"Payback zu tief",0)) -> 0 | AD39: CHF
B41: Erwarteter Förderbeitrag | Y41: =IF(Y16>300000,"Investitionskosten zu hoch",IF(Y43<4,"Payback zu tief",IF(Y37>Y35,Y35,Y37))) -> 0 | AD41: CHF
B43: Payback ohne Fördermittel ProKilowatt: | Y43: =IFERROR(Y16/(Y18*Y27/100),"-") -> - | AD43: Jahr(e)
B45: Förderanteil in % der Investitionskosten | Y45: =IFERROR(Y41/Y16,"-") -> -
B47: Kostenwirksamkeit des Förderbeitrags | Y47: =IFERROR(IF(Y41=0,"",(Y41/Y31)*100),"-") | AD47: Rp/kWh

Sheet Nassläuferpumpen
A2: grün hinterlegte Zellen bitte ausfüllen | I2: bitte über + (siehe oben) aufklappen und Angaben eintragen | X2: Standard-Betriebszeit und -Lastprofil dürfen unter + (siehe oben) OPTIONAL angepasst werden.
A6: Berechnung Ersatz Nassläuferpumpen | G6: Standard (5400 h/Jahr für Heizungspumpen) kann überschrieben werden
A7: Anlage | D7: Situation vor der Umsetzung | K7: Situation nach der Umsetzung | Z7: Stromeinsparung
A8: Nr. | B8: Pumpenbezeichnung | D8: Hersteller | E8: Typ | F8: Maximale Leistungsaufnahme der eingestellten Stufe (P1) | G8: Betriebszeit | H8: Erklärung zur Betriebszeit | I8: Stromverbrauch | K8: Hersteller | L8: Typ | M8: anrechenbare Leistungsaufnahme | N8: Betriebszeit | O8: Erklärung zur Betriebszeit | P8: Lastprofil für Pumpen mit einer maximalen Förderhöhe > 10 m | X8: Stromverbrauch
F9: W | G9: h/Jahr | H9: nur notwendig, falls von Standard (5400 h/Jahr) abweichend | I9: kWh/Jahr | K9: bitte auswählen | L9: bitte auswählen | M9: W | N9: h/Jahr | O9: nur notwendig, falls von Betriebszeit vor der Umsetzung abweichend | P9: % Volumenstrom | Q9: % Betriebsstunden | R9: % Volumenstrom | S9: % Betriebsstunden | T9: % Volumenstrom | U9: % Betriebsstunden | V9: % Volumenstrom | W9: % Betriebsstunden | X9: kWh/Jahr | Z9: kWh/Jahr | AA9: %
A10: Beispiel | B10: Heizung R01 | D10: Grundfos | E10: UPS 25-40 | F10: 125 | G10: 5400 | H10: Standard für Heizungspumpe | I10: =(F10/1000)*G10 -> 675 | K10: Wilo | L10: Stratos 25/1-6 | M10: =IF(K10="","",IF(K10="Biral",IF(VLOOKUP(L10,Biral!B4:O62,5,FALSE)>10,VLOOKUP(L10,Biral!B4:O62,6,FALSE),VLOOKUP(L10,Biral!B4:O62,11,FALSE)),IF(K10="Grundfos",IF(VLOOKUP(L10,Grundfos!B4:O59,5,FALSE)>10,VLOOKUP(L10,Grundfos!B4:O59,6,FALSE),VLOOKUP(L10,Grundfos!B4:O59,11,FALSE)),IF(K10="IMP",IF(VLOOKUP(L10,IMP!B4:O31,5,FALSE)>10,VLOOKUP(L10,IMP!B4:O31,6,FALSE),VLOOKUP(L10,IMP!B4:O31,11,FALSE)),IF(K10="KSB",IF(VLOOKUP(L10,KSB!B4:O97,5,FALSE)>10,VLOOKUP(L10,KSB!B4:O97,6,FALSE),VLOOKUP(L10,KSB!B4:O97,11,FALSE)),IF(K10="Wilo",IF(VLOOKUP(L10,Wilo!B4:O63,5,FALSE)>10,VLOOKUP(L10,Wilo!B4:O63,6,FALSE),VLOOKUP(L10,Wilo!B4:O63,11,FALSE)),IF(K10="sonstige",IF(VLOOKUP(L10,sonstige!B4:O160,5,FALSE)>10,VLOOKUP(L10,sonstige!B4:O160,6,FALSE),VLOOKUP(L10,sonstige!B4:O160,11,FALSE))))))))) -> #N/A | N10: 5400 | P10: Standardprofil -> Vorgegebenes Profil kann übernommen oder bei bekannter Lastverteilung auch angepasst werden. | X10: =IF(M10="","",(M10/1000)*N10*IF(K10="Biral",IF(VLOOKUP(L10,Biral!$B$4:$L$137,5,FALSE)>10,(X63),1),(IF(K10="Grundfos",IF(VLOOKUP(L10,Grundfos!$B$4:$L$106,5,FALSE)>10,(X63),1),(IF(K10="IMP",IF(VLOOKUP(L10,IMP!$B$4:$L$56,5,FALSE)>10,(X63),1),(IF(K10="KSB",IF(VLOOKUP(L10,KSB!$B$4:$L$137,5,FALSE)>10,(X63),1),(IF(K10="Wilo",IF(VLOOKUP(L10,Wilo!$B$4:$L$109,5,FALSE)>10,(X63),1),(IF(K10="sonstige",IF(VLOOKUP(L10,sonstige!$B$4:$L$200,5,FALSE)>10,(X63),1),1)))))))))))) -> #N/A | Z10: =IF(I10="","",IF(X10="","",I10-X10)) -> #N/A | AA10: =IF(Z10="","",Z10/I10) -> #N/A
A11: 1 | G11: 5400 | I11: =IF(F11="","",(F11/1000)*G11) | M11: =IF(K11="","",IF(K11="Biral",IF(VLOOKUP(L11,Biral!$B$4:$L$137,5,FALSE)>10,VLOOKUP(L11,Biral!$B$4:$L$137,6,FALSE),VLOOKUP(L11,Biral!$B$4:$L$137,11,FALSE)),IF(K11="Grundfos",IF(VLOOKUP(L11,Grundfos!$B$4:$L$106,5,FALSE)>10,VLOOKUP(L11,Grundfos!$B$4:$L$106,6,FALSE),VLOOKUP(L11,Grundfos!$B$4:$L$106,11,FALSE)),IF(K11="IMP",IF(VLOOKUP(L11,IMP!$B$4:$L$56,5,FALSE)>10,VLOOKUP(L11,IMP!$B$4:$L$56,6,FALSE),VLOOKUP(L11,IMP!$B$4:$L$56,11,FALSE)),IF(K11="KSB",IF(VLOOKUP(L11,KSB!$B$4:$L$137,5,FALSE)>10,VLOOKUP(L11,KSB!$B$4:$L$137,6,FALSE),VLOOKUP(L11,KSB!$B$4:$L$137,11,FALSE)),IF(K11="Wilo",IF(VLOOKUP(L11,Wilo!$B$4:$L$109,5,FALSE)>10,VLOOKUP(L11,Wilo!$B$4:$L$109,6,FALSE),VLOOKUP(L11,Wilo!$B$4:$L$109,11,FALSE)),IF(K11="sonstige",IF(VLOOKUP(L11,sonstige!$B$4:$L$200,5,FALSE)>10,VLOOKUP(L11,sonstige!$B$4:$L$200,6,FALSE),VLOOKUP(L11,sonstige!$B$4:$L$200,11,FALSE))))))))) | N11: =IF(G11="","",G11) -> 5400 | O11: =IF(G11=N11,"-","") -> - | P11: 1 | Q11: 0.4 | R11: 0.75 | S11: 0.4 | T11: 0.5 | U11: 0.1 | V11: 0.25 | W11: 0.1 | X11: =IF(M11="","",(M11/1000)*N11*IF(K11="Biral",IF(VLOOKUP(L11,Biral!$B$4:$L$137,5,FALSE)>10,(((P11^2.8)*Q11)+((R11^2.8)*S11)+((T11^2.8)*U11)+((V11^2.8)*W11)),1),(IF(K11="Grundfos",IF(VLOOKUP(L11,Grundfos!$B$4:$L$106,5,FALSE)>10,(((P11^2.8)*Q11)+((R11^2.8)*S11)+((T11^2.8)*U11)+((V11^2.8)*W11)),1),(IF(K11="IMP",IF(VLOOKUP(L11,IMP!$B$4:$L$56,5,FALSE)>10,(((P11^2.8)*Q11)+((R11^2.8)*S11)+((T11^2.8)*U11)+((V11^2.8)*W11)),1),(IF(K11="KSB",IF(VLOOKUP(L11,KSB!$B$4:$L$137,5,FALSE)>10,(((P11^2.8)*Q11)+((R11^2.8)*S11)+((T11^2.8)*U11)+((V11^2.8)*W11)),1),(IF(K11="Wilo",IF(VLOOKUP(L11,Wilo!$B$4:$L$109,5,FALSE)>10,(((P11^2.8)*Q11)+((R11^2.8)*S11)+((T11^2.8)*U11)+((V11^2.8)*W11)),1),(IF(K11="sonstige",IF(VLOOKUP(L11,sonstige!$B$4:$L$200,5,FALSE)>10,(((P11^2.8)*Q11)+((R11^2.8)*S11)+((T11^2.8)*U11)+((V11^2.8)*W11)),1),1)))))))))))) | Z11: =IF(I11="","",IF(X11="","",I11-X11)) | AA11: =IF(Z11="","",Z11/I11) | AB11: =IF(AA11="","",IF(AA11>80%,"Stromeinsparung sehr hoch -> bitte überprüfen Sie die Angaben",""))
A12: 2 | G12: 5400 | I12: =IF(F12="","",(F12/1000)*G12) | M12: =IF(K12="","",IF(K12="Biral",IF(VLOOKUP(L12,Biral!$B$4:$L$137,5,FALSE)>10,VLOOKUP(L12,Biral!$B$4:$L$137,6,FALSE),VLOOKUP(L12,Biral!$B$4:$L$137,11,FALSE)),IF(K12="Grundfos",IF(VLOOKUP(L12,Grundfos!$B$4:$L$106,5,FALSE)>10,VLOOKUP(L12,Grundfos!$B$4:$L$106,6,FALSE),VLOOKUP(L12,Grundfos!$B$4:$L$106,11,FALSE)),IF(K12="IMP",IF(VLOOKUP(L12,IMP!$B$4:$L$56,5,FALSE)>10,VLOOKUP(L12,IMP!$B$4:$L$56,6,FALSE),VLOOKUP(L12,IMP!$B$4:$L$56,11,FALSE)),IF(K12="KSB",IF(VLOOKUP(L12,KSB!$B$4:$L$137,5,FALSE)>10,VLOOKUP(L12,KSB!$B$4:$L$137,6,FALSE),VLOOKUP(L12,KSB!$B$4:$L$137,11,FALSE)),IF(K12="Wilo",IF(VLOOKUP(L12,Wilo!$B$4:$L$109,5,FALSE)>10,VLOOKUP(L12,Wilo!$B$4:$L$109,6,FALSE),VLOOKUP(L12,Wilo!$B$4:$L$109,11,FALSE)),IF(K12="sonstige",IF(VLOOKUP(L12,sonstige!$B$4:$L$200,5,FALSE)>10,VLOOKUP(L12,sonstige!$B$4:$L$200,6,FALSE),VLOOKUP(L12,sonstige!$B$4:$L$200,11,FALSE))))))))) | N12: =IF(G12="","",G12) -> 5400 | O12: =IF(G12=N12,"-","") -> - | P12: 1 | Q12: 0.4 | R12: 0.75 | S12: 0.4 | T12: 0.5 | U12: 0.1 | V12: 0.25 | W12: 0.1 | X12: =IF(M12="","",(M12/1000)*N12*IF(K12="Biral",IF(VLOOKUP(L12,Biral!$B$4:$L$137,5,FALSE)>10,(((P12^2.8)*Q12)+((R12^2.8)*S12)+((T12^2.8)*U12)+((V12^2.8)*W12)),1),(IF(K12="Grundfos",IF(VLOOKUP(L12,Grundfos!$B$4:$L$106,5,FALSE)>10,(((P12^2.8)*Q12)+((R12^2.8)*S12)+((T12^2.8)*U12)+((V12^2.8)*W12)),1),(IF(K12="IMP",IF(VLOOKUP(L12,IMP!$B$4:$L$56,5,FALSE)>10,(((P12^2.8)*Q12)+((R12^2.8)*S12)+((T12^2.8)*U12)+((V12^2.8)*W12)),1),(IF(K12="KSB",IF(VLOOKUP(L12,KSB!$B$4:$L$137,5,FALSE)>10,(((P12^2.8)*Q12)+((R12^2.8)*S12)+((T12^2.8)*U12)+((V12^2.8)*W12)),1),(IF(K12="Wilo",IF(VLOOKUP(L12,Wilo!$B$4:$L$109,5,FALSE)>10,(((P12^2.8)*Q12)+((R12^2.8)*S12)+((T12^2.8)*U12)+((V12^2.8)*W12)),1),(IF(K12="sonstige",IF(VLOOKUP(L12,sonstige!$B$4:$L$200,5,FALSE)>10,(((P12^2.8)*Q12)+((R12^2.8)*S12)+((T12^2.8)*U12)+((V12^2.8)*W12)),1),1)))))))))))) | Z12: =IF(I12="","",IF(X12="","",I12-X12)) | AA12: =IF(Z12="","",Z12/I12) | AB12: =IF(AA12="","",IF(AA12>80%,"Stromeinsparung sehr hoch -> bitte überprüfen Sie die Angaben",""))
A13: 3 | G13: 5400 | I13: =IF(F13="","",(F13/1000)*G13) | M13: =IF(K13="","",IF(K13="Biral",IF(VLOOKUP(L13,Biral!$B$4:$L$137,5,FALSE)>10,VLOOKUP(L13,Biral!$B$4:$L$137,6,FALSE),VLOOKUP(L13,Biral!$B$4:$L$137,11,FALSE)),IF(K13="Grundfos",IF(VLOOKUP(L13,Grundfos!$B$4:$L$106,5,FALSE)>10,VLOOKUP(L13,Grundfos!$B$4:$L$106,6,FALSE),VLOOKUP(L13,Grundfos!$B$4:$L$106,11,FALSE)),IF(K13="IMP",IF(VLOOKUP(L13,IMP!$B$4:$L$56,5,FALSE)>10,VLOOKUP(L13,IMP!$B$4:$L$56,6,FALSE),VLOOKUP(L13,IMP!$B$4:$L$56,11,FALSE)),IF(K13="KSB",IF(VLOOKUP(L13,KSB!$B$4:$L$137,5,FALSE)>10,VLOOKUP(L13,KSB!$B$4:$L$137,6,FALSE),VLOOKUP(L13,KSB!$B$4:$L$137,11,FALSE)),IF(K13="Wilo",IF(VLOOKUP(L13,Wilo!$B$4:$L$109,5,FALSE)>10,VLOOKUP(L13,Wilo!$B$4:$L$109,6,FALSE),VLOOKUP(L13,Wilo!$B$4:$L$109,11,FALSE)),IF(K13="sonstige",IF(VLOOKUP(L13,sonstige!$B$4:$L$200,5,FALSE)>10,VLOOKUP(L13,sonstige!$B$4:$L$200,6,FALSE),VLOOKUP(L13,sonstige!$B$4:$L$200,11,FALSE))))))))) | N13: =IF(G13="","",G13) -> 5400 | O13: =IF(G13=N13,"-","") -> - | P13: 1 | Q13: 0.4 | R13: 0.75 | S13: 0.4 | T13: 0.5 | U13: 0.1 | V13: 0.25 | W13: 0.1 | X13: =IF(M13="","",(M13/1000)*N13*IF(K13="Biral",IF(VLOOKUP(L13,Biral!$B$4:$L$137,5,FALSE)>10,(((P13^2.8)*Q13)+((R13^2.8)*S13)+((T13^2.8)*U13)+((V13^2.8)*W13)),1),(IF(K13="Grundfos",IF(VLOOKUP(L13,Grundfos!$B$4:$L$106,5,FALSE)>10,(((P13^2.8)*Q13)+((R13^2.8)*S13)+((T13^2.8)*U13)+((V13^2.8)*W13)),1),(IF(K13="IMP",IF(VLOOKUP(L13,IMP!$B$4:$L$56,5,FALSE)>10,(((P13^2.8)*Q13)+((R13^2.8)*S13)+((T13^2.8)*U13)+((V13^2.8)*W13)),1),(IF(K13="KSB",IF(VLOOKUP(L13,KSB!$B$4:$L$137,5,FALSE)>10,(((P13^2.8)*Q13)+((R13^2.8)*S13)+((T13^2.8)*U13)+((V13^2.8)*W13)),1),(IF(K13="Wilo",IF(VLOOKUP(L13,Wilo!$B$4:$L$109,5,FALSE)>10,(((P13^2.8)*Q13)+((R13^2.8)*S13)+((T13^2.8)*U13)+((V13^2.8)*W13)),1),(IF(K13="sonstige",IF(VLOOKUP(L13,sonstige!$B$4:$L$200,5,FALSE)>10,(((P13^2.8)*Q13)+((R13^2.8)*S13)+((T13^2.8)*U13)+((V13^2.8)*W13)),1),1)))))))))))) | Z13: =IF(I13="","",IF(X13="","",I13-X13)) | AA13: =IF(Z13="","",Z13/I13) | AB13: =IF(AA13="","",IF(AA13>80%,"Stromeinsparung sehr hoch -> bitte überprüfen Sie die Angaben",""))
A14: 4 | G14: 5400 | I14: =IF(F14="","",(F14/1000)*G14) | M14: =IF(K14="","",IF(K14="Biral",IF(VLOOKUP(L14,Biral!$B$4:$L$137,5,FALSE)>10,VLOOKUP(L14,Biral!$B$4:$L$137,6,FALSE),VLOOKUP(L14,Biral!$B$4:$L$137,11,FALSE)),IF(K14="Grundfos",IF(VLOOKUP(L14,Grundfos!$B$4:$L$106,5,FALSE)>10,VLOOKUP(L14,Grundfos!$B$4:$L$106,6,FALSE),VLOOKUP(L14,Grundfos!$B$4:$L$106,11,FALSE)),IF(K14="IMP",IF(VLOOKUP(L14,IMP!$B$4:$L$56,5,FALSE)>10,VLOOKUP(L14,IMP!$B$4:$L$56,6,FALSE),VLOOKUP(L14,IMP!$B$4:$L$56,11,FALSE)),IF(K14="KSB",IF(VLOOKUP(L14,KSB!$B$4:$L$137,5,FALSE)>10,VLOOKUP(L14,KSB!$B$4:$L$137,6,FALSE),VLOOKUP(L14,KSB!$B$4:$L$137,11,FALSE)),IF(K14="Wilo",IF(VLOOKUP(L14,Wilo!$B$4:$L$109,5,FALSE)>10,VLOOKUP(L14,Wilo!$B$4:$L$109,6,FALSE),VLOOKUP(L14,Wilo!$B$4:$L$109,11,FALSE)),IF(K14="sonstige",IF(VLOOKUP(L14,sonstige!$B$4:$L$200,5,FALSE)>10,VLOOKUP(L14,sonstige!$B$4:$L$200,6,FALSE),VLOOKUP(L14,sonstige!$B$4:$L$200,11,FALSE))))))))) | N14: =IF(G14="","",G14) -> 5400 | O14: =IF(G14=N14,"-","") -> - | P14: 1 | Q14: 0.4 | R14: 0.75 | S14: 0.4 | T14: 0.5 | U14: 0.1 | V14: 0.25 | W14: 0.1 | X14: =IF(M14="","",(M14/1000)*N14*IF(K14="Biral",IF(VLOOKUP(L14,Biral!$B$4:$L$137,5,FALSE)>10,(((P14^2.8)*Q14)+((R14^2.8)*S14)+((T14^2.8)*U14)+((V14^2.8)*W14)),1),(IF(K14="Grundfos",IF(VLOOKUP(L14,Grundfos!$B$4:$L$106,5,FALSE)>10,(((P14^2.8)*Q14)+((R14^2.8)*S14)+((T14^2.8)*U14)+((V14^2.8)*W14)),1),(IF(K14="IMP",IF(VLOOKUP(L14,IMP!$B$4:$L$56,5,FALSE)>10,(((P14^2.8)*Q14)+((R14^2.8)*S14)+((T14^2.8)*U14)+((V14^2.8)*W14)),1),(IF(K14="KSB",IF(VLOOKUP(L14,KSB!$B$4:$L$137,5,FALSE)>10,(((P14^2.8)*Q14)+((R14^2.8)*S14)+((T14^2.8)*U14)+((V14^2.8)*W14)),1),(IF(K14="Wilo",IF(VLOOKUP(L14,Wilo!$B$4:$L$109,5,FALSE)>10,(((P14^2.8)*Q14)+((R14^2.8)*S14)+((T14^2.8)*U14)+((V14^2.8)*W14)),1),(IF(K14="sonstige",IF(VLOOKUP(L14,sonstige!$B$4:$L$200,5,FALSE)>10,(((P14^2.8)*Q14)+((R14^2.8)*S14)+((T14^2.8)*U14)+((V14^2.8)*W14)),1),1)))))))))))) | Z14: =IF(I14="","",IF(X14="","",I14-X14)) | AA14: =IF(Z14="","",Z14/I14) | AB14: =IF(AA14="","",IF(AA14>80%,"Stromeinsparung sehr hoch -> bitte überprüfen Sie die Angaben",""))
A15: 5 | G15: 5400 | I15: =IF(F15="","",(F15/1000)*G15) | M15: =IF(K15="","",IF(K15="Biral",IF(VLOOKUP(L15,Biral!$B$4:$L$137,5,FALSE)>10,VLOOKUP(L15,Biral!$B$4:$L$137,6,FALSE),VLOOKUP(L15,Biral!$B$4:$L$137,11,FALSE)),IF(K15="Grundfos",IF(VLOOKUP(L15,Grundfos!$B$4:$L$106,5,FALSE)>10,VLOOKUP(L15,Grundfos!$B$4:$L$106,6,FALSE),VLOOKUP(L15,Grundfos!$B$4:$L$106,11,FALSE)),IF(K15="IMP",IF(VLOOKUP(L15,IMP!$B$4:$L$56,5,FALSE)>10,VLOOKUP(L15,IMP!$B$4:$L$56,6,FALSE),VLOOKUP(L15,IMP!$B$4:$L$56,11,FALSE)),IF(K15="KSB",IF(VLOOKUP(L15,KSB!$B$4:$L$137,5,FALSE)>10,VLOOKUP(L15,KSB!$B$4:$L$137,6,FALSE),VLOOKUP(L15,KSB!$B$4:$L$137,11,FALSE)),IF(K15="Wilo",IF(VLOOKUP(L15,Wilo!$B$4:$L$109,5,FALSE)>10,VLOOKUP(L15,Wilo!$B$4:$L$109,6,FALSE),VLOOKUP(L15,Wilo!$B$4:$L$109,11,FALSE)),IF(K15="sonstige",IF(VLOOKUP(L15,sonstige!$B$4:$L$200,5,FALSE)>10,VLOOKUP(L15,sonstige!$B$4:$L$200,6,FALSE),VLOOKUP(L15,sonstige!$B$4:$L$200,11,FALSE))))))))) | N15: =IF(G15="","",G15) -> 5400 | O15: =IF(G15=N15,"-","") -> - | P15: 1 | Q15: 0.4 | R15: 0.75 | S15: 0.4 | T15: 0.5 | U15: 0.1 | V15: 0.25 | W15: 0.1 | X15: =IF(M15="","",(M15/1000)*N15*IF(K15="Biral",IF(VLOOKUP(L15,Biral!$B$4:$L$137,5,FALSE)>10,(((P15^2.8)*Q15)+((R15^2.8)*S15)+((T15^2.8)*U15)+((V15^2.8)*W15)),1),(IF(K15="Grundfos",IF(VLOOKUP(L15,Grundfos!$B$4:$L$106,5,FALSE)>10,(((P15^2.8)*Q15)+((R15^2.8)*S15)+((T15^2.8)*U15)+((V15^2.8)*W15)),1),(IF(K15="IMP",IF(VLOOKUP(L15,IMP!$B$4:$L$56,5,FALSE)>10,(((P15^2.8)*Q15)+((R15^2.8)*S15)+((T15^2.8)*U15)+((V15^2.8)*W15)),1),(IF(K15="KSB",IF(VLOOKUP(L15,KSB!$B$4:$L$137,5,FALSE)>10,(((P15^2.8)*Q15)+((R15^2.8)*S15)+((T15^2.8)*U15)+((V15^2.8)*W15)),1),(IF(K15="Wilo",IF(VLOOKUP(L15,Wilo!$B$4:$L$109,5,FALSE)>10,(((P15^2.8)*Q15)+((R15^2.8)*S15)+((T15^2.8)*U15)+((V15^2.8)*W15)),1),(IF(K15="sonstige",IF(VLOOKUP(L15,sonstige!$B$4:$L$200,5,FALSE)>10,(((P15^2.8)*Q15)+((R15^2.8)*S15)+((T15^2.8)*U15)+((V15^2.8)*W15)),1),1)))))))))))) | Z15: =IF(I15="","",IF(X15="","",I15-X15)) | AA15: =IF(Z15="","",Z15/I15) | AB15: =IF(AA15="","",IF(AA15>80%,"Stromeinsparung sehr hoch -> bitte überprüfen Sie die Angaben",""))
A16: 6 | G16: 5400 | I16: =IF(F16="","",(F16/1000)*G16) | M16: =IF(K16="","",IF(K16="Biral",IF(VLOOKUP(L16,Biral!$B$4:$L$137,5,FALSE)>10,VLOOKUP(L16,Biral!$B$4:$L$137,6,FALSE),VLOOKUP(L16,Biral!$B$4:$L$137,11,FALSE)),IF(K16="Grundfos",IF(VLOOKUP(L16,Grundfos!$B$4:$L$106,5,FALSE)>10,VLOOKUP(L16,Grundfos!$B$4:$L$106,6,FALSE),VLOOKUP(L16,Grundfos!$B$4:$L$106,11,FALSE)),IF(K16="IMP",IF(VLOOKUP(L16,IMP!$B$4:$L$56,5,FALSE)>10,VLOOKUP(L16,IMP!$B$4:$L$56,6,FALSE),VLOOKUP(L16,IMP!$B$4:$L$56,11,FALSE)),IF(K16="KSB",IF(VLOOKUP(L16,KSB!$B$4:$L$137,5,FALSE)>10,VLOOKUP(L16,KSB!$B$4:$L$137,6,FALSE),VLOOKUP(L16,KSB!$B$4:$L$137,11,FALSE)),IF(K16="Wilo",IF(VLOOKUP(L16,Wilo!$B$4:$L$109,5,FALSE)>10,VLOOKUP(L16,Wilo!$B$4:$L$109,6,FALSE),VLOOKUP(L16,Wilo!$B$4:$L$109,11,FALSE)),IF(K16="sonstige",IF(VLOOKUP(L16,sonstige!$B$4:$L$200,5,FALSE)>10,VLOOKUP(L16,sonstige!$B$4:$L$200,6,FALSE),VLOOKUP(L16,sonstige!$B$4:$L$200,11,FALSE))))))))) | N16: =IF(G16="","",G16) -> 5400 | O16: =IF(G16=N16,"-","") -> - | P16: 1 | Q16: 0.4 | R16: 0.75 | S16: 0.4 | T16: 0.5 | U16: 0.1 | V16: 0.25 | W16: 0.1 | X16: =IF(M16="","",(M16/1000)*N16*IF(K16="Biral",IF(VLOOKUP(L16,Biral!$B$4:$L$137,5,FALSE)>10,(((P16^2.8)*Q16)+((R16^2.8)*S16)+((T16^2.8)*U16)+((V16^2.8)*W16)),1),(IF(K16="Grundfos",IF(VLOOKUP(L16,Grundfos!$B$4:$L$106,5,FALSE)>10,(((P16^2.8)*Q16)+((R16^2.8)*S16)+((T16^2.8)*U16)+((V16^2.8)*W16)),1),(IF(K16="IMP",IF(VLOOKUP(L16,IMP!$B$4:$L$56,5,FALSE)>10,(((P16^2.8)*Q16)+((R16^2.8)*S16)+((T16^2.8)*U16)+((V16^2.8)*W16)),1),(IF(K16="KSB",IF(VLOOKUP(L16,KSB!$B$4:$L$137,5,FALSE)>10,(((P16^2.8)*Q16)+((R16^2.8)*S16)+((T16^2.8)*U16)+((V16^2.8)*W16)),1),(IF(K16="Wilo",IF(VLOOKUP(L16,Wilo!$B$4:$L$109,5,FALSE)>10,(((P16^2.8)*Q16)+((R16^2.8)*S16)+((T16^2.8)*U16)+((V16^2.8)*W16)),1),(IF(K16="sonstige",IF(VLOOKUP(L16,sonstige!$B$4:$L$200,5,FALSE)>10,(((P16^2.8)*Q16)+((R16^2.8)*S16)+((T16^2.8)*U16)+((V16^2.8)*W16)),1),1)))))))))))) | Z16: =IF(I16="","",IF(X16="","",I16-X16)) | AA16: =IF(Z16="","",Z16/I16) | AB16: =IF(AA16="","",IF(AA16>80%,"Stromeinsparung sehr hoch -> bitte überprüfen Sie die Angaben",""))
A17: 7 | G17: 5400 | I17: =IF(F17="","",(F17/1000)*G17) | M17: =IF(K17="","",IF(K17="Biral",IF(VLOOKUP(L17,Biral!$B$4:$L$137,5,FALSE)>10,VLOOKUP(L17,Biral!$B$4:$L$137,6,FALSE),VLOOKUP(L17,Biral!$B$4:$L$137,11,FALSE)),IF(K17="Grundfos",IF(VLOOKUP(L17,Grundfos!$B$4:$L$106,5,FALSE)>10,VLOOKUP(L17,Grundfos!$B$4:$L$106,6,FALSE),VLOOKUP(L17,Grundfos!$B$4:$L$106,11,FALSE)),IF(K17="IMP",IF(VLOOKUP(L17,IMP!$B$4:$L$56,5,FALSE)>10,VLOOKUP(L17,IMP!$B$4:$L$56,6,FALSE),VLOOKUP(L17,IMP!$B$4:$L$56,11,FALSE)),IF(K17="KSB",IF(VLOOKUP(L17,KSB!$B$4:$L$137,5,FALSE)>10,VLOOKUP(L17,KSB!$B$4:$L$137,6,FALSE),VLOOKUP(L17,KSB!$B$4:$L$137,11,FALSE)),IF(K17="Wilo",IF(VLOOKUP(L17,Wilo!$B$4:$L$109,5,FALSE)>10,VLOOKUP(L17,Wilo!$B$4:$L$109,6,FALSE),VLOOKUP(L17,Wilo!$B$4:$L$109,11,FALSE)),IF(K17="sonstige",IF(VLOOKUP(L17,sonstige!$B$4:$L$200,5,FALSE)>10,VLOOKUP(L17,sonstige!$B$4:$L$200,6,FALSE),VLOOKUP(L17,sonstige!$B$4:$L$200,11,FALSE))))))))) | N17: =IF(G17="","",G17) -> 5400 | O17: =IF(G17=N17,"-","") -> - | P17: 1 | Q17: 0.4 | R17: 0.75 | S17: 0.4 | T17: 0.5 | U17: 0.1 | V17: 0.25 | W17: 0.1 | X17: =IF(M17="","",(M17/1000)*N17*IF(K17="Biral",IF(VLOOKUP(L17,Biral!$B$4:$L$137,5,FALSE)>10,(((P17^2.8)*Q17)+((R17^2.8)*S17)+((T17^2.8)*U17)+((V17^2.8)*W17)),1),(IF(K17="Grundfos",IF(VLOOKUP(L17,Grundfos!$B$4:$L$106,5,FALSE)>10,(((P17^2.8)*Q17)+((R17^2.8)*S17)+((T17^2.8)*U17)+((V17^2.8)*W17)),1),(IF(K17="IMP",IF(VLOOKUP(L17,IMP!$B$4:$L$56,5,FALSE)>10,(((P17^2.8)*Q17)+((R17^2.8)*S17)+((T17^2.8)*U17)+((V17^2.8)*W17)),1),(IF(K17="KSB",IF(VLOOKUP(L17,KSB!$B$4:$L$137,5,FALSE)>10,(((P17^2.8)*Q17)+((R17^2.8)*S17)+((T17^2.8)*U17)+((V17^2.8)*W17)),1),(IF(K17="Wilo",IF(VLOOKUP(L17,Wilo!$B$4:$L$109,5,FALSE)>10,(((P17^2.8)*Q17)+((R17^2.8)*S17)+((T17^2.8)*U17)+((V17^2.8)*W17)),1),(IF(K17="sonstige",IF(VLOOKUP(L17,sonstige!$B$4:$L$200,5,FALSE)>10,(((P17^2.8)*Q17)+((R17^2.8)*S17)+((T17^2.8)*U17)+((V17^2.8)*W17)),1),1)))))))))))) | Z17: =IF(I17="","",IF(X17="","",I17-X17)) | AA17: =IF(Z17="","",Z17/I17) | AB17: =IF(AA17="","",IF(AA17>80%,"Stromeinsparung sehr hoch -> bitte überprüfen Sie die Angaben",""))
A18: 8 | G18: 5400 | I18: =IF(F18="","",(F18/1000)*G18) | M18: =IF(K18="","",IF(K18="Biral",IF(VLOOKUP(L18,Biral!$B$4:$L$137,5,FALSE)>10,VLOOKUP(L18,Biral!$B$4:$L$137,6,FALSE),VLOOKUP(L18,Biral!$B$4:$L$137,11,FALSE)),IF(K18="Grundfos",IF(VLOOKUP(L18,Grundfos!$B$4:$L$106,5,FALSE)>10,VLOOKUP(L18,Grundfos!$B$4:$L$106,6,FALSE),VLOOKUP(L18,Grundfos!$B$4:$L$106,11,FALSE)),IF(K18="IMP",IF(VLOOKUP(L18,IMP!$B$4:$L$56,5,FALSE)>10,VLOOKUP(L18,IMP!$B$4:$L$56,6,FALSE),VLOOKUP(L18,IMP!$B$4:$L$56,11,FALSE)),IF(K18="KSB",IF(VLOOKUP(L18,KSB!$B$4:$L$137,5,FALSE)>10,VLOOKUP(L18,KSB!$B$4:$L$137,6,FALSE),VLOOKUP(L18,KSB!$B$4:$L$137,11,FALSE)),IF(K18="Wilo",IF(VLOOKUP(L18,Wilo!$B$4:$L$109,5,FALSE)>10,VLOOKUP(L18,Wilo!$B$4:$L$109,6,FALSE),VLOOKUP(L18,Wilo!$B$4:$L$109,11,FALSE)),IF(K18="sonstige",IF(VLOOKUP(L18,sonstige!$B$4:$L$200,5,FALSE)>10,VLOOKUP(L18,sonstige!$B$4:$L$200,6,FALSE),VLOOKUP(L18,sonstige!$B$4:$L$200,11,FALSE))))))))) | N18: =IF(G18="","",G18) -> 5400 | O18: =IF(G18=N18,"-","") -> - | P18: 1 | Q18: 0.4 | R18: 0.75 | S18: 0.4 | T18: 0.5 | U18: 0.1 | V18: 0.25 | W18: 0.1 | X18: =IF(M18="","",(M18/1000)*N18*IF(K18="Biral",IF(VLOOKUP(L18,Biral!$B$4:$L$137,5,FALSE)>10,(((P18^2.8)*Q18)+((R18^2.8)*S18)+((T18^2.8)*U18)+((V18^2.8)*W18)),1),(IF(K18="Grundfos",IF(VLOOKUP(L18,Grundfos!$B$4:$L$106,5,FALSE)>10,(((P18^2.8)*Q18)+((R18^2.8)*S18)+((T18^2.8)*U18)+((V18^2.8)*W18)),1),(IF(K18="IMP",IF(VLOOKUP(L18,IMP!$B$4:$L$56,5,FALSE)>10,(((P18^2.8)*Q18)+((R18^2.8)*S18)+((T18^2.8)*U18)+((V18^2.8)*W18)),1),(IF(K18="KSB",IF(VLOOKUP(L18,KSB!$B$4:$L$137,5,FALSE)>10,(((P18^2.8)*Q18)+((R18^2.8)*S18)+((T18^2.8)*U18)+((V18^2.8)*W18)),1),(IF(K18="Wilo",IF(VLOOKUP(L18,Wilo!$B$4:$L$109,5,FALSE)>10,(((P18^2.8)*Q18)+((R18^2.8)*S18)+((T18^2.8)*U18)+((V18^2.8)*W18)),1),(IF(K18="sonstige",IF(VLOOKUP(L18,sonstige!$B$4:$L$200,5,FALSE)>10,(((P18^2.8)*Q18)+((R18^2.8)*S18)+((T18^2.8)*U18)+((V18^2.8)*W18)),1),1)))))))))))) | Z18: =IF(I18="","",IF(X18="","",I18-X18)) | AA18: =IF(Z18="","",Z18/I18) | AB18: =IF(AA18="","",IF(AA18>80%,"Stromeinsparung sehr hoch -> bitte überprüfen Sie die Angaben",""))
A19: 9 | G19: 5400 | I19: =IF(F19="","",(F19/1000)*G19) | M19: =IF(K19="","",IF(K19="Biral",IF(VLOOKUP(L19,Biral!$B$4:$L$137,5,FALSE)>10,VLOOKUP(L19,Biral!$B$4:$L$137,6,FALSE),VLOOKUP(L19,Biral!$B$4:$L$137,11,FALSE)),IF(K19="Grundfos",IF(VLOOKUP(L19,Grundfos!$B$4:$L$106,5,FALSE)>10,VLOOKUP(L19,Grundfos!$B$4:$L$106,6,FALSE),VLOOKUP(L19,Grundfos!$B$4:$L$106,11,FALSE)),IF(K19="IMP",IF(VLOOKUP(L19,IMP!$B$4:$L$56,5,FALSE)>10,VLOOKUP(L19,IMP!$B$4:$L$56,6,FALSE),VLOOKUP(L19,IMP!$B$4:$L$56,11,FALSE)),IF(K19="KSB",IF(VLOOKUP(L19,KSB!$B$4:$L$137,5,FALSE)>10,VLOOKUP(L19,KSB!$B$4:$L$137,6,FALSE),VLOOKUP(L19,KSB!$B$4:$L$137,11,FALSE)),IF(K19="Wilo",IF(VLOOKUP(L19,Wilo!$B$4:$L$109,5,FALSE)>10,VLOOKUP(L19,Wilo!$B$4:$L$109,6,FALSE),VLOOKUP(L19,Wilo!$B$4:$L$109,11,FALSE)),IF(K19="sonstige",IF(VLOOKUP(L19,sonstige!$B$4:$L$200,5,FALSE)>10,VLOOKUP(L19,sonstige!$B$4:$L$200,6,FALSE),VLOOKUP(L19,sonstige!$B$4:$L$200,11,FALSE))))))))) | N19: =IF(G19="","",G19) -> 5400 | O19: =IF(G19=N19,"-","") -> - | P19: 1 | Q19: 0.4 | R19: 0.75 | S19: 0.4 | T19: 0.5 | U19: 0.1 | V19: 0.25 | W19: 0.1 | X19: =IF(M19="","",(M19/1000)*N19*IF(K19="Biral",IF(VLOOKUP(L19,Biral!$B$4:$L$137,5,FALSE)>10,(((P19^2.8)*Q19)+((R19^2.8)*S19)+((T19^2.8)*U19)+((V19^2.8)*W19)),1),(IF(K19="Grundfos",IF(VLOOKUP(L19,Grundfos!$B$4:$L$106,5,FALSE)>10,(((P19^2.8)*Q19)+((R19^2.8)*S19)+((T19^2.8)*U19)+((V19^2.8)*W19)),1),(IF(K19="IMP",IF(VLOOKUP(L19,IMP!$B$4:$L$56,5,FALSE)>10,(((P19^2.8)*Q19)+((R19^2.8)*S19)+((T19^2.8)*U19)+((V19^2.8)*W19)),1),(IF(K19="KSB",IF(VLOOKUP(L19,KSB!$B$4:$L$137,5,FALSE)>10,(((P19^2.8)*Q19)+((R19^2.8)*S19)+((T19^2.8)*U19)+((V19^2.8)*W19)),1),(IF(K19="Wilo",IF(VLOOKUP(L19,Wilo!$B$4:$L$109,5,FALSE)>10,(((P19^2.8)*Q19)+((R19^2.8)*S19)+((T19^2.8)*U19)+((V19^2.8)*W19)),1),(IF(K19="sonstige",IF(VLOOKUP(L19,sonstige!$B$4:$L$200,5,FALSE)>10,(((P19^2.8)*Q19)+((R19^2.8)*S19)+((T19^2.8)*U19)+((V19^2.8)*W19)),1),1)))))))))))) | Z19: =IF(I19="","",IF(X19="","",I19-X19)) | AA19: =IF(Z19="","",Z19/I19) | AB19: =IF(AA19="","",IF(AA19>80%,"Stromeinsparung sehr hoch -> bitte überprüfen Sie die Angaben",""))
A20: 10 | G20: 5400 | I20: =IF(F20="","",(F20/1000)*G20) | M20: =IF(K20="","",IF(K20="Biral",IF(VLOOKUP(L20,Biral!$B$4:$L$137,5,FALSE)>10,VLOOKUP(L20,Biral!$B$4:$L$137,6,FALSE),VLOOKUP(L20,Biral!$B$4:$L$137,11,FALSE)),IF(K20="Grundfos",IF(VLOOKUP(L20,Grundfos!$B$4:$L$106,5,FALSE)>10,VLOOKUP(L20,Grundfos!$B$4:$L$106,6,FALSE),VLOOKUP(L20,Grundfos!$B$4:$L$106,11,FALSE)),IF(K20="IMP",IF(VLOOKUP(L20,IMP!$B$4:$L$56,5,FALSE)>10,VLOOKUP(L20,IMP!$B$4:$L$56,6,FALSE),VLOOKUP(L20,IMP!$B$4:$L$56,11,FALSE)),IF(K20="KSB",IF(VLOOKUP(L20,KSB!$B$4:$L$137,5,FALSE)>10,VLOOKUP(L20,KSB!$B$4:$L$137,6,FALSE),VLOOKUP(L20,KSB!$B$4:$L$137,11,FALSE)),IF(K20="Wilo",IF(VLOOKUP(L20,Wilo!$B$4:$L$109,5,FALSE)>10,VLOOKUP(L20,Wilo!$B$4:$L$109,6,FALSE),VLOOKUP(L20,Wilo!$B$4:$L$109,11,FALSE)),IF(K20="sonstige",IF(VLOOKUP(L20,sonstige!$B$4:$L$200,5,FALSE)>10,VLOOKUP(L20,sonstige!$B$4:$L$200,6,FALSE),VLOOKUP(L20,sonstige!$B$4:$L$200,11,FALSE))))))))) | N20: =IF(G20="","",G20) -> 5400 | O20: =IF(G20=N20,"-","") -> - | P20: 1 | Q20: 0.4 | R20: 0.75 | S20: 0.4 | T20: 0.5 | U20: 0.1 | V20: 0.25 | W20: 0.1 | X20: =IF(M20="","",(M20/1000)*N20*IF(K20="Biral",IF(VLOOKUP(L20,Biral!$B$4:$L$137,5,FALSE)>10,(((P20^2.8)*Q20)+((R20^2.8)*S20)+((T20^2.8)*U20)+((V20^2.8)*W20)),1),(IF(K20="Grundfos",IF(VLOOKUP(L20,Grundfos!$B$4:$L$106,5,FALSE)>10,(((P20^2.8)*Q20)+((R20^2.8)*S20)+((T20^2.8)*U20)+((V20^2.8)*W20)),1),(IF(K20="IMP",IF(VLOOKUP(L20,IMP!$B$4:$L$56,5,FALSE)>10,(((P20^2.8)*Q20)+((R20^2.8)*S20)+((T20^2.8)*U20)+((V20^2.8)*W20)),1),(IF(K20="KSB",IF(VLOOKUP(L20,KSB!$B$4:$L$137,5,FALSE)>10,(((P20^2.8)*Q20)+((R20^2.8)*S20)+((T20^2.8)*U20)+((V20^2.8)*W20)),1),(IF(K20="Wilo",IF(VLOOKUP(L20,Wilo!$B$4:$L$109,5,FALSE)>10,(((P20^2.8)*Q20)+((R20^2.8)*S20)+((T20^2.8)*U20)+((V20^2.8)*W20)),1),(IF(K20="sonstige",IF(VLOOKUP(L20,sonstige!$B$4:$L$200,5,FALSE)>10,(((P20^2.8)*Q20)+((R20^2.8)*S20)+((T20^2.8)*U20)+((V20^2.8)*W20)),1),1)))))))))))) | Z20: =IF(I20="","",IF(X20="","",I20-X20)) | AA20: =IF(Z20="","",Z20/I20) | AB20: =IF(AA20="","",IF(AA20>80%,"Stromeinsparung sehr hoch -> bitte überprüfen Sie die Angaben",""))
A21: 11 | G21: 5400 | I21: =IF(F21="","",(F21/1000)*G21) | M21: =IF(K21="","",IF(K21="Biral",IF(VLOOKUP(L21,Biral!$B$4:$L$137,5,FALSE)>10,VLOOKUP(L21,Biral!$B$4:$L$137,6,FALSE),VLOOKUP(L21,Biral!$B$4:$L$137,11,FALSE)),IF(K21="Grundfos",IF(VLOOKUP(L21,Grundfos!$B$4:$L$106,5,FALSE)>10,VLOOKUP(L21,Grundfos!$B$4:$L$106,6,FALSE),VLOOKUP(L21,Grundfos!$B$4:$L$106,11,FALSE)),IF(K21="IMP",IF(VLOOKUP(L21,IMP!$B$4:$L$56,5,FALSE)>10,VLOOKUP(L21,IMP!$B$4:$L$56,6,FALSE),VLOOKUP(L21,IMP!$B$4:$L$56,11,FALSE)),IF(K21="KSB",IF(VLOOKUP(L21,KSB!$B$4:$L$137,5,FALSE)>10,VLOOKUP(L21,KSB!$B$4:$L$137,6,FALSE),VLOOKUP(L21,KSB!$B$4:$L$137,11,FALSE)),IF(K21="Wilo",IF(VLOOKUP(L21,Wilo!$B$4:$L$109,5,FALSE)>10,VLOOKUP(L21,Wilo!$B$4:$L$109,6,FALSE),VLOOKUP(L21,Wilo!$B$4:$L$109,11,FALSE)),IF(K21="sonstige",IF(VLOOKUP(L21,sonstige!$B$4:$L$200,5,FALSE)>10,VLOOKUP(L21,sonstige!$B$4:$L$200,6,FALSE),VLOOKUP(L21,sonstige!$B$4:$L$200,11,FALSE))))))))) | N21: =IF(G21="","",G21) -> 5400 | O21: =IF(G21=N21,"-","") -> - | P21: 1 | Q21: 0.4 | R21: 0.75 | S21: 0.4 | T21: 0.5 | U21: 0.1 | V21: 0.25 | W21: 0.1 | X21: =IF(M21="","",(M21/1000)*N21*IF(K21="Biral",IF(VLOOKUP(L21,Biral!$B$4:$L$137,5,FALSE)>10,(((P21^2.8)*Q21)+((R21^2.8)*S21)+((T21^2.8)*U21)+((V21^2.8)*W21)),1),(IF(K21="Grundfos",IF(VLOOKUP(L21,Grundfos!$B$4:$L$106,5,FALSE)>10,(((P21^2.8)*Q21)+((R21^2.8)*S21)+((T21^2.8)*U21)+((V21^2.8)*W21)),1),(IF(K21="IMP",IF(VLOOKUP(L21,IMP!$B$4:$L$56,5,FALSE)>10,(((P21^2.8)*Q21)+((R21^2.8)*S21)+((T21^2.8)*U21)+((V21^2.8)*W21)),1),(IF(K21="KSB",IF(VLOOKUP(L21,KSB!$B$4:$L$137,5,FALSE)>10,(((P21^2.8)*Q21)+((R21^2.8)*S21)+((T21^2.8)*U21)+((V21^2.8)*W21)),1),(IF(K21="Wilo",IF(VLOOKUP(L21,Wilo!$B$4:$L$109,5,FALSE)>10,(((P21^2.8)*Q21)+((R21^2.8)*S21)+((T21^2.8)*U21)+((V21^2.8)*W21)),1),(IF(K21="sonstige",IF(VLOOKUP(L21,sonstige!$B$4:$L$200,5,FALSE)>10,(((P21^2.8)*Q21)+((R21^2.8)*S21)+((T21^2.8)*U21)+((V21^2.8)*W21)),1),1)))))))))))) | Z21: =IF(I21="","",IF(X21="","",I21-X21)) | AA21: =IF(Z21="","",Z21/I21) | AB21: =IF(AA21="","",IF(AA21>80%,"Stromeinsparung sehr hoch -> bitte überprüfen Sie die Angaben",""))
A22: 12 | G22: 5400 | I22: =IF(F22="","",(F22/1000)*G22) | M22: =IF(K22="","",IF(K22="Biral",IF(VLOOKUP(L22,Biral!$B$4:$L$137,5,FALSE)>10,VLOOKUP(L22,Biral!$B$4:$L$137,6,FALSE),VLOOKUP(L22,Biral!$B$4:$L$137,11,FALSE)),IF(K22="Grundfos",IF(VLOOKUP(L22,Grundfos!$B$4:$L$106,5,FALSE)>10,VLOOKUP(L22,Grundfos!$B$4:$L$106,6,FALSE),VLOOKUP(L22,Grundfos!$B$4:$L$106,11,FALSE)),IF(K22="IMP",IF(VLOOKUP(L22,IMP!$B$4:$L$56,5,FALSE)>10,VLOOKUP(L22,IMP!$B$4:$L$56,6,FALSE),VLOOKUP(L22,IMP!$B$4:$L$56,11,FALSE)),IF(K22="KSB",IF(VLOOKUP(L22,KSB!$B$4:$L$137,5,FALSE)>10,VLOOKUP(L22,KSB!$B$4:$L$137,6,FALSE),VLOOKUP(L22,KSB!$B$4:$L$137,11,FALSE)),IF(K22="Wilo",IF(VLOOKUP(L22,Wilo!$B$4:$L$109,5,FALSE)>10,VLOOKUP(L22,Wilo!$B$4:$L$109,6,FALSE),VLOOKUP(L22,Wilo!$B$4:$L$109,11,FALSE)),IF(K22="sonstige",IF(VLOOKUP(L22,sonstige!$B$4:$L$200,5,FALSE)>10,VLOOKUP(L22,sonstige!$B$4:$L$200,6,FALSE),VLOOKUP(L22,sonstige!$B$4:$L$200,11,FALSE))))))))) | N22: =IF(G22="","",G22) -> 5400 | O22: =IF(G22=N22,"-","") -> - | P22: 1 | Q22: 0.4 | R22: 0.75 | S22: 0.4 | T22: 0.5 | U22: 0.1 | V22: 0.25 | W22: 0.1 | X22: =IF(M22="","",(M22/1000)*N22*IF(K22="Biral",IF(VLOOKUP(L22,Biral!$B$4:$L$137,5,FALSE)>10,(((P22^2.8)*Q22)+((R22^2.8)*S22)+((T22^2.8)*U22)+((V22^2.8)*W22)),1),(IF(K22="Grundfos",IF(VLOOKUP(L22,Grundfos!$B$4:$L$106,5,FALSE)>10,(((P22^2.8)*Q22)+((R22^2.8)*S22)+((T22^2.8)*U22)+((V22^2.8)*W22)),1),(IF(K22="IMP",IF(VLOOKUP(L22,IMP!$B$4:$L$56,5,FALSE)>10,(((P22^2.8)*Q22)+((R22^2.8)*S22)+((T22^2.8)*U22)+((V22^2.8)*W22)),1),(IF(K22="KSB",IF(VLOOKUP(L22,KSB!$B$4:$L$137,5,FALSE)>10,(((P22^2.8)*Q22)+((R22^2.8)*S22)+((T22^2.8)*U22)+((V22^2.8)*W22)),1),(IF(K22="Wilo",IF(VLOOKUP(L22,Wilo!$B$4:$L$109,5,FALSE)>10,(((P22^2.8)*Q22)+((R22^2.8)*S22)+((T22^2.8)*U22)+((V22^2.8)*W22)),1),(IF(K22="sonstige",IF(VLOOKUP(L22,sonstige!$B$4:$L$200,5,FALSE)>10,(((P22^2.8)*Q22)+((R22^2.8)*S22)+((T22^2.8)*U22)+((V22^2.8)*W22)),1),1)))))))))))) | Z22: =IF(I22="","",IF(X22="","",I22-X22)) | AA22: =IF(Z22="","",Z22/I22) | AB22: =IF(AA22="","",IF(AA22>80%,"Stromeinsparung sehr hoch -> bitte überprüfen Sie die Angaben",""))
... A60: 50 | G60: 5400 | I60: =IF(F60="","",(F60/1000)*G60) | M60: =IF(K60="","",IF(K60="Biral",IF(VLOOKUP(L60,Biral!$B$4:$L$137,5,FALSE)>10,VLOOKUP(L60,Biral!$B$4:$L$137,6,FALSE),VLOOKUP(L60,Biral!$B$4:$L$137,11,FALSE)),IF(K60="Grundfos",IF(VLOOKUP(L60,Grundfos!$B$4:$L$106,5,FALSE)>10,VLOOKUP(L60,Grundfos!$B$4:$L$106,6,FALSE),VLOOKUP(L60,Grundfos!$B$4:$L$106,11,FALSE)),IF(K60="IMP",IF(VLOOKUP(L60,IMP!$B$4:$L$56,5,FALSE)>10,VLOOKUP(L60,IMP!$B$4:$L$56,6,FALSE),VLOOKUP(L60,IMP!$B$4:$L$56,11,FALSE)),IF(K60="KSB",IF(VLOOKUP(L60,KSB!$B$4:$L$137,5,FALSE)>10,VLOOKUP(L60,KSB!$B$4:$L$137,6,FALSE),VLOOKUP(L60,KSB!$B$4:$L$137,11,FALSE)),IF(K60="Wilo",IF(VLOOKUP(L60,Wilo!$B$4:$L$109,5,FALSE)>10,VLOOKUP(L60,Wilo!$B$4:$L$109,6,FALSE),VLOOKUP(L60,Wilo!$B$4:$L$109,11,FALSE)),IF(K60="sonstige",IF(VLOOKUP(L60,sonstige!$B$4:$L$200,5,FALSE)>10,VLOOKUP(L60,sonstige!$B$4:$L$200,6,FALSE),VLOOKUP(L60,sonstige!$B$4:$L$200,11,FALSE))))))))) | N60: =IF(G60="","",G60) -> 5400 | O60: =IF(G60=N60,"-","") -> - | P60: 1 | Q60: 0.4 | R60: 0.75 | S60: 0.4 | T60: 0.5 | U60: 0.1 | V60: 0.25 | W60: 0.1 | X60: =IF(M60="","",(M60/1000)*N60*IF(K60="Biral",IF(VLOOKUP(L60,Biral!$B$4:$L$137,5,FALSE)>10,(((P60^2.8)*Q60)+((R60^2.8)*S60)+((T60^2.8)*U60)+((V60^2.8)*W60)),1),(IF(K60="Grundfos",IF(VLOOKUP(L60,Grundfos!$B$4:$L$106,5,FALSE)>10,(((P60^2.8)*Q60)+((R60^2.8)*S60)+((T60^2.8)*U60)+((V60^2.8)*W60)),1),(IF(K60="IMP",IF(VLOOKUP(L60,IMP!$B$4:$L$56,5,FALSE)>10,(((P60^2.8)*Q60)+((R60^2.8)*S60)+((T60^2.8)*U60)+((V60^2.8)*W60)),1),(IF(K60="KSB",IF(VLOOKUP(L60,KSB!$B$4:$L$137,5,FALSE)>10,(((P60^2.8)*Q60)+((R60^2.8)*S60)+((T60^2.8)*U60)+((V60^2.8)*W60)),1),(IF(K60="Wilo",IF(VLOOKUP(L60,Wilo!$B$4:$L$109,5,FALSE)>10,(((P60^2.8)*Q60)+((R60^2.8)*S60)+((T60^2.8)*U60)+((V60^2.8)*W60)),1),(IF(K60="sonstige",IF(VLOOKUP(L60,sonstige!$B$4:$L$200,5,FALSE)>10,(((P60^2.8)*Q60)+((R60^2.8)*S60)+((T60^2.8)*U60)+((V60^2.8)*W60)),1),1)))))))))))) | Z60: =IF(I60="","",IF(X60="","",I60-X60)) | AA60: =IF(Z60="","",Z60/I60) | AB60: =IF(AA60="","",IF(AA60>80%,"Stromeinsparung sehr hoch -> bitte überprüfen Sie die Angaben",""))
F61: =SUM(F11:F60) -> 0 | I61: =SUM(I11:I60) -> 0 | M61: =SUM(M11:M60) -> 0 | X61: =SUM(X11:X60) -> 0 | Z61: =SUM(Z11:Z60) -> 0
X62: Lastfaktor:
P63: 1 | Q63: 0.4 | R63: 0.75 | S63: 0.4 | T63: 0.5 | U63: 0.1 | V63: 0.25 | W63: 0.1 | X63: =((P63^2.8)*Q63)+((R63^2.8)*S63)+((T63^2.8)*U63)+((V63^2.8)*W63) -> 0.59516448

Sheet Trockenläuferpumpen
C2: Standardanwendung = Alle Arten von Pumpsystemen, ausser Anlagen, bei denen nahezu ausschliesslich Hebearbeit verrichtet wird (z.B. Reservoir füllen). | N2: Angaben zur Berechnung der elektrischen Leistungsaufnahme bitte unter + (siehe oben) eintragen | R2: Bei mehrstufigem Betrieb oder Betrieb mit Frequenzumrichter (FU) bitte Angaben unter + (siehe oben) aufklappen und eintragen | AN2: Angaben zur Berechnung der elektrischen Leistungsaufnahme bitte unter + (siehe oben) eintragen | AQ2: Bei mehrstufigem Betrieb oder Betrieb mit Frequenzumrichter (FU) bitte Angaben unter + (siehe oben) aufklappen und eintragen
G5: falls bekannt, bitte Angaben unter Berechnungsvariante 1 oder Berechnungsvariante 2 ausfüllen
A6: Berechnung Ersatz Trockenläuferpumpen | M6: Standard (IE1) kann überschrieben werden | AG6: bitte Angaben unter Berechnungsvariante 1 oder Berechnungsvariante 2 ausfüllen | AM6: Standard (IE4) kann überschrieben werden
A7: Anlage | E7: Situation vor der Umsetzung | G7: Berechnungsvariante 1 | H7: Berechnungsvariante 2 | AE7: Situation nach der Umsetzung | AG7: Berechnungsvariante 1 | AH7: Berechnungsvariante 2 | BD7: Stromeinsparung
A8: Nr. | B8: Pumpenbezeichnung | C8: Pumpensystem | E8: Hersteller | F8: Typ | G8: Mechanischer Leistungsbedarf der Pumpe an der Welle | H8: Nenn-Fördervolumen | I8: Nenn-Förderhöhe | J8: Wirkungsgrad der Pumpe | K8: Transmission | L8: Nennleistung des Motors | M8: Wirkungsgrad des Motors (vgl. Register "Wirkungsgrade") | N8: elektrische Leistungsaufnahme gem. Pumpenangaben | O8: elektrische Leistungsaufnahme gem. Motor | P8: Betriebszeit | Q8: Erklärung zur Betriebszeit | R8: Wird die bestehende Pumpe mit einem Frequenzumrichter (FU) betrieben? | S8: Lastprofil für FU betriebene Pumpen -> bei Pumpen ohne FU muss hier nichts eingetragen werden | AA8: Lastfaktor | AB8: Wirkungsgrad FU | AC8: Stromverbrauch | AE8: Hersteller | AF8: Typ | AG8: Mechanischer Leistungsbedarf der Pumpe an der Welle | AH8: Nenn-Fördervolumen | AI8: Nenn-Förderhöhe | AJ8: Wirkungsgrad der Pumpe | AK8: Transmission | AL8: Nennleistung des Motors (falls bekannt) | AM8: Wirkungsgrad des Motors (vgl. Register "Wirkungsgrade") | AN8: elektrische Leistungsaufnahme | AO8: Betriebszeit | AP8: Erklärung zur Betriebszeit | AQ8: Wird die neue Pumpe mit einem Frequenzumrichter (FU) betrieben? | AR8: Lastprofil für FU betriebene Pumpen -> bei Pumpen ohne FU muss hier nichts eingetragen werden | AZ8: Lastfaktor | BA8: Wirkungsgrad FU | BB8: Stromverbrauch
G9: kW | H9: m3/h | I9: m | J9: % | L9: kW | M9: % | N9: kW | O9: kW | P9: h/Jahr | R9: bitte auswählen | S9: Betriebspunkt 1 | U9: Betriebspunkt 2 | W9: Betriebspunkt 3 | Y9: Betriebspunkt 4 | AB9: % | AC9: kWh/Jahr | AG9: kW | AH9: m3/h | AI9: m | AJ9: % | AL9: kW | AM9: % | AN9: kW | AO9: h/Jahr | AP9: nur notwendig, falls von Betriebszeit vor der Umsetzung abweichend | AQ9: bitte auswählen | AR9: Betriebspunkt 1 | AT9: Betriebspunkt 2 | AV9: Betriebspunkt 3 | AX9: Betriebspunkt 4 | BA9: % | BB9: kWh/Jahr | BD9: kWh/Jahr | BE9: %
A10: Bsp. | B10: Tauchmotorpumpe | C10: keine Standardanwendung | E10: KSB | F10: ARX F150-230/077F4USG | G10: vgl. Datenblatt oder Typenschild der Pumpe (nicht des Motors!) | K10: Direktantrieb | L10: vgl. Datenblatt oder Typenschild des Motors | P10: 4380 | Q10: während Sommerhalbjahr, 24 h/Tag in Betrieb | R10: Nein | S10: % Volumenstrom | T10: % Betriebsstunden | U10: % Volumenstrom | V10: % Betriebsstunden | W10: % Volumenstrom | X10: % Betriebsstunden | Y10: % Volumenstrom | Z10: % Betriebsstunden | AE10: Grundfos | AF10: TPE2 200-200 A-F-A-BQQE-QWA | AG10: vgl. Datenblatt oder Typenschild der Pumpe (nicht des Motors!) | AK10: Standard | AL10: vgl. Datenblatt oder Typenschild Motor | AO10: 4380 | AP10: =IF(P10=AO10,"-","") -> - | AQ10: Ja | AR10: % Volumenstrom | AS10: % Betriebsstunden | AT10: % Volumenstrom | AU10: % Betriebsstunden | AV10: % Volumenstrom | AW10: % Betriebsstunden | AX10: % Volumenstrom | AY10: % Betriebsstunden
A11: 1 | K11: Direktantrieb | M11: =IF(L11="","",VLOOKUP(L11,Wirkungsgrade!$M$4:$R$5934,3,FALSE)/100) | N11: =IF(AND(G11="",J11=""),"",IF(G11="",((0.00272*H11*I11)/J11/IF(K11="Keilriemen",0.94,IF(K11="Flachriemen",0.97,1))/M11),G11/IF(K11="Keilriemen",0.94,IF(K11="Flachriemen",0.97,1))/M11)) | O11: =IF(L11="","",L11*0.8/M11) | S11: =IF(R11="Nein","-",100%) -> 1 | T11: =IF(R11="Nein","-",IF(R11="Ja","bitte eintragen","")) | U11: =IF(R11="Nein","-",75%) -> 0.75 | V11: =IF(R11="Nein","-",IF(R11="Ja","bitte eintragen","")) | W11: =IF(R11="Nein","-",50%) -> 0.5 | X11: =IF(R11="Nein","-",IF(R11="Ja","bitte eintragen","")) | Y11: =IF(R11="Nein","-",25%) -> 0.25 | Z11: =IF(R11="Nein","-",IF(R11="Ja","bitte eintragen","")) | AA11: =IF(R11="Ja",IF(C11="Standardanwendung",(((S11^2.8)*T11)+((U11^2.8)*V11)+((W11^2.8)*X11)+((Y11^2.8)*Z11)),IF(C11="keine Standardanwendung",(((S11)*T11)+((U11)*V11)+((W11)*X11)+((Y11)*Z11)),"Spalte C ausfüllen")),1) -> 1 | AB11: =IF(R11="Ja",0.95,1) -> 1 | AC11: =IF(M11="","",IF(N11="",((O11/AB11)*P11*AA11),((N11/AB11)*P11*AA11))) | AK11: Direktantrieb | AM11: =IF(AL11="","",VLOOKUP(AL11,Wirkungsgrade!$M$4:$R$5934,6,FALSE)/100) | AN11: =IF(AND(AG11="",AJ11=""),"",IF(AG11="",((0.00272*AH11*AI11)/AJ11/IF(AK11="Keilriemen",0.94,IF(AK11="Flachriemen",0.97,1))/AM11),AG11/IF(AK11="Keilriemen",0.94,IF(AK11="Flachriemen",0.97,1))/AM11)) | AO11: =IF(P11="","",P11) | AP11: =IF(P11=AO11,"-","") -> - | AR11: =IF(AQ11="Nein","-",100%) -> 1 | AS11: =IF(AQ11="Nein","-",IF(AQ11="Ja","bitte eintragen","")) | AT11: =IF(AQ11="Nein","-",75%) -> 0.75 | AU11: =IF(AQ11="Nein","-",IF(AQ11="Ja","bitte eintragen","")) | AV11: =IF(AQ11="Nein","-",50%) -> 0.5 | AW11: =IF(AQ11="Nein","-",IF(AQ11="Ja","bitte eintragen","")) | AX11: =IF(AQ11="Nein","-",25%) -> 0.25 | AY11: =IF(AQ11="Nein","-",IF(AQ11="Ja","bitte eintragen","")) | AZ11: =IF(AQ11="Ja",IF(C11="Standardanwendung",(((AR11^2.8)*AS11)+((AT11^2.8)*AU11)+((AV11^2.8)*AW11)+((AX11^2.8)*AY11)),IF(C11="keine Standardanwendung",(((AR11)*AS11)+((AT11)*AU11)+((AV11)*AW11)+((AX11)*AY11)),"Spalte C ausfüllen")),1) -> 1 | BA11: =IF(AQ11="Ja",0.98,1) -> 1 | BB11: =IF(AN11="","",(AN11/BA11)*AO11*AZ11) | BD11: =IF(AC11="","",IF(BB11="","",AC11-BB11)) | BE11: =IF(BD11="","",BD11/AC11) | BF11: =IF(BE11="","",IF(BE11>80%,"Stromeinsparung sehr hoch -> bitte überprüfen Sie die Angaben",""))
A12: 2 | K12: Direktantrieb | M12: =IF(L12="","",VLOOKUP(L12,Wirkungsgrade!$M$4:$R$5934,3,FALSE)/100) | N12: =IF(AND(G12="",J12=""),"",IF(G12="",((0.00272*H12*I12)/J12/IF(K12="Keilriemen",0.94,IF(K12="Flachriemen",0.97,1))/M12),G12/IF(K12="Keilriemen",0.94,IF(K12="Flachriemen",0.97,1))/M12)) | O12: =IF(L12="","",L12*0.8/M12) | S12: =IF(R12="Nein","-",100%) -> 1 | T12: =IF(R12="Nein","-",IF(R12="Ja","bitte eintragen","")) | U12: =IF(R12="Nein","-",75%) -> 0.75 | V12: =IF(R12="Nein","-",IF(R12="Ja","bitte eintragen","")) | W12: =IF(R12="Nein","-",50%) -> 0.5 | X12: =IF(R12="Nein","-",IF(R12="Ja","bitte eintragen","")) | Y12: =IF(R12="Nein","-",25%) -> 0.25 | Z12: =IF(R12="Nein","-",IF(R12="Ja","bitte eintragen","")) | AA12: =IF(R12="Ja",IF(C12="Standardanwendung",(((S12^2.8)*T12)+((U12^2.8)*V12)+((W12^2.8)*X12)+((Y12^2.8)*Z12)),IF(C12="keine Standardanwendung",(((S12)*T12)+((U12)*V12)+((W12)*X12)+((Y12)*Z12)),"Spalte C ausfüllen")),1) -> 1 | AB12: =IF(R12="Ja",0.95,1) -> 1 | AC12: =IF(M12="","",IF(N12="",((O12/AB12)*P12*AA12),((N12/AB12)*P12*AA12))) | AK12: Direktantrieb | AM12: =IF(AL12="","",VLOOKUP(AL12,Wirkungsgrade!$M$4:$R$5934,6,FALSE)/100) | AN12: =IF(AND(AG12="",AJ12=""),"",IF(AG12="",((0.00272*AH12*AI12)/AJ12/IF(AK12="Keilriemen",0.94,IF(AK12="Flachriemen",0.97,1))/AM12),AG12/IF(AK12="Keilriemen",0.94,IF(AK12="Flachriemen",0.97,1))/AM12)) | AO12: =IF(P12="","",P12) | AP12: =IF(P12=AO12,"-","") -> - | AR12: =IF(AQ12="Nein","-",100%) -> 1 | AS12: =IF(AQ12="Nein","-",IF(AQ12="Ja","bitte eintragen","")) | AT12: =IF(AQ12="Nein","-",75%) -> 0.75 | AU12: =IF(AQ12="Nein","-",IF(AQ12="Ja","bitte eintragen","")) | AV12: =IF(AQ12="Nein","-",50%) -> 0.5 | AW12: =IF(AQ12="Nein","-",IF(AQ12="Ja","bitte eintragen","")) | AX12: =IF(AQ12="Nein","-",25%) -> 0.25 | AY12: =IF(AQ12="Nein","-",IF(AQ12="Ja","bitte eintragen","")) | AZ12: =IF(AQ12="Ja",IF(C12="Standardanwendung",(((AR12^2.8)*AS12)+((AT12^2.8)*AU12)+((AV12^2.8)*AW12)+((AX12^2.8)*AY12)),IF(C12="keine Standardanwendung",(((AR12)*AS12)+((AT12)*AU12)+((AV12)*AW12)+((AX12)*AY12)),"Spalte C ausfüllen")),1) -> 1 | BA12: =IF(AQ12="Ja",0.98,1) -> 1 | BB12: =IF(AN12="","",(AN12/BA12)*AO12*AZ12) | BD12: =IF(AC12="","",IF(BB12="","",AC12-BB12)) | BE12: =IF(AD12="","",IF(BC12="","",AD12-BC12)) | BF12: =IF(BE12="","",IF(BE12>80%,"Stromeinsparung sehr hoch -> bitte überprüfen Sie die Angaben",""))
A13: 3 | K13: Direktantrieb | M13: =IF(L13="","",VLOOKUP(L13,Wirkungsgrade!$M$4:$R$5934,3,FALSE)/100) | N13: =IF(AND(G13="",J13=""),"",IF(G13="",((0.00272*H13*I13)/J13/IF(K13="Keilriemen",0.94,IF(K13="Flachriemen",0.97,1))/M13),G13/IF(K13="Keilriemen",0.94,IF(K13="Flachriemen",0.97,1))/M13)) | O13: =IF(L13="","",L13*0.8/M13) | S13: =IF(R13="Nein","-",100%) -> 1 | T13: =IF(R13="Nein","-",IF(R13="Ja","bitte eintragen","")) | U13: =IF(R13="Nein","-",75%) -> 0.75 | V13: =IF(R13="Nein","-",IF(R13="Ja","bitte eintragen","")) | W13: =IF(R13="Nein","-",50%) -> 0.5 | X13: =IF(R13="Nein","-",IF(R13="Ja","bitte eintragen","")) | Y13: =IF(R13="Nein","-",25%) -> 0.25 | Z13: =IF(R13="Nein","-",IF(R13="Ja","bitte eintragen","")) | AA13: =IF(R13="Ja",IF(C13="Standardanwendung",(((S13^2.8)*T13)+((U13^2.8)*V13)+((W13^2.8)*X13)+((Y13^2.8)*Z13)),IF(C13="keine Standardanwendung",(((S13)*T13)+((U13)*V13)+((W13)*X13)+((Y13)*Z13)),"Spalte C ausfüllen")),1) -> 1 | AB13: =IF(R13="Ja",0.95,1) -> 1 | AC13: =IF(M13="","",IF(N13="",((O13/AB13)*P13*AA13),((N13/AB13)*P13*AA13))) | AK13: Direktantrieb | AM13: =IF(AL13="","",VLOOKUP(AL13,Wirkungsgrade!$M$4:$R$5934,6,FALSE)/100) | AN13: =IF(AND(AG13="",AJ13=""),"",IF(AG13="",((0.00272*AH13*AI13)/AJ13/IF(AK13="Keilriemen",0.94,IF(AK13="Flachriemen",0.97,1))/AM13),AG13/IF(AK13="Keilriemen",0.94,IF(AK13="Flachriemen",0.97,1))/AM13)) | AO13: =IF(P13="","",P13) | AP13: =IF(P13=AO13,"-","") -> - | AR13: =IF(AQ13="Nein","-",100%) -> 1 | AS13: =IF(AQ13="Nein","-",IF(AQ13="Ja","bitte eintragen","")) | AT13: =IF(AQ13="Nein","-",75%) -> 0.75 | AU13: =IF(AQ13="Nein","-",IF(AQ13="Ja","bitte eintragen","")) | AV13: =IF(AQ13="Nein","-",50%) -> 0.5 | AW13: =IF(AQ13="Nein","-",IF(AQ13="Ja","bitte eintragen","")) | AX13: =IF(AQ13="Nein","-",25%) -> 0.25 | AY13: =IF(AQ13="Nein","-",IF(AQ13="Ja","bitte eintragen","")) | AZ13: =IF(AQ13="Ja",IF(C13="Standardanwendung",(((AR13^2.8)*AS13)+((AT13^2.8)*AU13)+((AV13^2.8)*AW13)+((AX13^2.8)*AY13)),IF(C13="keine Standardanwendung",(((AR13)*AS13)+((AT13)*AU13)+((AV13)*AW13)+((AX13)*AY13)),"Spalte C ausfüllen")),1) -> 1 | BA13: =IF(AQ13="Ja",0.98,1) -> 1 | BB13: =IF(AN13="","",(AN13/BA13)*AO13*AZ13) | BD13: =IF(AC13="","",IF(BB13="","",AC13-BB13)) | BE13: =IF(AD13="","",IF(BC13="","",AD13-BC13)) | BF13: =IF(BE13="","",IF(BE13>80%,"Stromeinsparung sehr hoch -> bitte überprüfen Sie die Angaben",""))
A14: 4 | K14: Direktantrieb | M14: =IF(L14="","",VLOOKUP(L14,Wirkungsgrade!$M$4:$R$5934,3,FALSE)/100) | N14: =IF(AND(G14="",J14=""),"",IF(G14="",((0.00272*H14*I14)/J14/IF(K14="Keilriemen",0.94,IF(K14="Flachriemen",0.97,1))/M14),G14/IF(K14="Keilriemen",0.94,IF(K14="Flachriemen",0.97,1))/M14)) | O14: =IF(L14="","",L14*0.8/M14) | S14: =IF(R14="Nein","-",100%) -> 1 | T14: =IF(R14="Nein","-",IF(R14="Ja","bitte eintragen","")) | U14: =IF(R14="Nein","-",75%) -> 0.75 | V14: =IF(R14="Nein","-",IF(R14="Ja","bitte eintragen","")) | W14: =IF(R14="Nein","-",50%) -> 0.5 | X14: =IF(R14="Nein","-",IF(R14="Ja","bitte eintragen","")) | Y14: =IF(R14="Nein","-",25%) -> 0.25 | Z14: =IF(R14="Nein","-",IF(R14="Ja","bitte eintragen","")) | AA14: =IF(R14="Ja",IF(C14="Standardanwendung",(((S14^2.8)*T14)+((U14^2.8)*V14)+((W14^2.8)*X14)+((Y14^2.8)*Z14)),IF(C14="keine Standardanwendung",(((S14)*T14)+((U14)*V14)+((W14)*X14)+((Y14)*Z14)),"Spalte C ausfüllen")),1) -> 1 | AB14: =IF(R14="Ja",0.95,1) -> 1 | AC14: =IF(M14="","",IF(N14="",((O14/AB14)*P14*AA14),((N14/AB14)*P14*AA14))) | AK14: Direktantrieb | AM14: =IF(AL14="","",VLOOKUP(AL14,Wirkungsgrade!$M$4:$R$5934,6,FALSE)/100) | AN14: =IF(AND(AG14="",AJ14=""),"",IF(AG14="",((0.00272*AH14*AI14)/AJ14/IF(AK14="Keilriemen",0.94,IF(AK14="Flachriemen",0.97,1))/AM14),AG14/IF(AK14="Keilriemen",0.94,IF(AK14="Flachriemen",0.97,1))/AM14)) | AO14: =IF(P14="","",P14) | AP14: =IF(P14=AO14,"-","") -> - | AR14: =IF(AQ14="Nein","-",100%) -> 1 | AS14: =IF(AQ14="Nein","-",IF(AQ14="Ja","bitte eintragen","")) | AT14: =IF(AQ14="Nein","-",75%) -> 0.75 | AU14: =IF(AQ14="Nein","-",IF(AQ14="Ja","bitte eintragen","")) | AV14: =IF(AQ14="Nein","-",50%) -> 0.5 | AW14: =IF(AQ14="Nein","-",IF(AQ14="Ja","bitte eintragen","")) | AX14: =IF(AQ14="Nein","-",25%) -> 0.25 | AY14: =IF(AQ14="Nein","-",IF(AQ14="Ja","bitte eintragen","")) | AZ14: =IF(AQ14="Ja",IF(C14="Standardanwendung",(((AR14^2.8)*AS14)+((AT14^2.8)*AU14)+((AV14^2.8)*AW14)+((AX14^2.8)*AY14)),IF(C14="keine Standardanwendung",(((AR14)*AS14)+((AT14)*AU14)+((AV14)*AW14)+((AX14)*AY14)),"Spalte C ausfüllen")),1) -> 1 | BA14: =IF(AQ14="Ja",0.98,1) -> 1 | BB14: =IF(AN14="","",(AN14/BA14)*AO14*AZ14) | BD14: =IF(AC14="","",IF(BB14="","",AC14-BB14)) | BE14: =IF(AD14="","",IF(BC14="","",AD14-BC14)) | BF14: =IF(BE14="","",IF(BE14>80%,"Stromeinsparung sehr hoch -> bitte überprüfen Sie die Angaben",""))
A15: 5 | K15: Direktantrieb | M15: =IF(L15="","",VLOOKUP(L15,Wirkungsgrade!$M$4:$R$5934,3,FALSE)/100) | N15: =IF(AND(G15="",J15=""),"",IF(G15="",((0.00272*H15*I15)/J15/IF(K15="Keilriemen",0.94,IF(K15="Flachriemen",0.97,1))/M15),G15/IF(K15="Keilriemen",0.94,IF(K15="Flachriemen",0.97,1))/M15)) | O15: =IF(L15="","",L15*0.8/M15) | S15: =IF(R15="Nein","-",100%) -> 1 | T15: =IF(R15="Nein","-",IF(R15="Ja","bitte eintragen","")) | U15: =IF(R15="Nein","-",75%) -> 0.75 | V15: =IF(R15="Nein","-",IF(R15="Ja","bitte eintragen","")) | W15: =IF(R15="Nein","-",50%) -> 0.5 | X15: =IF(R15="Nein","-",IF(R15="Ja","bitte eintragen","")) | Y15: =IF(R15="Nein","-",25%) -> 0.25 | Z15: =IF(R15="Nein","-",IF(R15="Ja","bitte eintragen","")) | AA15: =IF(R15="Ja",IF(C15="Standardanwendung",(((S15^2.8)*T15)+((U15^2.8)*V15)+((W15^2.8)*X15)+((Y15^2.8)*Z15)),IF(C15="keine Standardanwendung",(((S15)*T15)+((U15)*V15)+((W15)*X15)+((Y15)*Z15)),"Spalte C ausfüllen")),1) -> 1 | AB15: =IF(R15="Ja",0.95,1) -> 1 | AC15: =IF(M15="","",IF(N15="",((O15/AB15)*P15*AA15),((N15/AB15)*P15*AA15))) | AK15: Direktantrieb | AM15: =IF(AL15="","",VLOOKUP(AL15,Wirkungsgrade!$M$4:$R$5934,6,FALSE)/100) | AN15: =IF(AND(AG15="",AJ15=""),"",IF(AG15="",((0.00272*AH15*AI15)/AJ15/IF(AK15="Keilriemen",0.94,IF(AK15="Flachriemen",0.97,1))/AM15),AG15/IF(AK15="Keilriemen",0.94,IF(AK15="Flachriemen",0.97,1))/AM15)) | AO15: =IF(P15="","",P15) | AP15: =IF(P15=AO15,"-","") -> - | AR15: =IF(AQ15="Nein","-",100%) -> 1 | AS15: =IF(AQ15="Nein","-",IF(AQ15="Ja","bitte eintragen","")) | AT15: =IF(AQ15="Nein","-",75%) -> 0.75 | AU15: =IF(AQ15="Nein","-",IF(AQ15="Ja","bitte eintragen","")) | AV15: =IF(AQ15="Nein","-",50%) -> 0.5 | AW15: =IF(AQ15="Nein","-",IF(AQ15="Ja","bitte eintragen","")) | AX15: =IF(AQ15="Nein","-",25%) -> 0.25 | AY15: =IF(AQ15="Nein","-",IF(AQ15="Ja","bitte eintragen","")) | AZ15: =IF(AQ15="Ja",IF(C15="Standardanwendung",(((AR15^2.8)*AS15)+((AT15^2.8)*AU15)+((AV15^2.8)*AW15)+((AX15^2.8)*AY15)),IF(C15="keine Standardanwendung",(((AR15)*AS15)+((AT15)*AU15)+((AV15)*AW15)+((AX15)*AY15)),"Spalte C ausfüllen")),1) -> 1 | BA15: =IF(AQ15="Ja",0.98,1) -> 1 | BB15: =IF(AN15="","",(AN15/BA15)*AO15*AZ15) | BD15: =IF(AC15="","",IF(BB15="","",AC15-BB15)) | BE15: =IF(AD15="","",IF(BC15="","",AD15-BC15)) | BF15: =IF(BE15="","",IF(BE15>80%,"Stromeinsparung sehr hoch -> bitte überprüfen Sie die Angaben",""))
A16: 6 | K16: Direktantrieb | M16: =IF(L16="","",VLOOKUP(L16,Wirkungsgrade!$M$4:$R$5934,3,FALSE)/100) | N16: =IF(AND(G16="",J16=""),"",IF(G16="",((0.00272*H16*I16)/J16/IF(K16="Keilriemen",0.94,IF(K16="Flachriemen",0.97,1))/M16),G16/IF(K16="Keilriemen",0.94,IF(K16="Flachriemen",0.97,1))/M16)) | O16: =IF(L16="","",L16*0.8/M16) | S16: =IF(R16="Nein","-",100%) -> 1 | T16: =IF(R16="Nein","-",IF(R16="Ja","bitte eintragen","")) | U16: =IF(R16="Nein","-",75%) -> 0.75 | V16: =IF(R16="Nein","-",IF(R16="Ja","bitte eintragen","")) | W16: =IF(R16="Nein","-",50%) -> 0.5 | X16: =IF(R16="Nein","-",IF(R16="Ja","bitte eintragen","")) | Y16: =IF(R16="Nein","-",25%) -> 0.25 | Z16: =IF(R16="Nein","-",IF(R16="Ja","bitte eintragen","")) | AA16: =IF(R16="Ja",IF(C16="Standardanwendung",(((S16^2.8)*T16)+((U16^2.8)*V16)+((W16^2.8)*X16)+((Y16^2.8)*Z16)),IF(C16="keine Standardanwendung",(((S16)*T16)+((U16)*V16)+((W16)*X16)+((Y16)*Z16)),"Spalte C ausfüllen")),1) -> 1 | AB16: =IF(R16="Ja",0.95,1) -> 1 | AC16: =IF(M16="","",IF(N16="",((O16/AB16)*P16*AA16),((N16/AB16)*P16*AA16))) | AK16: Direktantrieb | AM16: =IF(AL16="","",VLOOKUP(AL16,Wirkungsgrade!$M$4:$R$5934,6,FALSE)/100) | AN16: =IF(AND(AG16="",AJ16=""),"",IF(AG16="",((0.00272*AH16*AI16)/AJ16/IF(AK16="Keilriemen",0.94,IF(AK16="Flachriemen",0.97,1))/AM16),AG16/IF(AK16="Keilriemen",0.94,IF(AK16="Flachriemen",0.97,1))/AM16)) | AO16: =IF(P16="","",P16) | AP16: =IF(P16=AO16,"-","") -> - | AR16: =IF(AQ16="Nein","-",100%) -> 1 | AS16: =IF(AQ16="Nein","-",IF(AQ16="Ja","bitte eintragen","")) | AT16: =IF(AQ16="Nein","-",75%) -> 0.75 | AU16: =IF(AQ16="Nein","-",IF(AQ16="Ja","bitte eintragen","")) | AV16: =IF(AQ16="Nein","-",50%) -> 0.5 | AW16: =IF(AQ16="Nein","-",IF(AQ16="Ja","bitte eintragen","")) | AX16: =IF(AQ16="Nein","-",25%) -> 0.25 | AY16: =IF(AQ16="Nein","-",IF(AQ16="Ja","bitte eintragen","")) | AZ16: =IF(AQ16="Ja",IF(C16="Standardanwendung",(((AR16^2.8)*AS16)+((AT16^2.8)*AU16)+((AV16^2.8)*AW16)+((AX16^2.8)*AY16)),IF(C16="keine Standardanwendung",(((AR16)*AS16)+((AT16)*AU16)+((AV16)*AW16)+((AX16)*AY16)),"Spalte C ausfüllen")),1) -> 1 | BA16: =IF(AQ16="Ja",0.98,1) -> 1 | BB16: =IF(AN16="","",(AN16/BA16)*AO16*AZ16) | BD16: =IF(AC16="","",IF(BB16="","",AC16-BB16)) | BE16: =IF(AD16="","",IF(BC16="","",AD16-BC16)) | BF16: =IF(BE16="","",IF(BE16>80%,"Stromeinsparung sehr hoch -> bitte überprüfen Sie die Angaben",""))
A17: 7 | K17: Direktantrieb | M17: =IF(L17="","",VLOOKUP(L17,Wirkungsgrade!$M$4:$R$5934,3,FALSE)/100) | N17: =IF(AND(G17="",J17=""),"",IF(G17="",((0.00272*H17*I17)/J17/IF(K17="Keilriemen",0.94,IF(K17="Flachriemen",0.97,1))/M17),G17/IF(K17="Keilriemen",0.94,IF(K17="Flachriemen",0.97,1))/M17)) | O17: =IF(L17="","",L17*0.8/M17) | S17: =IF(R17="Nein","-",100%) -> 1 | T17: =IF(R17="Nein","-",IF(R17="Ja","bitte eintragen","")) | U17: =IF(R17="Nein","-",75%) -> 0.75 | V17: =IF(R17="Nein","-",IF(R17="Ja","bitte eintragen","")) | W17: =IF(R17="Nein","-",50%) -> 0.5 | X17: =IF(R17="Nein","-",IF(R17="Ja","bitte eintragen","")) | Y17: =IF(R17="Nein","-",25%) -> 0.25 | Z17: =IF(R17="Nein","-",IF(R17="Ja","bitte eintragen","")) | AA17: =IF(R17="Ja",IF(C17="Standardanwendung",(((S17^2.8)*T17)+((U17^2.8)*V17)+((W17^2.8)*X17)+((Y17^2.8)*Z17)),IF(C17="keine Standardanwendung",(((S17)*T17)+((U17)*V17)+((W17)*X17)+((Y17)*Z17)),"Spalte C ausfüllen")),1) -> 1 | AB17: =IF(R17="Ja",0.95,1) -> 1 | AC17: =IF(M17="","",IF(N17="",((O17/AB17)*P17*AA17),((N17/AB17)*P17*AA17))) | AK17: Direktantrieb | AM17: =IF(AL17="","",VLOOKUP(AL17,Wirkungsgrade!$M$4:$R$5934,6,FALSE)/100) | AN17: =IF(AND(AG17="",AJ17=""),"",IF(AG17="",((0.00272*AH17*AI17)/AJ17/IF(AK17="Keilriemen",0.94,IF(AK17="Flachriemen",0.97,1))/AM17),AG17/IF(AK17="Keilriemen",0.94,IF(AK17="Flachriemen",0.97,1))/AM17)) | AO17: =IF(P17="","",P17) | AP17: =IF(P17=AO17,"-","") -> - | AR17: =IF(AQ17="Nein","-",100%) -> 1 | AS17: =IF(AQ17="Nein","-",IF(AQ17="Ja","bitte eintragen","")) | AT17: =IF(AQ17="Nein","-",75%) -> 0.75 | AU17: =IF(AQ17="Nein","-",IF(AQ17="Ja","bitte eintragen","")) | AV17: =IF(AQ17="Nein","-",50%) -> 0.5 | AW17: =IF(AQ17="Nein","-",IF(AQ17="Ja","bitte eintragen","")) | AX17: =IF(AQ17="Nein","-",25%) -> 0.25 | AY17: =IF(AQ17="Nein","-",IF(AQ17="Ja","bitte eintragen","")) | AZ17: =IF(AQ17="Ja",IF(C17="Standardanwendung",(((AR17^2.8)*AS17)+((AT17^2.8)*AU17)+((AV17^2.8)*AW17)+((AX17^2.8)*AY17)),IF(C17="keine Standardanwendung",(((AR17)*AS17)+((AT17)*AU17)+((AV17)*AW17)+((AX17)*AY17)),"Spalte C ausfüllen")),1) -> 1 | BA17: =IF(AQ17="Ja",0.98,1) -> 1 | BB17: =IF(AN17="","",(AN17/BA17)*AO17*AZ17) | BD17: =IF(AC17="","",IF(BB17="","",AC17-BB17)) | BE17: =IF(AD17="","",IF(BC17="","",AD17-BC17)) | BF17: =IF(BE17="","",IF(BE17>80%,"Stromeinsparung sehr hoch -> bitte überprüfen Sie die Angaben",""))
A18: 8 | K18: Direktantrieb | M18: =IF(L18="","",VLOOKUP(L18,Wirkungsgrade!$M$4:$R$5934,3,FALSE)/100) | N18: =IF(AND(G18="",J18=""),"",IF(G18="",((0.00272*H18*I18)/J18/IF(K18="Keilriemen",0.94,IF(K18="Flachriemen",0.97,1))/M18),G18/IF(K18="Keilriemen",0.94,IF(K18="Flachriemen",0.97,1))/M18)) | O18: =IF(L18="","",L18*0.8/M18) | S18: =IF(R18="Nein","-",100%) -> 1 | T18: =IF(R18="Nein","-",IF(R18="Ja","bitte eintragen","")) | U18: =IF(R18="Nein","-",75%) -> 0.75 | V18: =IF(R18="Nein","-",IF(R18="Ja","bitte eintragen","")) | W18: =IF(R18="Nein","-",50%) -> 0.5 | X18: =IF(R18="Nein","-",IF(R18="Ja","bitte eintragen","")) | Y18: =IF(R18="Nein","-",25%) -> 0.25 | Z18: =IF(R18="Nein","-",IF(R18="Ja","bitte eintragen","")) | AA18: =IF(R18="Ja",IF(C18="Standardanwendung",(((S18^2.8)*T18)+((U18^2.8)*V18)+((W18^2.8)*X18)+((Y18^2.8)*Z18)),IF(C18="keine Standardanwendung",(((S18)*T18)+((U18)*V18)+((W18)*X18)+((Y18)*Z18)),"Spalte C ausfüllen")),1) -> 1 | AB18: =IF(R18="Ja",0.95,1) -> 1 | AC18: =IF(M18="","",IF(N18="",((O18/AB18)*P18*AA18),((N18/AB18)*P18*AA18))) | AK18: Direktantrieb | AM18: =IF(AL18="","",VLOOKUP(AL18,Wirkungsgrade!$M$4:$R$5934,6,FALSE)/100) | AN18: =IF(AND(AG18="",AJ18=""),"",IF(AG18="",((0.00272*AH18*AI18)/AJ18/IF(AK18="Keilriemen",0.94,IF(AK18="Flachriemen",0.97,1))/AM18),AG18/IF(AK18="Keilriemen",0.94,IF(AK18="Flachriemen",0.97,1))/AM18)) | AO18: =IF(P18="","",P18) | AP18: =IF(P18=AO18,"-","") -> - | AR18: =IF(AQ18="Nein","-",100%) -> 1 | AS18: =IF(AQ18="Nein","-",IF(AQ18="Ja","bitte eintragen","")) | AT18: =IF(AQ18="Nein","-",75%) -> 0.75 | AU18: =IF(AQ18="Nein","-",IF(AQ18="Ja","bitte eintragen","")) | AV18: =IF(AQ18="Nein","-",50%) -> 0.5 | AW18: =IF(AQ18="Nein","-",IF(AQ18="Ja","bitte eintragen","")) | AX18: =IF(AQ18="Nein","-",25%) -> 0.25 | AY18: =IF(AQ18="Nein","-",IF(AQ18="Ja","bitte eintragen","")) | AZ18: =IF(AQ18="Ja",IF(C18="Standardanwendung",(((AR18^2.8)*AS18)+((AT18^2.8)*AU18)+((AV18^2.8)*AW18)+((AX18^2.8)*AY18)),IF(C18="keine Standardanwendung",(((AR18)*AS18)+((AT18)*AU18)+((AV18)*AW18)+((AX18)*AY18)),"Spalte C ausfüllen")),1) -> 1 | BA18: =IF(AQ18="Ja",0.98,1) -> 1 | BB18: =IF(AN18="","",(AN18/BA18)*AO18*AZ18) | BD18: =IF(AC18="","",IF(BB18="","",AC18-BB18)) | BE18: =IF(AD18="","",IF(BC18="","",AD18-BC18)) | BF18: =IF(BE18="","",IF(BE18>80%,"Stromeinsparung sehr hoch -> bitte überprüfen Sie die Angaben",""))
A19: 9 | K19: Direktantrieb | M19: =IF(L19="","",VLOOKUP(L19,Wirkungsgrade!$M$4:$R$5934,3,FALSE)/100) | N19: =IF(AND(G19="",J19=""),"",IF(G19="",((0.00272*H19*I19)/J19/IF(K19="Keilriemen",0.94,IF(K19="Flachriemen",0.97,1))/M19),G19/IF(K19="Keilriemen",0.94,IF(K19="Flachriemen",0.97,1))/M19)) | O19: =IF(L19="","",L19*0.8/M19) | S19: =IF(R19="Nein","-",100%) -> 1 | T19: =IF(R19="Nein","-",IF(R19="Ja","bitte eintragen","")) | U19: =IF(R19="Nein","-",75%) -> 0.75 | V19: =IF(R19="Nein","-",IF(R19="Ja","bitte eintragen","")) | W19: =IF(R19="Nein","-",50%) -> 0.5 | X19: =IF(R19="Nein","-",IF(R19="Ja","bitte eintragen","")) | Y19: =IF(R19="Nein","-",25%) -> 0.25 | Z19: =IF(R19="Nein","-",IF(R19="Ja","bitte eintragen","")) | AA19: =IF(R19="Ja",IF(C19="Standardanwendung",(((S19^2.8)*T19)+((U19^2.8)*V19)+((W19^2.8)*X19)+((Y19^2.8)*Z19)),IF(C19="keine Standardanwendung",(((S19)*T19)+((U19)*V19)+((W19)*X19)+((Y19)*Z19)),"Spalte C ausfüllen")),1) -> 1 | AB19: =IF(R19="Ja",0.95,1) -> 1 | AC19: =IF(M19="","",IF(N19="",((O19/AB19)*P19*AA19),((N19/AB19)*P19*AA19))) | AK19: Direktantrieb | AM19: =IF(AL19="","",VLOOKUP(AL19,Wirkungsgrade!$M$4:$R$5934,6,FALSE)/100) | AN19: =IF(AND(AG19="",AJ19=""),"",IF(AG19="",((0.00272*AH19*AI19)/AJ19/IF(AK19="Keilriemen",0.94,IF(AK19="Flachriemen",0.97,1))/AM19),AG19/IF(AK19="Keilriemen",0.94,IF(AK19="Flachriemen",0.97,1))/AM19)) | AO19: =IF(P19="","",P19) | AP19: =IF(P19=AO19,"-","") -> - | AR19: =IF(AQ19="Nein","-",100%) -> 1 | AS19: =IF(AQ19="Nein","-",IF(AQ19="Ja","bitte eintragen","")) | AT19: =IF(AQ19="Nein","-",75%) -> 0.75 | AU19: =IF(AQ19="Nein","-",IF(AQ19="Ja","bitte eintragen","")) | AV19: =IF(AQ19="Nein","-",50%) -> 0.5 | AW19: =IF(AQ19="Nein","-",IF(AQ19="Ja","bitte eintragen","")) | AX19: =IF(AQ19="Nein","-",25%) -> 0.25 | AY19: =IF(AQ19="Nein","-",IF(AQ19="Ja","bitte eintragen","")) | AZ19: =IF(AQ19="Ja",IF(C19="Standardanwendung",(((AR19^2.8)*AS19)+((AT19^2.8)*AU19)+((AV19^2.8)*AW19)+((AX19^2.8)*AY19)),IF(C19="keine Standardanwendung",(((AR19)*AS19)+((AT19)*AU19)+((AV19)*AW19)+((AX19)*AY19)),"Spalte C ausfüllen")),1) -> 1 | BA19: =IF(AQ19="Ja",0.98,1) -> 1 | BB19: =IF(AN19="","",(AN19/BA19)*AO19*AZ19) | BD19: =IF(AC19="","",IF(BB19="","",AC19-BB19)) | BE19: =IF(AD19="","",IF(BC19="","",AD19-BC19)) | BF19: =IF(BE19="","",IF(BE19>80%,"Stromeinsparung sehr hoch -> bitte überprüfen Sie die Angaben",""))
A20: 10 | K20: Direktantrieb | M20: =IF(L20="","",VLOOKUP(L20,Wirkungsgrade!$M$4:$R$5934,3,FALSE)/100) | N20: =IF(AND(G20="",J20=""),"",IF(G20="",((0.00272*H20*I20)/J20/IF(K20="Keilriemen",0.94,IF(K20="Flachriemen",0.97,1))/M20),G20/IF(K20="Keilriemen",0.94,IF(K20="Flachriemen",0.97,1))/M20)) | O20: =IF(L20="","",L20*0.8/M20) | S20: =IF(R20="Nein","-",100%) -> 1 | T20: =IF(R20="Nein","-",IF(R20="Ja","bitte eintragen","")) | U20: =IF(R20="Nein","-",75%) -> 0.75 | V20: =IF(R20="Nein","-",IF(R20="Ja","bitte eintragen","")) | W20: =IF(R20="Nein","-",50%) -> 0.5 | X20: =IF(R20="Nein","-",IF(R20="Ja","bitte eintragen","")) | Y20: =IF(R20="Nein","-",25%) -> 0.25 | Z20: =IF(R20="Nein","-",IF(R20="Ja","bitte eintragen","")) | AA20: =IF(R20="Ja",IF(C20="Standardanwendung",(((S20^2.8)*T20)+((U20^2.8)*V20)+((W20^2.8)*X20)+((Y20^2.8)*Z20)),IF(C20="keine Standardanwendung",(((S20)*T20)+((U20)*V20)+((W20)*X20)+((Y20)*Z20)),"Spalte C ausfüllen")),1) -> 1 | AB20: =IF(R20="Ja",0.95,1) -> 1 | AC20: =IF(M20="","",IF(N20="",((O20/AB20)*P20*AA20),((N20/AB20)*P20*AA20))) | AK20: Direktantrieb | AM20: =IF(AL20="","",VLOOKUP(AL20,Wirkungsgrade!$M$4:$R$5934,6,FALSE)/100) | AN20: =IF(AND(AG20="",AJ20=""),"",IF(AG20="",((0.00272*AH20*AI20)/AJ20/IF(AK20="Keilriemen",0.94,IF(AK20="Flachriemen",0.97,1))/AM20),AG20/IF(AK20="Keilriemen",0.94,IF(AK20="Flachriemen",0.97,1))/AM20)) | AO20: =IF(P20="","",P20) | AP20: =IF(P20=AO20,"-","") -> - | AR20: =IF(AQ20="Nein","-",100%) -> 1 | AS20: =IF(AQ20="Nein","-",IF(AQ20="Ja","bitte eintragen","")) | AT20: =IF(AQ20="Nein","-",75%) -> 0.75 | AU20: =IF(AQ20="Nein","-",IF(AQ20="Ja","bitte eintragen","")) | AV20: =IF(AQ20="Nein","-",50%) -> 0.5 | AW20: =IF(AQ20="Nein","-",IF(AQ20="Ja","bitte eintragen","")) | AX20: =IF(AQ20="Nein","-",25%) -> 0.25 | AY20: =IF(AQ20="Nein","-",IF(AQ20="Ja","bitte eintragen","")) | AZ20: =IF(AQ20="Ja",IF(C20="Standardanwendung",(((AR20^2.8)*AS20)+((AT20^2.8)*AU20)+((AV20^2.8)*AW20)+((AX20^2.8)*AY20)),IF(C20="keine Standardanwendung",(((AR20)*AS20)+((AT20)*AU20)+((AV20)*AW20)+((AX20)*AY20)),"Spalte C ausfüllen")),1) -> 1 | BA20: =IF(AQ20="Ja",0.98,1) -> 1 | BB20: =IF(AN20="","",(AN20/BA20)*AO20*AZ20) | BD20: =IF(AC20="","",IF(BB20="","",AC20-BB20)) | BE20: =IF(AD20="","",IF(BC20="","",AD20-BC20)) | BF20: =IF(BE20="","",IF(BE20>80%,"Stromeinsparung sehr hoch -> bitte überprüfen Sie die Angaben",""))
A21: 11 | K21: Direktantrieb | M21: =IF(L21="","",VLOOKUP(L21,Wirkungsgrade!$M$4:$R$5934,3,FALSE)/100) | N21: =IF(AND(G21="",J21=""),"",IF(G21="",((0.00272*H21*I21)/J21/IF(K21="Keilriemen",0.94,IF(K21="Flachriemen",0.97,1))/M21),G21/IF(K21="Keilriemen",0.94,IF(K21="Flachriemen",0.97,1))/M21)) | O21: =IF(L21="","",L21*0.8/M21) | S21: =IF(R21="Nein","-",100%) -> 1 | T21: =IF(R21="Nein","-",IF(R21="Ja","bitte eintragen","")) | U21: =IF(R21="Nein","-",75%) -> 0.75 | V21: =IF(R21="Nein","-",IF(R21="Ja","bitte eintragen","")) | W21: =IF(R21="Nein","-",50%) -> 0.5 | X21: =IF(R21="Nein","-",IF(R21="Ja","bitte eintragen","")) | Y21: =IF(R21="Nein","-",25%) -> 0.25 | Z21: =IF(R21="Nein","-",IF(R21="Ja","bitte eintragen","")) | AA21: =IF(R21="Ja",IF(C21="Standardanwendung",(((S21^2.8)*T21)+((U21^2.8)*V21)+((W21^2.8)*X21)+((Y21^2.8)*Z21)),IF(C21="keine Standardanwendung",(((S21)*T21)+((U21)*V21)+((W21)*X21)+((Y21)*Z21)),"Spalte C ausfüllen")),1) -> 1 | AB21: =IF(R21="Ja",0.95,1) -> 1 | AC21: =IF(M21="","",IF(N21="",((O21/AB21)*P21*AA21),((N21/AB21)*P21*AA21))) | AK21: Direktantrieb | AM21: =IF(AL21="","",VLOOKUP(AL21,Wirkungsgrade!$M$4:$R$5934,6,FALSE)/100) | AN21: =IF(AND(AG21="",AJ21=""),"",IF(AG21="",((0.00272*AH21*AI21)/AJ21/IF(AK21="Keilriemen",0.94,IF(AK21="Flachriemen",0.97,1))/AM21),AG21/IF(AK21="Keilriemen",0.94,IF(AK21="Flachriemen",0.97,1))/AM21)) | AO21: =IF(P21="","",P21) | AP21: =IF(P21=AO21,"-","") -> - | AR21: =IF(AQ21="Nein","-",100%) -> 1 | AS21: =IF(AQ21="Nein","-",IF(AQ21="Ja","bitte eintragen","")) | AT21: =IF(AQ21="Nein","-",75%) -> 0.75 | AU21: =IF(AQ21="Nein","-",IF(AQ21="Ja","bitte eintragen","")) | AV21: =IF(AQ21="Nein","-",50%) -> 0.5 | AW21: =IF(AQ21="Nein","-",IF(AQ21="Ja","bitte eintragen","")) | AX21: =IF(AQ21="Nein","-",25%) -> 0.25 | AY21: =IF(AQ21="Nein","-",IF(AQ21="Ja","bitte eintragen","")) | AZ21: =IF(AQ21="Ja",IF(C21="Standardanwendung",(((AR21^2.8)*AS21)+((AT21^2.8)*AU21)+((AV21^2.8)*AW21)+((AX21^2.8)*AY21)),IF(C21="keine Standardanwendung",(((AR21)*AS21)+((AT21)*AU21)+((AV21)*AW21)+((AX21)*AY21)),"Spalte C ausfüllen")),1) -> 1 | BA21: =IF(AQ21="Ja",0.98,1) -> 1 | BB21: =IF(AN21="","",(AN21/BA21)*AO21*AZ21) | BD21: =IF(AC21="","",IF(BB21="","",AC21-BB21)) | BE21: =IF(AD21="","",IF(BC21="","",AD21-BC21)) | BF21: =IF(BE21="","",IF(BE21>80%,"Stromeinsparung sehr hoch -> bitte überprüfen Sie die Angaben",""))
A22: 12 | K22: Direktantrieb | M22: =IF(L22="","",VLOOKUP(L22,Wirkungsgrade!$M$4:$R$5934,3,FALSE)/100) | N22: =IF(AND(G22="",J22=""),"",IF(G22="",((0.00272*H22*I22)/J22/IF(K22="Keilriemen",0.94,IF(K22="Flachriemen",0.97,1))/M22),G22/IF(K22="Keilriemen",0.94,IF(K22="Flachriemen",0.97,1))/M22)) | O22: =IF(L22="","",L22*0.8/M22) | S22: =IF(R22="Nein","-",100%) -> 1 | T22: =IF(R22="Nein","-",IF(R22="Ja","bitte eintragen","")) | U22: =IF(R22="Nein","-",75%) -> 0.75 | V22: =IF(R22="Nein","-",IF(R22="Ja","bitte eintragen","")) | W22: =IF(R22="Nein","-",50%) -> 0.5 | X22: =IF(R22="Nein","-",IF(R22="Ja","bitte eintragen","")) | Y22: =IF(R22="Nein","-",25%) -> 0.25 | Z22: =IF(R22="Nein","-",IF(R22="Ja","bitte eintragen","")) | AA22: =IF(R22="Ja",IF(C22="Standardanwendung",(((S22^2.8)*T22)+((U22^2.8)*V22)+((W22^2.8)*X22)+((Y22^2.8)*Z22)),IF(C22="keine Standardanwendung",(((S22)*T22)+((U22)*V22)+((W22)*X22)+((Y22)*Z22)),"Spalte C ausfüllen")),1) -> 1 | AB22: =IF(R22="Ja",0.95,1) -> 1 | AC22: =IF(M22="","",IF(N22="",((O22/AB22)*P22*AA22),((N22/AB22)*P22*AA22))) | AK22: Direktantrieb | AM22: =IF(AL22="","",VLOOKUP(AL22,Wirkungsgrade!$M$4:$R$5934,6,FALSE)/100) | AN22: =IF(AND(AG22="",AJ22=""),"",IF(AG22="",((0.00272*AH22*AI22)/AJ22/IF(AK22="Keilriemen",0.94,IF(AK22="Flachriemen",0.97,1))/AM22),AG22/IF(AK22="Keilriemen",0.94,IF(AK22="Flachriemen",0.97,1))/AM22)) | AO22: =IF(P22="","",P22) | AP22: =IF(P22=AO22,"-","") -> - | AR22: =IF(AQ22="Nein","-",100%) -> 1 | AS22: =IF(AQ22="Nein","-",IF(AQ22="Ja","bitte eintragen","")) | AT22: =IF(AQ22="Nein","-",75%) -> 0.75 | AU22: =IF(AQ22="Nein","-",IF(AQ22="Ja","bitte eintragen","")) | AV22: =IF(AQ22="Nein","-",50%) -> 0.5 | AW22: =IF(AQ22="Nein","-",IF(AQ22="Ja","bitte eintragen","")) | AX22: =IF(AQ22="Nein","-",25%) -> 0.25 | AY22: =IF(AQ22="Nein","-",IF(AQ22="Ja","bitte eintragen","")) | AZ22: =IF(AQ22="Ja",IF(C22="Standardanwendung",(((AR22^2.8)*AS22)+((AT22^2.8)*AU22)+((AV22^2.8)*AW22)+((AX22^2.8)*AY22)),IF(C22="keine Standardanwendung",(((AR22)*AS22)+((AT22)*AU22)+((AV22)*AW22)+((AX22)*AY22)),"Spalte C ausfüllen")),1) -> 1 | BA22: =IF(AQ22="Ja",0.98,1) -> 1 | BB22: =IF(AN22="","",(AN22/BA22)*AO22*AZ22) | BD22: =IF(AC22="","",IF(BB22="","",AC22-BB22)) | BE22: =IF(AD22="","",IF(BC22="","",AD22-BC22)) | BF22: =IF(BE22="","",IF(BE22>80%,"Stromeinsparung sehr hoch -> bitte überprüfen Sie die Angaben",""))
A23: 13 | K23: Direktantrieb | M23: =IF(L23="","",VLOOKUP(L23,Wirkungsgrade!$M$4:$R$5934,3,FALSE)/100) | N23: =IF(AND(G23="",J23=""),"",IF(G23="",((0.00272*H23*I23)/J23/IF(K23="Keilriemen",0.94,IF(K23="Flachriemen",0.97,1))/M23),G23/IF(K23="Keilriemen",0.94,IF(K23="Flachriemen",0.97,1))/M23)) | O23: =IF(L23="","",L23*0.8/M23) | S23: =IF(R23="Nein","-",100%) -> 1 | T23: =IF(R23="Nein","-",IF(R23="Ja","bitte eintragen","")) | U23: =IF(R23="Nein","-",75%) -> 0.75 | V23: =IF(R23="Nein","-",IF(R23="Ja","bitte eintragen","")) | W23: =IF(R23="Nein","-",50%) -> 0.5 | X23: =IF(R23="Nein","-",IF(R23="Ja","bitte eintragen","")) | Y23: =IF(R23="Nein","-",25%) -> 0.25 | Z23: =IF(R23="Nein","-",IF(R23="Ja","bitte eintragen","")) | AA23: =IF(R23="Ja",IF(C23="Standardanwendung",(((S23^2.8)*T23)+((U23^2.8)*V23)+((W23^2.8)*X23)+((Y23^2.8)*Z23)),IF(C23="keine Standardanwendung",(((S23)*T23)+((U23)*V23)+((W23)*X23)+((Y23)*Z23)),"Spalte C ausfüllen")),1) -> 1 | AB23: =IF(R23="Ja",0.95,1) -> 1 | AC23: =IF(M23="","",IF(N23="",((O23/AB23)*P23*AA23),((N23/AB23)*P23*AA23))) | AK23: Direktantrieb | AM23: =IF(AL23="","",VLOOKUP(AL23,Wirkungsgrade!$M$4:$R$5934,6,FALSE)/100) | AN23: =IF(AND(AG23="",AJ23=""),"",IF(AG23="",((0.00272*AH23*AI23)/AJ23/IF(AK23="Keilriemen",0.94,IF(AK23="Flachriemen",0.97,1))/AM23),AG23/IF(AK23="Keilriemen",0.94,IF(AK23="Flachriemen",0.97,1))/AM23)) | AO23: =IF(P23="","",P23) | AP23: =IF(P23=AO23,"-","") -> - | AR23: =IF(AQ23="Nein","-",100%) -> 1 | AS23: =IF(AQ23="Nein","-",IF(AQ23="Ja","bitte eintragen","")) | AT23: =IF(AQ23="Nein","-",75%) -> 0.75 | AU23: =IF(AQ23="Nein","-",IF(AQ23="Ja","bitte eintragen","")) | AV23: =IF(AQ23="Nein","-",50%) -> 0.5 | AW23: =IF(AQ23="Nein","-",IF(AQ23="Ja","bitte eintragen","")) | AX23: =IF(AQ23="Nein","-",25%) -> 0.25 | AY23: =IF(AQ23="Nein","-",IF(AQ23="Ja","bitte eintragen","")) | AZ23: =IF(AQ23="Ja",IF(C23="Standardanwendung",(((AR23^2.8)*AS23)+((AT23^2.8)*AU23)+((AV23^2.8)*AW23)+((AX23^2.8)*AY23)),IF(C23="keine Standardanwendung",(((AR23)*AS23)+((AT23)*AU23)+((AV23)*AW23)+((AX23)*AY23)),"Spalte C ausfüllen")),1) -> 1 | BA23: =IF(AQ23="Ja",0.98,1) -> 1 | BB23: =IF(AN23="","",(AN23/BA23)*AO23*AZ23) | BD23: =IF(AC23="","",IF(BB23="","",AC23-BB23)) | BE23: =IF(AD23="","",IF(BC23="","",AD23-BC23)) | BF23: =IF(BE23="","",IF(BE23>80%,"Stromeinsparung sehr hoch -> bitte überprüfen Sie die Angaben",""))
... A60: 50 | K60: Direktantrieb | M60: =IF(L60="","",VLOOKUP(L60,Wirkungsgrade!$M$4:$R$5934,3,FALSE)/100) | N60: =IF(AND(G60="",J60=""),"",IF(G60="",((0.00272*H60*I60)/J60/IF(K60="Keilriemen",0.94,IF(K60="Flachriemen",0.97,1))/M60),G60/IF(K60="Keilriemen",0.94,IF(K60="Flachriemen",0.97,1))/M60)) | O60: =IF(L60="","",L60*0.8/M60) | S60: =IF(R60="Nein","-",100%) -> 1 | T60: =IF(R60="Nein","-",IF(R60="Ja","bitte eintragen","")) | U60: =IF(R60="Nein","-",75%) -> 0.75 | V60: =IF(R60="Nein","-",IF(R60="Ja","bitte eintragen","")) | W60: =IF(R60="Nein","-",50%) -> 0.5 | X60: =IF(R60="Nein","-",IF(R60="Ja","bitte eintragen","")) | Y60: =IF(R60="Nein","-",25%) -> 0.25 | Z60: =IF(R60="Nein","-",IF(R60="Ja","bitte eintragen","")) | AA60: =IF(R60="Ja",IF(C60="Standardanwendung",(((S60^2.8)*T60)+((U60^2.8)*V60)+((W60^2.8)*X60)+((Y60^2.8)*Z60)),IF(C60="keine Standardanwendung",(((S60)*T60)+((U60)*V60)+((W60)*X60)+((Y60)*Z60)),"Spalte C ausfüllen")),1) -> 1 | AB60: =IF(R60="Ja",0.95,1) -> 1 | AC60: =IF(M60="","",IF(N60="",((O60/AB60)*P60*AA60),((N60/AB60)*P60*AA60))) | AK60: Direktantrieb | AM60: =IF(AL60="","",VLOOKUP(AL60,Wirkungsgrade!$M$4:$R$5934,6,FALSE)/100) | AN60: =IF(AND(AG60="",AJ60=""),"",IF(AG60="",((0.00272*AH60*AI60)/AJ60/IF(AK60="Keilriemen",0.94,IF(AK60="Flachriemen",0.97,1))/AM60),AG60/IF(AK60="Keilriemen",0.94,IF(AK60="Flachriemen",0.97,1))/AM60)) | AO60: =IF(P60="","",P60) | AP60: =IF(P60=AO60,"-","") -> - | AR60: =IF(AQ60="Nein","-",100%) -> 1 | AS60: =IF(AQ60="Nein","-",IF(AQ60="Ja","bitte eintragen","")) | AT60: =IF(AQ60="Nein","-",75%) -> 0.75 | AU60: =IF(AQ60="Nein","-",IF(AQ60="Ja","bitte eintragen","")) | AV60: =IF(AQ60="Nein","-",50%) -> 0.5 | AW60: =IF(AQ60="Nein","-",IF(AQ60="Ja","bitte eintragen","")) | AX60: =IF(AQ60="Nein","-",25%) -> 0.25 | AY60: =IF(AQ60="Nein","-",IF(AQ60="Ja","bitte eintragen","")) | AZ60: =IF(AQ60="Ja",IF(C60="Standardanwendung",(((AR60^2.8)*AS60)+((AT60^2.8)*AU60)+((AV60^2.8)*AW60)+((AX60^2.8)*AY60)),IF(C60="keine Standardanwendung",(((AR60)*AS60)+((AT60)*AU60)+((AV60)*AW60)+((AX60)*AY60)),"Spalte C ausfüllen")),1) -> 1 | BA60: =IF(AQ60="Ja",0.98,1) -> 1 | BB60: =IF(AN60="","",(AN60/BA60)*AO60*AZ60) | BD60: =IF(AC60="","",IF(BB60="","",AC60-BB60)) | BE60: =IF(AD60="","",IF(BC60="","",AD60-BC60)) | BF60: =IF(BE60="","",IF(BE60>80%,"Stromeinsparung sehr hoch -> bitte überprüfen Sie die Angaben",""))
N61: =SUM(N11:N60) -> 0 | O61: =SUM(O11:O60) -> 0 | AC61: =SUM(AC11:AC60) -> 0 | AN61: =SUM(AN11:AN60) -> 0 | BB61: =SUM(BB11:BB60) -> 0 | BD61: =SUM(BD11:BD60) -> 0

Sheet Biral
B1: Neue Biral Pumpen
A2: Nr | B2: Typ | C2: Bemerkung | D2: Anschluss G/F | E2: EEI | F2: Förderhöhe max | G2: Max. Leistungsaufnahme P1 | H2: Druck (bar) | I2: Min | J2: Max | K2: Faktor für PUMPEN 2 | L2: Anrechenbare Leistung PUMPEN 2
F3: [m] | G3: [W] | I3: [W] | J3: [W] | L3: [W]
A4: 63 | B4: ModulA 50-18 270 | D4: 6- 16 | E4: 0.17 | F4: 18 | G4: 767 | H4: 16 | I4: 190 | J4: 730 | K4: 0.4 | L4: =(I4+J4)*K4 -> 368
A5: 76 | B5: ModulA 65-8 | E5: 0.17 | F5: 6.6 | K5: 0.4 | L5: 181
A6: 77 | B6: ModulA 65-8 270 | D6: 6- 16 | E6: 0.17 | F6: 7 | H6: 16 | I6: 100 | J6: 462.5 | K6: 0.4 | L6: =(I6+J6)*K6 -> 225
A7: 72 | B7: ModulA 65-12 340 | D7: 6- 16 | E7: 0.17 | F7: 12 | G7: 759 | H7: 16 | I7: 150 | J7: 730 | K7: 0.4 | L7: =(I7+J7)*K7 -> 352
A8: 74 | B8: ModulA 65-15 340 | D8: 6- 16 | E8: 0.17 | F8: 15 | G8: 1343 | H8: 16 | I8: 220 | J8: 1250 | K8: 0.4 | L8: =(I8+J8)*K8 -> 588
A9: 223 | B9: ModulA 80-8 | E9: 0.17 | F9: 7 | K9: 0.4 | L9: 268
A10: 224 | B10: ModulA 80-8 360 PN10/16 | D10: =#REF!&" "&#REF! -> #REF! | E10: 0.17 | F10: 7 | H10: 16 | I10: 190 | J10: 700 | K10: 0.4 | L10: =(I10+J10)*K10 -> 356
A11: 226 | B11: ModulA 80-8 360 PN6 | D11: =#REF!&" "&#REF! -> #REF! | E11: 0.17 | F11: 7 | H11: 6 | I11: 190 | J11: 700 | K11: 0.4 | L11: =(I11+J11)*K11 -> 356
A12: 79 | B12: ModulA 80-12 360 PN10/16 | D12: =#REF!&" "&#REF! -> #REF! | E12: 0.17 | F12: 12 | G12: 1476 | H12: 16 | I12: 210 | J12: 1250 | K12: 0.4 | L12: =(I12+J12)*K12 -> 584
A13: 221 | B13: ModulA 80-12 360 PN6 | D13: =#REF!&" "&#REF! -> #REF! | E13: 0.17 | F13: 12 | G13: 1476 | H13: 6 | I13: 210 | J13: 1250 | K13: 0.4 | L13: =(I13+J13)*K13 -> 584
A14: 19 | B14: ModulA 100-12 | D14: =#REF!&" "&#REF! -> #REF! | E14: 0.17 | F14: 12 | G14: 1551 | H14: 16 | I14: 200 | J14: 1400 | K14: 0.4 | L14: =(I14+J14)*K14 -> 640 | N14: ModulA 100-12, EEI: 0.17, Fmax: 12 m, anrechenbare Leistung: 530 W gelöscht -> auf der Förderplattform ohne anrechenbare Leistung drin, deshalb dort drin gelassen
A15: 518 | B15: ModulA-D 50-18 270 | D15: 6- 16 | E15: 0.17 | F15: 18 | G15: 767 | H15: 16 | I15: 190 | J15: 730 | K15: 0.4 | L15: =(I15+J15)*K15 -> 368
A16: 521 | B16: ModulA-D 65-12 340 | D16: 6- 16 | E16: 0.17 | F16: 12 | G16: 759 | H16: 16 | I16: 150 | J16: 730 | K16: 0.4 | L16: =(I16+J16)*K16 -> 352
A17: 522 | B17: ModulA-D 65-15 340 | D17: 6- 16 | E17: 0.17 | F17: 15 | G17: 1343 | H17: 16 | I17: 220 | J17: 1250 | K17: 0.4 | L17: =(I17+J17)*K17 -> 588
A18: 523 | B18: ModulA-D 65-8-340 | D18: 6- 16 | E18: 0.17 | F18: 7 | H18: 16 | I18: 100 | J18: 462.5 | K18: 0.4 | L18: =(I18+J18)*K18 -> 225
A19: 524 | B19: ModulA-D 80-12 360 PN10/16 | D19: 6- 16 | E19: 0.17 | F19: 12 | G19: 1476 | H19: 16 | I19: 210 | J19: 1250 | K19: 0.4 | L19: =(I19+J19)*K19 -> 584
A20: 525 | B20: ModulA-D 80-12 360 PN6 | D20: 6 | E20: 0.17 | F20: 12 | G20: 1476 | H20: 6 | I20: 210 | J20: 1250 | K20: 0.4 | L20: =(I20+J20)*K20 -> 584
A21: 526 | B21: ModulA-D 80-8 360 PN10/16 | D21: 6- 16 | E21: 0.17 | F21: 7 | H21: 16 | I21: 190 | J21: 700 | K21: 0.4 | L21: =(I21+J21)*K21 -> 356
A22: 527 | B22: ModulA-D 80-8 360 PN6 | D22: 6 | E22: 0.17 | F22: 7 | H22: 6 | I22: 190 | J22: 700 | K22: 0.4 | L22: =(I22+J22)*K22 -> 356
A23: 228 | B23: ModulA-D 100-12 450 PN10/16 | D23: 6- 16 | E23: 0.17 | F23: 12 | G23: 1551 | H23: 16 | I23: 200 | J23: 1400 | K23: 0.4 | L23: =(I23+J23)*K23 -> 640
A24: 229 | B24: ModulA-D 100-12 450 PN6 | D24: 6 | E24: 0.17 | F24: 12 | G24: 1551 | H24: 6 | I24: 200 | J24: 1400 | K24: 0.4 | L24: =(I24+J24)*K24 -> 640
A25: 528 | B25: PrimAX 15-3 130 | E25: 0.15 | F25: 2.5 | I25: 7 | J25: 15 | K25: 0.4 | L25: =(I25+J25)*K25 -> 8.8
A26: 529 | B26: PrimAX 15-3 RED | E26: 0.15 | F26: 2.3 | K26: 0.4 | L26: 8.2
A27: 530 | B27: PrimAX 15-4 | E27: 0.16 | F27: 3 | I27: 8 | J27: 19 | K27: 0.4 | L27: =(I27+J27)*K27 -> 10.8
A28: 532 | B28: PrimAX 15-6 | E28: 0.17 | F28: 4 | K28: 0.4 | L28: 17.6
A29: 534 | B29: PrimAX 25-3 | E29: 0.15 | F29: 2.5 | I29: 7 | J29: 15 | K29: 0.4 | L29: =(I29+J29)*K29 -> 8.8
A30: 536 | B30: PrimAX 25-3 RED | E30: 0.15 | F30: 2.3 | K30: 0.4 | L30: 8.2
A31: 660 | B31: PrimAX 25-4 | E31: 0.16 | F31: 3 | I31: 8 | J31: 19 | K31: 0.4 | L31: =(I31+J31)*K31 -> 10.8
A32: 662 | B32: PrimAX 25-6 | E32: 0.17 | F32: 4 | K32: 0.4 | L32: 17.6
A33: 664 | B33: PrimAX 32-3 | E33: 0.15 | F33: 2.5 | I33: 7 | J33: 15 | K33: 0.4 | L33: =(I33+J33)*K33 -> 8.8
A34: 666 | B34: PrimAX 32-3 RED | E34: 0.15 | F34: 2.3 | K34: 0.4 | L34: 8.2
A35: 667 | B35: PrimAX 32-4 | E35: 0.16 | F35: 3 | I35: 8 | J35: 19 | K35: 0.4 | L35: =(I35+J35)*K35 -> 10.8
A36: 687 | B36: PrimAX 32-6 | E36: 0.17 | F36: 4 | K36: 0.4 | L36: 17.6
G39: rote Werte: Gegenüber Pumpenmodelliste angepasst auf so wie die Werte für die Förderplattform angegeben wurden

Sheet Grundfos
B1: Neue Grundfos Pumpen
A2: Nr | B2: Typ | C2: Bemerkung | D2: Anschluss G/F | E2: EEI | F2: Förderhöhe max | G2: Max. Leistungsaufnahme P1 | H2: Druck (bar) | I2: Min | J2: Max | K2: Faktor für PUMPEN 2 | L2: Anrechenbare Leistung PUMPEN 2
F3: [m] | G3: [W] | I3: [W] | J3: [W] | L3: [W]
A4: 90 | B4: Alpha 2 15-40 | E4: 0.15 | F4: 3 | K4: 0.4 | L4: 9.8
A5: 108 | B5: Alpha2 15-40 | E5: 0.15 | F5: 3 | H5: 10 | I5: 7 | J5: 16.5 | K5: 0.4 | L5: =(I5+J5)*K5 -> 9.4
A6: 91 | B6: Alpha 2 15-60 | E6: 0.17 | F6: 4.5 | K6: 0.4 | L6: 18.8
A7: 109 | B7: Alpha2 15-60 | E7: 0.17 | F7: 3.5 | H7: 10 | I7: 12.8 | J7: 34 | K7: 0.4 | L7: =(I7+J7)*K7 -> 18.72
A8: 93 | B8: Alpha 2 25-40 | E8: 0.15 | F8: 3 | K8: 0.4 | L8: 9.8
A9: 94 | B9: Alpha 2 25-60 | E9: 0.17 | F9: 4.5 | K9: 0.4 | L9: 18.8
A10: 96 | B10: Alpha 2 32-40 | E10: 0.15 | F10: 3 | K10: 0.4 | L10: 9.8
A11: 97 | B11: Alpha 2 32-60 | E11: 0.17 | F11: 4.5 | K11: 0.4 | L11: 18.8
A12: 99 | B12: Alpha 3 15-40 | E12: 0.15 | F12: 3 | K12: 0.4 | L12: 9.8
A13: 100 | B13: Alpha 3 15-60 | E13: 0.17 | F13: 4.5 | K13: 0.4 | L13: 18.8
A14: 102 | B14: Alpha 3 25-40 | E14: 0.15 | F14: 3 | K14: 0.4 | L14: 9.8
A15: 103 | B15: Alpha 3 25-60 | E15: 0.17 | F15: 4.5 | K15: 0.4 | L15: 18.8
A16: 105 | B16: Alpha 3 32-40 | E16: 0.15 | F16: 3 | K16: 0.4 | L16: 9.8
A17: 106 | B17: Alpha 3 32-60 | E17: 0.17 | F17: 4.5 | K17: 0.4 | L17: 18.8
A18: 110 | B18: Alpha2 25-40 (N) | E18: 0.15 | F18: 3 | H18: 10 | I18: 7.5 | J18: 17.5 | K18: 0.4 | L18: =(I18+J18)*K18 -> 10
A19: 112 | B19: Alpha2 25-60 (N) | E19: 0.17 | F19: 4.5 | H19: 10 | I19: 12.5 | J19: 35 | K19: 0.4 | L19: =(I19+J19)*K19 -> 19
A20: 114 | B20: Alpha2 32-40 (N) | E20: 0.15 | F20: 3 | H20: 10 | I20: 7.5 | J20: 17.5 | K20: 0.4 | L20: =(I20+J20)*K20 -> 10
A21: 115 | B21: Alpha2 32-60 (N) | E21: 0.17 | F21: 4.5 | H21: 10 | I21: 12.5 | J21: 35 | K21: 0.4 | L21: =(I21+J21)*K21 -> 19
B22: MAGNA3 50-120 F (N) | E22: 0.17 | F22: 12 | G22: 498 | K22: 0.4
A23: 160 | B23: MAGNA3 50-150 F (N) | E23: 0.17 | F23: 15 | G23: 601 | H23: 10 | I23: 183 | J23: 600 | K23: 0.4 | L23: =(I23+J23)*K23 -> 313.2
A24: 161 | B24: MAGNA3 50-180 F (N) | E24: 0.17 | F24: 18 | G24: 764 | H24: 10 | I24: 170 | J24: 750 | K24: 0.4 | L24: =(I24+J24)*K24 -> 368
A25: 577 | B25: MAGNA3 65-80 F (N) | E25: 0.17 | F25: 7 | H25: 10 | I25: 125 | J25: 470 | K25: 0.4 | L25: =(I25+J25)*K25 -> 238
A26: 168 | B26: MAGNA3 65-100 F (N) | E26: 0.17 | F26: 9 | H26: 10 | I26: 125 | J26: 600 | K26: 0.4 | L26: =(I26+J26)*K26 -> 290
A27: 169 | B27: MAGNA3 65-120 F (N) | E27: 0.17 | F27: 12 | G27: 763 | H27: 10 | I27: 150 | J27: 750 | K27: 0.4 | L27: =(I27+J27)*K27 -> 360
A28: 170 | B28: MAGNA3 65-150 F (N) | E28: 0.17 | F28: 15 | G28: 1377 | H28: 10 | I28: 260 | J28: 1280 | K28: 0.4 | L28: =(I28+J28)*K28 -> 616
A29: 580 | B29: MAGNA3 80-40 F | E29: 0.17 | F29: 3.7 | H29: 10 | I29: 110 | J29: 250 | K29: 0.4 | L29: =(I29+J29)*K29 -> 144
A30: 581 | B30: MAGNA3 80-40 F | E30: 0.17 | F30: 3.7 | K30: 0.4 | L30: 136
A31: 582 | B31: MAGNA3 80-60 F | E31: 0.17 | F31: 5 | H31: 10 | I31: 150 | J31: 450 | K31: 0.4 | L31: =(I31+J31)*K31 -> 240
A32: 583 | B32: MAGNA3 80-60 F | E32: 0.17 | F32: 5 | K32: 0.4 | L32: 226
A33: 584 | B33: MAGNA3 80-80 F | E33: 0.17 | F33: 7 | H33: 10 | I33: 200 | J33: 700 | K33: 0.4 | L33: =(I33+J33)*K33 -> 360
A34: 585 | B34: MAGNA3 80-80 F | E34: 0.17 | F34: 7 | K34: 0.4 | L34: 356
A35: 578 | B35: MAGNA3 80-100 F | E35: 0.17 | F35: 9 | H35: 10 | I35: 230 | J35: 1040 | K35: 0.4 | L35: =(I35+J35)*K35 -> 508
A36: 579 | B36: MAGNA3 80-120 F | E36: 0.17 | F36: 12 | G36: 1496 | H36: 10 | I36: 280 | J36: 1280 | K36: 0.4 | L36: =(I36+J36)*K36 -> 624
A37: 119 | B37: MAGNA3 100-40 F | E37: 0.17 | F37: 3.7 | H37: 10 | I37: 130 | J37: 275 | K37: 0.4 | L37: =(I37+J37)*K37 -> 162
A38: 120 | B38: MAGNA3 100-40 F | E38: 0.17 | F38: 3.7 | K38: 0.4 | L38: 164
A39: 121 | B39: MAGNA3 100-60 F | E39: 0.17 | F39: 5 | H39: 10 | I39: 175 | J39: 450 | K39: 0.4 | L39: =(I39+J39)*K39 -> 250
A40: 122 | B40: MAGNA3 100-60 F | E40: 0.17 | F40: 4.9 | K40: 0.4 | L40: 240
A41: 123 | B41: MAGNA3 100-80 F | E41: 0.17 | F41: 7 | H41: 10 | I41: 220 | J41: 800 | K41: 0.4 | L41: =(I41+J41)*K41 -> 408
A42: 124 | B42: MAGNA3 100-80 F | E42: 0.17 | F42: 6.8 | K42: 0.4 | L42: 384.5
A43: 117 | B43: MAGNA3 100-100 F | E43: 0.17 | F43: 9 | H43: 10 | I43: 280 | J43: 1220 | K43: 0.4 | L43: =(I43+J43)*K43 -> 600
A44: 118 | B44: MAGNA3 100-120 F | E44: 0.17 | F44: 12 | G44: 1546 | H44: 10 | I44: 300 | J44: 1400 | K44: 0.4 | L44: =(I44+J44)*K44 -> 680
A45: 619 | B45: MAGNA3 D 65-80 F | E45: 0.17 | F45: 7 | H45: 10 | I45: 125 | J45: 470 | K45: 0.4 | L45: =(I45+J45)*K45 -> 238
A46: 614 | B46: MAGNA3 D 65-100 F | E46: 0.17 | F46: 9 | H46: 10 | I46: 150 | J46: 610 | K46: 0.4 | L46: =(I46+J46)*K46 -> 304
A47: 615 | B47: MAGNA3 D 65-120 F | E47: 0.17 | F47: 12 | G47: 777 | H47: 10 | I47: 180 | J47: 750 | K47: 0.4 | L47: =(I47+J47)*K47 -> 372
A48: 616 | B48: MAGNA3 D 65-150 F | E48: 0.17 | F48: 15 | G48: 1409 | H48: 10 | I48: 240 | J48: 1280 | K48: 0.4 | L48: =(I48+J48)*K48 -> 608
A49: 620 | B49: MAGNA3 D 80-100 F | E49: 0.17 | F49: 9 | H49: 10 | I49: 230 | J49: 1040 | K49: 0.4 | L49: =(I49+J49)*K49 -> 508
A50: 621 | B50: MAGNA3 D 80-120 F | E50: 0.17 | F50: 12 | G50: 1508 | H50: 10 | I50: 250 | J50: 1300 | K50: 0.4 | L50: =(I50+J50)*K50 -> 620
A51: 590 | B51: MAGNA3 D 100-80 F | E51: 0.17 | F51: 7 | H51: 10 | I51: 220 | J51: 800 | K51: 0.4 | L51: =(I51+J51)*K51 -> 408
A52: 586 | B52: MAGNA3 D 100-100 F | E52: 0.17 | F52: 9 | H52: 10 | I52: 280 | J52: 1220 | K52: 0.4 | L52: =(I52+J52)*K52 -> 600
A53: 587 | B53: MAGNA3 D 100-120 F | E53: 0.17 | F53: 12 | G53: 1550 | H53: 10 | I53: 300 | J53: 1550 | K53: 0.4 | L53: =(I53+J53)*K53 -> 740

Sheet IMP
B1: Neue IMP Pumpen
A2: Nr | B2: Typ | C2: Bemerkung | D2: Anschluss G/F | E2: EEI | F2: Förderhöhe max | G2: Max. Leistungsaufnahme P1 | H2: Druck (bar) | I2: Min | J2: Max | K2: Faktor für PUMPEN 2 | L2: Anrechenbare Leistung PUMPEN 2
F3: [m] | G3: [W] | I3: [W] | J3: [W] | L3: [W]
A4: 296 | B4: NMT PLUS 15/40-130 | E4: 0.17 | F4: 2.7 | I4: 10 | J4: 13 | K4: 0.4 | L4: =(I4+J4)*K4 -> 9.2
A5: 299 | B5: NMT PLUS 20/40-130 | E5: 0.16 | F5: 2.7 | I5: 9 | J5: 17 | K5: 0.4 | L5: =(I5+J5)*K5 -> 10.4
A6: 300 | B6: NMT PLUS 20/40-180 | E6: 0.16 | F6: 2.6 | I6: 7.5 | J6: 13 | K6: 0.4 | L6: =(I6+J6)*K6 -> 8.2
A7: 305 | B7: NMT PLUS 25/40-130 | E7: 0.16 | F7: 2.7 | I7: 9 | J7: 17 | K7: 0.4 | L7: =(I7+J7)*K7 -> 10.4
A8: 306 | B8: NMT PLUS 25/40-180 | E8: 0.16 | F8: 2.6 | I8: 7.5 | J8: 13 | K8: 0.4 | L8: =(I8+J8)*K8 -> 8.2
A9: 311 | B9: NMT PLUS 32/40-180 | E9: 0.17 | F9: 2.5 | I9: 9 | J9: 15 | K9: 0.4 | L9: =(I9+J9)*K9 -> 9.6
A10: 314 | B10: NMT PLUS ER 15/40-130 | E10: 0.17 | F10: 2.7 | I10: 10 | J10: 13 | K10: 0.4 | L10: =(I10+J10)*K10 -> 9.2
A11: 317 | B11: NMT PLUS ER 20/40-130 | E11: 0.16 | F11: 2.7 | I11: 9 | J11: 17 | K11: 0.4 | L11: =(I11+J11)*K11 -> 10.4
A12: 318 | B12: NMT PLUS ER 20/40-180 | E12: 0.16 | F12: 2.6 | I12: 7.5 | J12: 13 | K12: 0.4 | L12: =(I12+J12)*K12 -> 8.2
A13: 323 | B13: NMT PLUS ER 25/40-130 | E13: 0.16 | F13: 2.7 | I13: 9 | J13: 17 | K13: 0.4 | L13: =(I13+J13)*K13 -> 10.4
A14: 324 | B14: NMT PLUS ER 25/40-180 | E14: 0.16 | F14: 2.6 | I14: 7.5 | J14: 13 | K14: 0.4 | L14: =(I14+J14)*K14 -> 8.2
A15: 329 | B15: NMT PLUS ER 32/40-180 | E15: 0.17 | F15: 2.5 | I15: 9 | J15: 15 | K15: 0.4 | L15: =(I15+J15)*K15 -> 9.6
... A33: 458 | B33: NMTD PLUS 32/40-180 | E33: 0.16 | F33: 2.5 | I33: 9 | J33: 15 | K33: 0.4 | L33: =(I33+J33)*K33 -> 9.6

Sheet KSB
B1: Neue KSB Pumpen
B2: Typ | C2: Bemerkung | D2: Anschluss G/F | E2: EEI | F2: Förderhöhe max | G2: Max. Leistungsaufnahme P1 | H2: Druck (bar) | I2: Min | J2: Max | K2: Faktor für PUMPEN 2 | L2: Anrechenbare Leistung PUMPEN 2
F3: [m] | G3: [W] | I3: [W] | J3: [W] | L3: [W]

Sheet Wilo
B1: Neue Wilo Pumpen | E1: 4 | F1: 5 | G1: 6 | H1: 7 | I1: 8 | J1: 9 | K1: 10 | L1: 11
A2: Nr | B2: Typ | C2: Bemerkung | D2: Anschluss G/F | E2: EEI | F2: Förderhöhe max | G2: Max. Leistungsaufnahme P1 | H2: Druck (bar) | I2: Min | J2: Max | K2: Faktor für PUMPEN 2 | L2: Anrechenbare Leistung PUMPEN 2
G3: [W]
A4: 540 | B4: Stratos MAXO 40/0.5-12 | E4: 0.17 | F4: 12 | G4: 505 | I4: 80 | J4: 440 | K4: 0.4 | L4: =(I4+J4)*K4 -> 208
A5: 219 | B5: Stratos MAXO 40/0,5-16 | E5: 0.17 | F5: 16 | G5: 640 | K5: 0.4
A6: 542 | B6: Stratos MAXO 50/0,5-8 | E6: 0.17 | F6: 8 | K6: 0.4 | L6: 147.6
A7: 543 | B7: Stratos MAXO 50/0,5-9 | E7: 0.17 | F7: 9 | K7: 0.4 | L7: 206
B8: Stratos MAXO 50/0,5-16 | E8: 0.17 | F8: 16 | G8: 1480 | K8: 0.4
A9: 546 | B9: Stratos MAXO 65/0,5-6 | E9: 0.17 | F9: 6 | K9: 0.4 | L9: 142
A10: 547 | B10: Stratos MAXO 65/0,5-9 | E10: 0.17 | F10: 9 | K10: 0.4 | L10: 244.8
A11: 544 | B11: Stratos MAXO 65/0,5-12 | E11: 0.17 | F11: 12 | G11: 950 | K11: 0.4
A12: 545 | B12: Stratos MAXO 65/0,5-16 | E12: 0.17 | F12: 16 | G12: 1440 | K12: 0.4
A13: 551 | B13: Stratos MAXO 80/0,5-6 | E13: 0.17 | F13: 7 | K13: 0.4 | L13: 300
A14: 548 | B14: Stratos MAXO 80/0,5-12 | E14: 0.17 | F14: 12 | G14: 1410 | K14: 0.4
A15: 550 | B15: Stratos MAXO 80/0,5-16 | E15: 0.17 | F15: 16 | G15: 1645 | I15: 200 | J15: 1430 | K15: 0.4 | L15: =(I15+J15)*K15 -> 652 | N15: LAAR: War 2x drin, einmal gelöscht resp. auf Förderplattform archiviert, + PN16 im Namen gelöscht
A16: 206 | B16: Stratos MAXO 100/0,5-6 | E16: 0.17 | F16: 7 | K16: 0.4 | L16: 300
A17: 207 | B17: Stratos MAXO 100/0.5-12 | E17: 0.17 | F17: 12 | G17: 1290 | I17: 200 | J17: 1200 | K17: 0.4 | L17: =(I17+J17)*K17 -> 560 | N17: LAAR: Es gab noch eine "Straso MAXO 100/0.5-12" mit derselben anrechenbaren Leistung (560 W) -> gelöscht. Auf der Förderplattform ist diese Pumpe nur 1x aufgeführt, aber mit einer P1max von 1330 W -> bestehende Pumpe archiviert und neue mit 1290 W erfassen
A18: 553 | B18: Stratos Pico 15/1-4 | E18: 0.17 | F18: 3.7 | I18: 8 | J18: 20 | K18: 0.4 | L18: =(I18+J18)*K18 -> 11.2
A19: 555 | B19: Stratos Pico 25/1-4 | E19: 0.16 | F19: 3.7 | I19: 8 | J19: 20 | K19: 0.4 | L19: =(I19+J19)*K19 -> 11.2
A20: 560 | B20: Stratos Pico 30/1-4 | E20: 0.16 | F20: 3.7 | I20: 8 | J20: 20 | K20: 0.4 | L20: =(I20+J20)*K20 -> 11.2
A21: 562 | B21: Stratos Pico plus 15/1-4 | E21: 0.16 | F21: 3.75 | K21: 0.4 | L21: 11.2
A22: 564 | B22: Stratos Pico plus 25/0.5-4 | E22: 0.16 | F22: 4.1 | I22: 6.5 | J22: 20 | K22: 0.4 | L22: =(I22+J22)*K22 -> 10.6
A23: 566 | B23: Stratos Pico plus 25/1-4 | E23: 0.16 | F23: 3.75 | K23: 0.4 | L23: 11.2
A24: 569 | B24: Stratos Pico plus 30/1-4 | E24: 0.16 | F24: 3.75 | K24: 0.4 | L24: 11.2
A25: 691 | B25: Yonos Pico-Z 25/0,5-4 | I25: 5 | J25: 21 | K25: 0.4 | L25: =(I25+J25)*K25 -> 10.4

Sheet sonstige
B1: Neue Wilo Pumpen
A2: Nr | B2: Hersteller | C2: Typ | D2: Bemerkung | E2: Anschluss G/F | F2: EEI | G2: Förderhöhe max | H2: Max. Leistungsaufnahme P1 | I2: Druck (bar) | J2: Min | K2: Max | L2: Faktor für PUMPEN 2 | M2: Anrechenbare Leistung PUMPEN 2
H3: [W]
B4: Buderus

Sheet Wirkungsgrade
A1: Hilfstabelle Wirkungsgrade für Motoren und Pumpen
A2: Grüne Felder=Eingabe, Dropdown | M2: P2 output | N2: IEO | O2: IE1 | P2: IE2 | Q2: IE3 | R2: IE4
M3: kW | N3: Wirkungsgrad in %
M4: 0.12 | N4: 40 | O4: 50 | P4: 59.1 | Q4: 64.8 | R4: 69.8 | S4: IE0 | T4: 2
A5: Wirkungsgrade in % für 4-polige Elektromotoren für die Effizienzklassen IE1, IE2, IE3 und IE4. | E5: Jahrgang | F5: Eff.-klasse | M5: 0.121 | N5: =N4+0.14 -> 40.14 | O5: =O4+0.1166666666666 -> 50.116667 | P5: =P4+0.0933333333333333 -> 59.193333 | Q5: =Q4+0.085 -> 64.885 | R5: =R4+0.0816666666666666 -> 69.881667 | S5: IE1 | T5: 3
A6: Motorengrösse Nennleistung in kW* | B6: IE Klasse** | C6: Wirkungsgrad | E6: vor 2000 | F6: IEO (EFff3) | M6: 0.122 | N6: =N5+0.14 -> 40.28 | O6: =O5+0.1166666666666 -> 50.233333 | P6: =P5+0.0933333333333333 -> 59.286667 | Q6: =Q5+0.085 -> 64.97 | R6: =R5+0.0816666666666666 -> 69.963333 | S6: IE2 | T6: 4
A7: 20 | B7: IE3 | C7: =VLOOKUP(A7,M4:R5934,VLOOKUP(B7,S4:T8,2,FALSE),FALSE)/100 -> 0.92771429 | E7: ab 2000 | F7: IE1 (Eff2) | M7: 0.123 | N7: =N6+0.14 -> 40.42 | O7: =O6+0.1166666666666 -> 50.35 | P7: =P6+0.0933333333333333 -> 59.38 | Q7: =Q6+0.085 -> 65.055 | R7: =R6+0.0816666666666666 -> 70.045 | S7: IE3 | T7: 5
E8: ab 2012 | F8: IE2 (Eff1) | M8: 0.124 | N8: =N7+0.14 -> 40.56 | O8: =O7+0.1166666666666 -> 50.466667 | P8: =P7+0.0933333333333333 -> 59.473333 | Q8: =Q7+0.085 -> 65.14 | R8: =R7+0.0816666666666666 -> 70.126667 | S8: IE4 | T8: 6
E9: ab 2015 | F9: IE3 | M9: 0.125 | N9: =N8+0.14 -> 40.7 | O9: =O8+0.1166666666666 -> 50.583333 | P9: =P8+0.0933333333333333 -> 59.566667 | Q9: =Q8+0.085 -> 65.225 | R9: =R8+0.0816666666666666 -> 70.208333
A10: *=Ablesen von Motorentypenschild | M10: 0.126 | N10: =N9+0.14 -> 40.84 | O10: =O9+0.1166666666666 -> 50.7 | P10: =P9+0.0933333333333333 -> 59.66 | Q10: =Q9+0.085 -> 65.31 | R10: =R9+0.0816666666666666 -> 70.29
A11: **=Falls unbekannt, kann man mittels des Jahrgangs des Motors die Effizienzklasse aus der Tabelle Rechts auslesen | M11: 0.127 | N11: =N10+0.14 -> 40.98 | O11: =O10+0.1166666666666 -> 50.816667 | P11: =P10+0.0933333333333333 -> 59.753333 | Q11: =Q10+0.085 -> 65.395 | R11: =R10+0.0816666666666666 -> 70.371667
M12: 0.128 | N12: =N11+0.14 -> 41.12 | O12: =O11+0.1166666666666 -> 50.933333 | P12: =P11+0.0933333333333333 -> 59.846667 | Q12: =Q11+0.085 -> 65.48 | R12: =R11+0.0816666666666666 -> 70.453333
M13: 0.129 | N13: =N12+0.14 -> 41.26 | O13: =O12+0.1166666666666 -> 51.05 | P13: =P12+0.0933333333333333 -> 59.94 | Q13: =Q12+0.085 -> 65.565 | R13: =R12+0.0816666666666666 -> 70.535
A14: Wirkungsgrad Pumpe | M14: 0.13 | N14: =N13+0.14 -> 41.4 | O14: =O13+0.1166666666666 -> 51.166667 | P14: =P13+0.0933333333333333 -> 60.033333 | Q14: =Q13+0.085 -> 65.65 | R14: =R13+0.0816666666666666 -> 70.616667
B15: m3/h | C15: Wirkungsgrad | M15: 0.131 | N15: =N14+0.14 -> 41.54 | O15: =O14+0.1166666666666 -> 51.283333 | P15: =P14+0.0933333333333333 -> 60.126667 | Q15: =Q14+0.085 -> 65.735 | R15: =R14+0.0816666666666666 -> 70.698333
A16: Fördervolumen | B16: 250 | C16: =0.0798*LN(B16)+0.3503 -> 0.79091258 | M16: 0.132 | N16: =N15+0.14 -> 41.68 | O16: =O15+0.1166666666666 -> 51.4 | P16: =P15+0.0933333333333333 -> 60.22 | Q16: =Q15+0.085 -> 65.82 | R16: =R15+0.0816666666666666 -> 70.78
M17: 0.133 | N17: =N16+0.14 -> 41.82 | O17: =O16+0.1166666666666 -> 51.516667 | P17: =P16+0.0933333333333333 -> 60.313333 | Q17: =Q16+0.085 -> 65.905 | R17: =R16+0.0816666666666666 -> 70.861667
M18: 0.134 | N18: =N17+0.14 -> 41.96 | O18: =O17+0.1166666666666 -> 51.633333 | P18: =P17+0.0933333333333333 -> 60.406667 | Q18: =Q17+0.085 -> 65.99 | R18: =R17+0.0816666666666666 -> 70.943333 | W18: kW | X18: eta (Rückwärts&Axial) | Y18: eta (Vorwärts,"Trommel")
M19: 0.135 | N19: =N18+0.14 -> 42.1 | O19: =O18+0.1166666666666 -> 51.75 | P19: =P18+0.0933333333333333 -> 60.5 | Q19: =Q18+0.085 -> 66.075 | R19: =R18+0.0816666666666666 -> 71.025 | W19: 1 | X19: 0.72 | Y19: 0.55
M20: 0.136 | N20: =N19+0.14 -> 42.24 | O20: =O19+0.1166666666666 -> 51.866667 | P20: =P19+0.0933333333333333 -> 60.593333 | Q20: =Q19+0.085 -> 66.16 | R20: =R19+0.0816666666666666 -> 71.106667 | W20: 4 | X20: 0.77 | Y20: 0.61
M21: 0.137 | N21: =N20+0.14 -> 42.38 | O21: =O20+0.1166666666666 -> 51.983333 | P21: =P20+0.0933333333333333 -> 60.686667 | Q21: =Q20+0.085 -> 66.245 | R21: =R20+0.0816666666666666 -> 71.188333 | W21: 10 | X21: 0.8 | Y21: 0.65
M22: 0.138 | N22: =N21+0.14 -> 42.52 | O22: =O21+0.1166666666666 -> 52.1 | P22: =P21+0.0933333333333333 -> 60.78 | Q22: =Q21+0.085 -> 66.33 | R22: =R21+0.0816666666666666 -> 71.27 | W22: 20 | X22: 0.82 | Y22: 0.68
M23: 0.139 | N23: =N22+0.14 -> 42.66 | O23: =O22+0.1166666666666 -> 52.216667 | P23: =P22+0.0933333333333333 -> 60.873333 | Q23: =Q22+0.085 -> 66.415 | R23: =R22+0.0816666666666666 -> 71.351667 | W23: 60 | X23: 0.85
M24: 0.14 | N24: =N23+0.14 -> 42.8 | O24: =O23+0.1166666666666 -> 52.333333 | P24: =P23+0.0933333333333333 -> 60.966667 | Q24: =Q23+0.085 -> 66.5 | R24: =R23+0.0816666666666666 -> 71.433333
M25: 0.141 | N25: =N24+0.14 -> 42.94 | O25: =O24+0.1166666666666 -> 52.45 | P25: =P24+0.0933333333333333 -> 61.06 | Q25: =Q24+0.085 -> 66.585 | R25: =R24+0.0816666666666666 -> 71.515
M26: 0.142 | N26: =N25+0.14 -> 43.08 | O26: =O25+0.1166666666666 -> 52.566667 | P26: =P25+0.0933333333333333 -> 61.153333 | Q26: =Q25+0.085 -> 66.67 | R26: =R25+0.0816666666666666 -> 71.596667
M27: 0.143 | N27: =N26+0.14 -> 43.22 | O27: =O26+0.1166666666666 -> 52.683333 | P27: =P26+0.0933333333333333 -> 61.246667 | Q27: =Q26+0.085 -> 66.755 | R27: =R26+0.0816666666666666 -> 71.678333
M28: 0.144 | N28: =N27+0.14 -> 43.36 | O28: =O27+0.1166666666666 -> 52.8 | P28: =P27+0.0933333333333333 -> 61.34 | Q28: =Q27+0.085 -> 66.84 | R28: =R27+0.0816666666666666 -> 71.76
M29: 0.145 | N29: =N28+0.14 -> 43.5 | O29: =O28+0.1166666666666 -> 52.916667 | P29: =P28+0.0933333333333333 -> 61.433333 | Q29: =Q28+0.085 -> 66.925 | R29: =R28+0.0816666666666666 -> 71.841667
M30: 0.146 | N30: =N29+0.14 -> 43.64 | O30: =O29+0.1166666666666 -> 53.033333 | P30: =P29+0.0933333333333333 -> 61.526667 | Q30: =Q29+0.085 -> 67.01 | R30: =R29+0.0816666666666666 -> 71.923333
M31: 0.147 | N31: =N30+0.14 -> 43.78 | O31: =O30+0.1166666666666 -> 53.15 | P31: =P30+0.0933333333333333 -> 61.62 | Q31: =Q30+0.085 -> 67.095 | R31: =R30+0.0816666666666666 -> 72.005
M32: 0.148 | N32: =N31+0.14 -> 43.92 | O32: =O31+0.1166666666666 -> 53.266667 | P32: =P31+0.0933333333333333 -> 61.713333 | Q32: =Q31+0.085 -> 67.18 | R32: =R31+0.0816666666666666 -> 72.086667
M33: 0.149 | N33: =N32+0.14 -> 44.06 | O33: =O32+0.1166666666666 -> 53.383333 | P33: =P32+0.0933333333333333 -> 61.806667 | Q33: =Q32+0.085 -> 67.265 | R33: =R32+0.0816666666666666 -> 72.168333
M34: 0.15 | N34: =N33+0.14 -> 44.2 | O34: =O33+0.1166666666666 -> 53.5 | P34: =P33+0.0933333333333333 -> 61.9 | Q34: =Q33+0.085 -> 67.35 | R34: =R33+0.0816666666666666 -> 72.25
M35: 0.151 | N35: =N34+0.14 -> 44.34 | O35: =O34+0.1166666666666 -> 53.616667 | P35: =P34+0.0933333333333333 -> 61.993333 | Q35: =Q34+0.085 -> 67.435 | R35: =R34+0.0816666666666666 -> 72.331667
... M63: 0.179 | N63: =N62+0.14 -> 48.26 | O63: =O62+0.1166666666666 -> 56.883333 | P63: =P62+0.0933333333333333 -> 64.606667 | Q63: =Q62+0.085 -> 69.815 | R63: =R62+0.0816666666666666 -> 74.618333
M64: 0.18 | N64: 48.4 | O64: 57 | P64: 64.7 | Q64: 69.9 | R64: 74.7
M65: 0.181 | N65: =N64+0.09 -> 48.49 | O65: =O64+0.09 -> 57.09 | P65: =P64+0.06 -> 64.76 | Q65: =Q64+0.06 -> 69.96 | R65: =R64+0.055 -> 74.755
M66: 0.182 | N66: =N65+0.09 -> 48.58 | O66: =O65+0.09 -> 57.18 | P66: =P65+0.06 -> 64.82 | Q66: =Q65+0.06 -> 70.02 | R66: =R65+0.055 -> 74.81
M67: 0.183 | N67: =N66+0.09 -> 48.67 | O67: =O66+0.09 -> 57.27 | P67: =P66+0.06 -> 64.88 | Q67: =Q66+0.06 -> 70.08 | R67: =R66+0.055 -> 74.865
M68: 0.184 | N68: =N67+0.09 -> 48.76 | O68: =O67+0.09 -> 57.36 | P68: =P67+0.06 -> 64.94 | Q68: =Q67+0.06 -> 70.14 | R68: =R67+0.055 -> 74.92
M69: 0.185 | N69: =N68+0.09 -> 48.85 | O69: =O68+0.09 -> 57.45 | P69: =P68+0.06 -> 65 | Q69: =Q68+0.06 -> 70.2 | R69: =R68+0.055 -> 74.975
M70: 0.186 | N70: =N69+0.09 -> 48.94 | O70: =O69+0.09 -> 57.54 | P70: =P69+0.06 -> 65.06 | Q70: =Q69+0.06 -> 70.26 | R70: =R69+0.055 -> 75.03
M71: 0.187 | N71: =N70+0.09 -> 49.03 | O71: =O70+0.09 -> 57.63 | P71: =P70+0.06 -> 65.12 | Q71: =Q70+0.06 -> 70.32 | R71: =R70+0.055 -> 75.085
M72: 0.188 | N72: =N71+0.09 -> 49.12 | O72: =O71+0.09 -> 57.72 | P72: =P71+0.06 -> 65.18 | Q72: =Q71+0.06 -> 70.38 | R72: =R71+0.055 -> 75.14
M73: 0.189 | N73: =N72+0.09 -> 49.21 | O73: =O72+0.09 -> 57.81 | P73: =P72+0.06 -> 65.24 | Q73: =Q72+0.06 -> 70.44 | R73: =R72+0.055 -> 75.195
M74: 0.19 | N74: =N73+0.09 -> 49.3 | O74: =O73+0.09 -> 57.9 | P74: =P73+0.06 -> 65.3 | Q74: =Q73+0.06 -> 70.5 | R74: =R73+0.055 -> 75.25
M75: 0.191 | N75: =N74+0.09 -> 49.39 | O75: =O74+0.09 -> 57.99 | P75: =P74+0.06 -> 65.36 | Q75: =Q74+0.06 -> 70.56 | R75: =R74+0.055 -> 75.305
M76: 0.192 | N76: =N75+0.09 -> 49.48 | O76: =O75+0.09 -> 58.08 | P76: =P75+0.06 -> 65.42 | Q76: =Q75+0.06 -> 70.62 | R76: =R75+0.055 -> 75.36
... M83: 0.199 | N83: =N82+0.09 -> 50.11 | O83: =O82+0.09 -> 58.71 | P83: =P82+0.06 -> 65.84 | Q83: =Q82+0.06 -> 71.04 | R83: =R82+0.055 -> 75.745
M84: 0.2 | N84: 50.2 | O84: 58.8 | P84: 65.9 | Q84: 71.1 | R84: 75.8
M85: 0.201 | N85: =N84+0.072 -> 50.272 | O85: =O84+0.054 -> 58.854 | P85: =P84+0.052 -> 65.952 | Q85: =Q84+0.048 -> 71.148 | R85: =R84+0.042 -> 75.842
M86: 0.202 | N86: =N85+0.072 -> 50.344 | O86: =O85+0.054 -> 58.908 | P86: =P85+0.052 -> 66.004 | Q86: =Q85+0.048 -> 71.196 | R86: =R85+0.042 -> 75.884
M87: 0.203 | N87: =N86+0.072 -> 50.416 | O87: =O86+0.054 -> 58.962 | P87: =P86+0.052 -> 66.056 | Q87: =Q86+0.048 -> 71.244 | R87: =R86+0.042 -> 75.926
M88: 0.204 | N88: =N87+0.072 -> 50.488 | O88: =O87+0.054 -> 59.016 | P88: =P87+0.052 -> 66.108 | Q88: =Q87+0.048 -> 71.292 | R88: =R87+0.042 -> 75.968
M89: 0.205 | N89: =N88+0.072 -> 50.56 | O89: =O88+0.054 -> 59.07 | P89: =P88+0.052 -> 66.16 | Q89: =Q88+0.048 -> 71.34 | R89: =R88+0.042 -> 76.01
M90: 0.206 | N90: =N89+0.072 -> 50.632 | O90: =O89+0.054 -> 59.124 | P90: =P89+0.052 -> 66.212 | Q90: =Q89+0.048 -> 71.388 | R90: =R89+0.042 -> 76.052
M91: 0.207 | N91: =N90+0.072 -> 50.704 | O91: =O90+0.054 -> 59.178 | P91: =P90+0.052 -> 66.264 | Q91: =Q90+0.048 -> 71.436 | R91: =R90+0.042 -> 76.094
M92: 0.208 | N92: =N91+0.072 -> 50.776 | O92: =O91+0.054 -> 59.232 | P92: =P91+0.052 -> 66.316 | Q92: =Q91+0.048 -> 71.484 | R92: =R91+0.042 -> 76.136
M93: 0.209 | N93: =N92+0.072 -> 50.848 | O93: =O92+0.054 -> 59.286 | P93: =P92+0.052 -> 66.368 | Q93: =Q92+0.048 -> 71.532 | R93: =R92+0.042 -> 76.178
M94: 0.21 | N94: =N93+0.072 -> 50.92 | O94: =O93+0.054 -> 59.34 | P94: =P93+0.052 -> 66.42 | Q94: =Q93+0.048 -> 71.58 | R94: =R93+0.042 -> 76.22
M95: 0.211 | N95: =N94+0.072 -> 50.992 | O95: =O94+0.054 -> 59.394 | P95: =P94+0.052 -> 66.472 | Q95: =Q94+0.048 -> 71.628 | R95: =R94+0.042 -> 76.262
M96: 0.212 | N96: =N95+0.072 -> 51.064 | O96: =O95+0.054 -> 59.448 | P96: =P95+0.052 -> 66.524 | Q96: =Q95+0.048 -> 71.676 | R96: =R95+0.042 -> 76.304
... M133: 0.249 | N133: =N132+0.072 -> 53.728 | O133: =O132+0.054 -> 61.446 | P133: =P132+0.052 -> 68.448 | Q133: =Q132+0.048 -> 73.452 | R133: =R132+0.042 -> 77.858
M134: 0.25 | N134: 53.8 | O134: 61.5 | P134: 68.5 | Q134: 73.5 | R134: 77.9
M135: 0.251 | N135: =N134+0.045 -> 53.845 | O135: =O134+0.0375 -> 61.5375 | P135: =P134+0.035 -> 68.535 | Q135: =Q134+0.0316666666666666 -> 73.531667 | R135: =R134+0.0266666666666666 -> 77.926667
M136: 0.252 | N136: =N135+0.045 -> 53.89 | O136: =O135+0.0375 -> 61.575 | P136: =P135+0.035 -> 68.57 | Q136: =Q135+0.0316666666666666 -> 73.563333 | R136: =R135+0.0266666666666666 -> 77.953333
M137: 0.253 | N137: =N136+0.045 -> 53.935 | O137: =O136+0.0375 -> 61.6125 | P137: =P136+0.035 -> 68.605 | Q137: =Q136+0.0316666666666666 -> 73.595 | R137: =R136+0.0266666666666666 -> 77.98
M138: 0.254 | N138: =N137+0.045 -> 53.98 | O138: =O137+0.0375 -> 61.65 | P138: =P137+0.035 -> 68.64 | Q138: =Q137+0.0316666666666666 -> 73.626667 | R138: =R137+0.0266666666666666 -> 78.006667
M139: 0.255 | N139: =N138+0.045 -> 54.025 | O139: =O138+0.0375 -> 61.6875 | P139: =P138+0.035 -> 68.675 | Q139: =Q138+0.0316666666666666 -> 73.658333 | R139: =R138+0.0266666666666666 -> 78.033333
M140: 0.256 | N140: =N139+0.045 -> 54.07 | O140: =O139+0.0375 -> 61.725 | P140: =P139+0.035 -> 68.71 | Q140: =Q139+0.0316666666666666 -> 73.69 | R140: =R139+0.0266666666666666 -> 78.06
M141: 0.257 | N141: =N140+0.045 -> 54.115 | O141: =O140+0.0375 -> 61.7625 | P141: =P140+0.035 -> 68.745 | Q141: =Q140+0.0316666666666666 -> 73.721667 | R141: =R140+0.0266666666666666 -> 78.086667
M142: 0.258 | N142: =N141+0.045 -> 54.16 | O142: =O141+0.0375 -> 61.8 | P142: =P141+0.035 -> 68.78 | Q142: =Q141+0.0316666666666666 -> 73.753333 | R142: =R141+0.0266666666666666 -> 78.113333
M143: 0.259 | N143: =N142+0.045 -> 54.205 | O143: =O142+0.0375 -> 61.8375 | P143: =P142+0.035 -> 68.815 | Q143: =Q142+0.0316666666666666 -> 73.785 | R143: =R142+0.0266666666666666 -> 78.14
M144: 0.26 | N144: =N143+0.045 -> 54.25 | O144: =O143+0.0375 -> 61.875 | P144: =P143+0.035 -> 68.85 | Q144: =Q143+0.0316666666666666 -> 73.816667 | R144: =R143+0.0266666666666666 -> 78.166667
M145: 0.261 | N145: =N144+0.045 -> 54.295 | O145: =O144+0.0375 -> 61.9125 | P145: =P144+0.035 -> 68.885 | Q145: =Q144+0.0316666666666666 -> 73.848333 | R145: =R144+0.0266666666666666 -> 78.193333
M146: 0.262 | N146: =N145+0.045 -> 54.34 | O146: =O145+0.0375 -> 61.95 | P146: =P145+0.035 -> 68.92 | Q146: =Q145+0.0316666666666666 -> 73.88 | R146: =R145+0.0266666666666666 -> 78.22
... M253: 0.369 | N253: =N252+0.045 -> 59.155 | O253: =O252+0.0375 -> 65.9625 | P253: =P252+0.035 -> 72.665 | Q253: =Q252+0.0316666666666666 -> 77.268333 | R253: =R252+0.0266666666666666 -> 81.073333
M254: 0.37 | N254: 59.2 | O254: 66 | P254: 72.7 | Q254: 77.3 | R254: 81.1
M255: 0.371 | N255: =N254+0.0333333333333333 -> 59.233333 | O255: =O254+0.0266666666666666 -> 66.026667 | P255: =P254+0.0266666666666666 -> 72.726667 | Q255: =Q254+0.0233333333333333 -> 77.323333 | R255: =R254+0.02 -> 81.12
M256: 0.372 | N256: =N255+0.0333333333333333 -> 59.266667 | O256: =O255+0.0266666666666666 -> 66.053333 | P256: =P255+0.0266666666666666 -> 72.753333 | Q256: =Q255+0.0233333333333333 -> 77.346667 | R256: =R255+0.02 -> 81.14
M257: 0.373 | N257: =N256+0.0333333333333333 -> 59.3 | O257: =O256+0.0266666666666666 -> 66.08 | P257: =P256+0.0266666666666666 -> 72.78 | Q257: =Q256+0.0233333333333333 -> 77.37 | R257: =R256+0.02 -> 81.16
M258: 0.374 | N258: =N257+0.0333333333333333 -> 59.333333 | O258: =O257+0.0266666666666666 -> 66.106667 | P258: =P257+0.0266666666666666 -> 72.806667 | Q258: =Q257+0.0233333333333333 -> 77.393333 | R258: =R257+0.02 -> 81.18
M259: 0.375 | N259: =N258+0.0333333333333333 -> 59.366667 | O259: =O258+0.0266666666666666 -> 66.133333 | P259: =P258+0.0266666666666666 -> 72.833333 | Q259: =Q258+0.0233333333333333 -> 77.416667 | R259: =R258+0.02 -> 81.2
M260: 0.376 | N260: =N259+0.0333333333333333 -> 59.4 | O260: =O259+0.0266666666666666 -> 66.16 | P260: =P259+0.0266666666666666 -> 72.86 | Q260: =Q259+0.0233333333333333 -> 77.44 | R260: =R259+0.02 -> 81.22
M261: 0.377 | N261: =N260+0.0333333333333333 -> 59.433333 | O261: =O260+0.0266666666666666 -> 66.186667 | P261: =P260+0.0266666666666666 -> 72.886667 | Q261: =Q260+0.0233333333333333 -> 77.463333 | R261: =R260+0.02 -> 81.24
M262: 0.378 | N262: =N261+0.0333333333333333 -> 59.466667 | O262: =O261+0.0266666666666666 -> 66.213333 | P262: =P261+0.0266666666666666 -> 72.913333 | Q262: =Q261+0.0233333333333333 -> 77.486667 | R262: =R261+0.02 -> 81.26
M263: 0.379 | N263: =N262+0.0333333333333333 -> 59.5 | O263: =O262+0.0266666666666666 -> 66.24 | P263: =P262+0.0266666666666666 -> 72.94 | Q263: =Q262+0.0233333333333333 -> 77.51 | R263: =R262+0.02 -> 81.28
M264: 0.38 | N264: =N263+0.0333333333333333 -> 59.533333 | O264: =O263+0.0266666666666666 -> 66.266667 | P264: =P263+0.0266666666666666 -> 72.966667 | Q264: =Q263+0.0233333333333333 -> 77.533333 | R264: =R263+0.02 -> 81.3
M265: 0.381 | N265: =N264+0.0333333333333333 -> 59.566667 | O265: =O264+0.0266666666666666 -> 66.293333 | P265: =P264+0.0266666666666666 -> 72.993333 | Q265: =Q264+0.0233333333333333 -> 77.556667 | R265: =R264+0.02 -> 81.32
M266: 0.382 | N266: =N265+0.0333333333333333 -> 59.6 | O266: =O265+0.0266666666666666 -> 66.32 | P266: =P265+0.0266666666666666 -> 73.02 | Q266: =Q265+0.0233333333333333 -> 77.58 | R266: =R265+0.02 -> 81.34
... M283: 0.399 | N283: =N282+0.0333333333333333 -> 60.166667 | O283: =O282+0.0266666666666666 -> 66.773333 | P283: =P282+0.0266666666666666 -> 73.473333 | Q283: =Q282+0.0233333333333333 -> 77.976667 | R283: =R282+0.02 -> 81.68
M284: 0.4 | N284: 60.2 | O284: 66.8 | P284: 73.5 | Q284: 78 | R284: 81.7
M285: 0.401 | N285: =N284+0.0253333333333333 -> 60.225333 | O285: =O284+0.0213333333333333 -> 66.821333 | P285: =P284+0.024 -> 73.524 | Q285: =Q284+0.0186666666666666 -> 78.018667 | R285: =R284+0.0146666666666666 -> 81.714667
M286: 0.402 | N286: =N285+0.0253333333333333 -> 60.250667 | O286: =O285+0.0213333333333333 -> 66.842667 | P286: =P285+0.024 -> 73.548 | Q286: =Q285+0.0186666666666666 -> 78.037333 | R286: =R285+0.0146666666666666 -> 81.729333
M287: 0.403 | N287: =N286+0.0253333333333333 -> 60.276 | O287: =O286+0.0213333333333333 -> 66.864 | P287: =P286+0.024 -> 73.572 | Q287: =Q286+0.0186666666666666 -> 78.056 | R287: =R286+0.0146666666666666 -> 81.744
M288: 0.404 | N288: =N287+0.0253333333333333 -> 60.301333 | O288: =O287+0.0213333333333333 -> 66.885333 | P288: =P287+0.024 -> 73.596 | Q288: =Q287+0.0186666666666666 -> 78.074667 | R288: =R287+0.0146666666666666 -> 81.758667
M289: 0.405 | N289: =N288+0.0253333333333333 -> 60.326667 | O289: =O288+0.0213333333333333 -> 66.906667 | P289: =P288+0.024 -> 73.62 | Q289: =Q288+0.0186666666666666 -> 78.093333 | R289: =R288+0.0146666666666666 -> 81.773333
M290: 0.406 | N290: =N289+0.0253333333333333 -> 60.352 | O290: =O289+0.0213333333333333 -> 66.928 | P290: =P289+0.024 -> 73.644 | Q290: =Q289+0.0186666666666666 -> 78.112 | R290: =R289+0.0146666666666666 -> 81.788
M291: 0.407 | N291: =N290+0.0253333333333333 -> 60.377333 | O291: =O290+0.0213333333333333 -> 66.949333 | P291: =P290+0.024 -> 73.668 | Q291: =Q290+0.0186666666666666 -> 78.130667 | R291: =R290+0.0146666666666666 -> 81.802667
...

Sheet Dropdowns
A1: Dropdowns | AQ1: Raumnutzung | AR1: Volllast-stunden (h/a) | AS1: ProKilowatt-Höchstwert für den spezifischen Elektrizitätsbedarf der Neuanlage (kWh/m2) | AU1: Raumnutzung | AW1: Affectation | AY1: Utilizzazione di spazi
AQ2: wählen | AR2: 0 | AS2: 0 | AU2: wählen | AW2: choisir | AY2: scegliere | BA2: DE_Technologie | BB2: IT_Technologie | BC2: FR_Technologie
K3: Deutsche Dropdowns | U3: Französische Dropdowns | AE3: Italienische Dropdowns | AQ3: Hotelzimmer | AR3: 650 | AS3: 3.1 | AU3: Hotelzimmer | AW3: Chambre d’hôtel | AY3: Camera d'albergo | BA3: Selection | BB3: Selection | BC3: Selection | BG3: Kälteanlage | BH3: Unità refrigerante | BI3: Groupe frigorifique
A4: Volumenstrom / Regelstrategie | B4: Effizienzkategorie Motor | C4: Drehzahlregelung | D4: Volumenstrom / Regelstrategie | E4: Regelparameter | F4: Typ des Ventilators | G4: Betriebszeit | H4: Sprache | I4: Technologie | K4: Volumenstrom / Regelstrategie | L4: Effizienzkategorie Motor | M4: Drehzahlregelung | N4: Volumenstrom / Regelstrategie | O4: Regelparameter | P4: Typ des Ventilators | Q4: Betriebszeit | R4: Raumnutzungstypen | S4: Technologie | U4: Volumenstrom / Regelstrategie | V4: Effizienzkategorie Motor | W4: Drehzahlregelung | X4: Volumenstrom / Regelstrategie | Y4: Regelparameter | Z4: Typ des Ventilators | AA4: Betriebszeit | AB4: Type d’utilisation des locaux | AC4: Technologie | AE4: Volumenstrom / Regelstrategie | AF4: Effizienzkategorie Motor | AG4: Drehzahlregelung | AH4: Volumenstrom / Regelstrategie | AI4: Regelparameter | AJ4: Typ des Ventilators | AK4: Betriebszeit | AL4: Raumnutzungstypen | AM4: Technologie | AQ4: Empfang, Lobby | AR4: 3750 | AS4: 16.1 | AU4: Empfang, Lobby | AW4: Réception, zone d’accueil | AY4: Ricezione, hall | BA4: Lüftungsanlage | BB4: Sistema di ventilazione | BC4: Système de ventilation | BG4: Druckluftanlage | BH4: Sistema ad aria compressa | BI4: Système d'air comprimé
A5: Ungeregelt - fixer Volumenstrom | B5: IE3 | C5: Ja | D5: Ungeregelt - fixer Volumenstrom | E5: keine | F5: Rückwärtsgekrümmt | G5: Betriebszeit eingeben | H5: Deutsch | I5: Lüftungsanlage | K5: Ungeregelt - fixer Volumenstrom | L5: IE3 | M5: Ja | N5: Ungeregelt - fixer Volumenstrom | O5: keine | P5: Rückwärtsgekrümmt | Q5: Betriebszeit eingeben | R5: Eigenes Profil | S5: Lüftungsanlage | U5: Non régulé - débit volumétrique constant | V5: IE3 | W5: Oui | X5: Non régulé - débit volumétrique constant | Y5: aucun | Z5: Courbé vers l’arrière | AA5: Saisir le temps de fonctionnement | AB5: Profil personnalisé | AC5: Système de ventilation | AE5: Non regolato - portata in volume fissa | AF5: IE3 | AG5: Sì | AH5: Non regolato - portata in volume fissa | AI5: Nessuno | AJ5: Curvate all’indietro | AK5: Immettere il tempo di funzionamento | AL5: Proprio profilo | AM5: Sistema di ventilazione | AQ5: Einzel-, Gruppenbüro | AR5: 1400 | AS5: 7.7 | AU5: Einzel-, Gruppenbüro | AW5: Bureau individuel, bureau collectif | AY5: Ufficio, gruppo di uffici | BA5: Innenbeleuchtung | BB5: Illuminazione interna | BC5: Systèmes d'éclairage | BG5: Pumpen | BH5: Pompe | BI5: Pompes
A6: Zweistufig | B6: IE4 | C6: Nein | D6: Zweistufig | E6: Uhrzeit | F6: Vorwärtsgekrümmt | G6: Eingeben | H6: français | I6: Innenbeleuchtung | K6: Zweistufig | L6: IE4 | M6: Nein | N6: Zweistufig | O6: Uhrzeit | P6: Vorwärtsgekrümmt | Q6: Eingeben | R6: Anlage läuft immer auf Volllast | S6: Innenbeleuchtung | U6: Biétage | V6: IE4 | W6: Non | X6: Biétage | Y6: Heure | Z6: Courbé vers l’avant | AA6: Saisir | AB6: L’installation fonctionne toujours à pleine charge | AC6: Systèmes d'éclairage | AE6: Bistadio | AF6: IE4 | AG6: No | AH6: Bistadio | AI6: Ora | AJ6: Curvate in avanti | AK6: Immettere | AL6: L’impianto funziona sempre a pieno carico | AM6: Illuminazione interna | AQ6: Grossraumbüro | AR6: 1950 | AS6: 11.1 | AU6: Grossraumbüro | AW6: Bureau paysagé | AY6: Ufficio "open space" | BA6: Andere Technologie | BB6: Altra tecnologia | BC6: Autres technologies | BG6: Sonstiges | BH6: Altro | BI6: Divers
A7: Mehrstufig | B7: IE5 | D7: Mehrstufig | E7: Temperatur | H7: italiano | I7: Kälteanlage | K7: Mehrstufig | L7: IE5 | N7: Mehrstufig | O7: Temperatur | R7: Wohnen MFH | S7: Kälteanlage | U7: Pluriétage | V7: IE5 | X7: Pluriétage | Y7: Température | AB7: Maison résidentielle collective | AC7: Groupe frigorifique | AE7: A più stadi | AF7: IE5 | AH7: A più stadi | AI7: Temperatura | AL7: Abitativo, condominio | AM7: Unità refrigerante | AQ7: Sitzungszimmer | AR7: 750 | AS7: 4.2 | AU7: Sitzungszimmer | AW7: Salle de réunion | AY7: Sala riunioni
A8: Stufenlos - variabler Volumenstrom | B8: EC | D8: Stufenlos - variabler Volumenstrom | E8: CO2-Gehalt | K8: Stufenlos - variabler Volumenstrom | L8: EC | N8: Stufenlos - variabler Volumenstrom | O8: CO2-Gehalt | R8: Wohnen EFH | U8: Débit volumétrique librement variable | V8: EC | X8: Débit volumétrique librement variable | Y8: Taux de CO2 | AB8: Maison résidentielle familiale | AE8: Continuo - portata in volume variabile | AF8: EC | AH8: Continuo - portata in volume variabile | AI8: Contenuto di CO2 | AL8: Abitativo, casa unifamiliare | AQ8: Schalterhalle, Empfang | AR8: 1200 | AS8: 4.2 | AU8: Schalterhalle, Empfang | AW8: Hall des guichets, zone clientèle | AY8: Area sportelli, clientela
R9: Hotelzimmer | AB9: Chambre d’hôtel | AL9: Camera d'albergo | AQ9: Schulzimmer | AR9: 1300 | AS9: 6.9 | AU9: Schulzimmer | AW9: Salle d’école | AY9: Aula scolastica
R10: Empfang, Lobby | AB10: Réception, zone d’accueil | AL10: Ricezione, hall | AQ10: Lehrerzimmer | AR10: 1150 | AS10: 3.7 | AU10: Lehrerzimmer | AW10: Salle des maîtres | AY10: Aula insegnanti
B11: Effizienzkategorie FU | L11: Effizienzkategorie FU | R11: Einzel-, Gruppenbüro | V11: Effizienzkategorie FU | AB11: Bureau individuel, bureau collectif | AF11: Effizienzkategorie FU | AL11: Ufficio, gruppo di uffici | AQ11: Bibliothek | AR11: 1350 | AS11: 4.1 | AU11: Bibliothek | AW11: Bibliothèque | AY11: Biblioteca
B12: IE1 | L12: IE1 | R12: Grossraumbüro | V12: IE1 | AB12: Bureau paysagé | AF12: IE1 | AL12: Ufficio "open space" | AQ12: Hörsaal | AR12: 1700 | AS12: 9.6 | AU12: Hörsaal | AW12: Auditoire | AY12: Sala conferenze
B13: IE2 | L13: IE2 | R13: Sitzungszimmer | V13: IE2 | AB13: Salle de réunion | AF13: IE2 | AL13: Sala riunioni | AQ13: Schulfachraum | AR13: 1300 | AS13: 6.9 | AU13: Schulfachraum | AW13: Locaux spéciaux | AY13: Aula tecnica
B14: EC | L14: EC | R14: Schalterhalle, Empfang | V14: EC | AB14: Hall des guichets, zone clientèle | AF14: EC | AL14: Area sportelli, clientela | AQ14: Lebensmittelverkauf | AR14: 4000 | AS14: 45.8 | AU14: Lebensmittelverkauf | AW14: Magasin d’alimentation | AY14: Negozio di alimentari
R15: Schulzimmer | AB15: Salle de classe | AL15: Aula scolastica | AQ15: Fachgeschäft | AR15: 4000 | AS15: 45.8 | AU15: Fachgeschäft | AW15: Magasin spécialisé | AY15: Negozio specializzato
R16: Lehrerzimmer | AB16: Salle des maîtres | AL16: Aula insegnanti | AQ16: Verkauf Möbel, Bau, Garten | AR16: 4000 | AS16: 36.6 | AU16: Verkauf Möbel, Bau, Garten | AW16: Magasin de meubles, centre de bricolage, de jardinage | AY16: Negozio di mobili, negozio fai da te
R17: Bibliothek | AB17: Bibliothèque | AL17: Biblioteca | AQ17: Restaurant | AR17: 2500 | AS17: 8.6 | AU17: Restaurant | AW17: Restaurant | AY17: Ristorante
R18: Hörsaal | AB18: Auditoire | AL18: Sala conferenze | AQ18: Selbstbedienungsrestaurant | AR18: 1500 | AS18: 3.1 | AU18: Selbstbedienungsrestaurant | AW18: Restaurant self-service | AY18: Ristorante self-service
R19: Schulfachraum (Spezialraum) | AB19: Locaux spéciaux | AL19: Aula tecnica | AQ19: Küche zu Restaurant | AR19: 2450 | AS19: 29.1 | AU19: Küche zu Restaurant | AW19: Cuisine de restaurant | AY19: Cucina ristorante
R20: Lebensmittelverkauf | AB20: Magasin d’alimentation | AL20: Negozio di alimentari | AQ20: Küche zu Selbstbedienungsrestaurant | AR20: 1900 | AS20: 19.2 | AU20: Küche zu Selbstbedienungsrestaurant | AW20: Cuisine de restaurant self-service | AY20: Cucina self-service
R21: Fachgeschäft | AB21: Magasin spécialisé | AL21: Negozio specializzato | AQ21: Vorstellungsraum | AR21: 3000 | AS21: 16 | AU21: Vorstellungsraum | AW21: Salle de spectacles | AY21: Sala di spettacolo
R22: Verkauf Möbel, Bau, Garten | AB22: Magasin de meubles, centre de bricolage, de jardinage | AL22: Negozio di mobili, negozio fai da te | AQ22: Mehrzweckhalle | AR22: 2750 | AS22: 12.3 | AU22: Mehrzweckhalle | AW22: Salle omnisports | AY22: Sala multiuso
R23: Restaurant | AB23: Restaurant | AL23: Ristorante | AQ23: Ausstellungshalle | AR23: 2750 | AS23: 24.5 | AU23: Ausstellungshalle | AW23: Halle d’exposition | AY23: Sala d'esposizione
A24: Nassläufer-Pumpenhersteller | B24: Trockenläufer-Pumpensystem | C24: Transmission | D24: FU | R24: Selbstbedienungsrestaurant | AB24: Restaurant self-service | AL24: Ristorante self-service | AQ24: Bettenzimmer | AR24: 1550 | AS24: 5.8 | AU24: Bettenzimmer | AW24: Chambre d’hôpital | AY24: Camera d'ospedale
A25: Biral | B25: Standardanwendung | C25: Direktantrieb | D25: Ja | R25: Küche zu Restaurant | AB25: Cuisine de restaurant | AL25: Cucina ristorante | AQ25: Stationszimmer | AR25: 5650 | AS25: 47.4 | AU25: Stationszimmer | AW25: Infirmerie | AY25: Locale di servizio ospedaliero
A26: Grundfos | B26: keine Standardanwendung | C26: Flachriemen | D26: Nein | R26: Küche zu Selbstbedienungsrest. | AB26: Cuisine de restaurant self-service | AL26: Cucina self-service | AQ26: Behandlungsraum | AR26: 1650 | AS26: 15.6 | AU26: Behandlungsraum | AW26: Locaux médicaux | AY26: Locale di trattamento
A27: IMP | C27: Keilriemen | R27: Vorstellungsraum | AB27: Salle de spectacles | AL27: Sala di spettacolo | AQ27: Produktion (grobe Arbeit) | AR27: 3950 | AS27: 16.1 | AU27: Produktion (grobe Arbeit) | AW27: Production (travail lourd) | AY27: Produzione (lavoro grezzo)
A28: Wilo | R28: Mehrzweckhalle | AB28: Salle omnisports | AL28: Sala multiuso | AQ28: Produktion (feine Arbeit) | AR28: 1550 | AS28: 9.7 | AU28: Produktion (feine Arbeit) | AW28: Production (travail fin) | AY28: Produzione (lavoro raffinato)
R29: Ausstellungshalle | AB29: Halle d’exposition | AL29: Sala d'esposizione | AQ29: Laborraum | AR29: 1200 | AS29: 7.3 | AU29: Laborraum | AW29: Laboratoire | AY29: Laboratorio
R30: Bettenzimmer | AB30: Chambre d’hôpital | AL30: Camera d'ospedale | AQ30: Lagerhalle | AR30: 3950 | AS30: 16.8 | AU30: Lagerhalle | AW30: Entrepôt | AY30: Deposito
R31: Stationszimmer | AB31: Infirmerie | AL31: Locale di servizio ospedaliero | AQ31: Turnhalle | AR31: 2150 | AS31: 13.5 | AU31: Turnhalle | AW31: Salle de gymnastique | AY31: Palestra
R32: Behandlungsraum | AB32: Locaux médicaux | AL32: Locale di trattamento | AQ32: Fitnessraum | AR32: 3150 | AS32: 11.7 | AU32: Fitnessraum | AW32: Salle de fitness | AY32: Locale fitness
R33: Produktion (grobe Arbeit) | AB33: Production (travail lourd) | AL33: Produzione (lavoro grezzo) | AQ33: Schwimmhalle | AR33: 2600 | AS33: 10.4 | AU33: Schwimmhalle | AW33: Piscine couverte | AY33: Piscina coperta
R34: Produktion (feine Arbeit) | AB34: Production (travail fin) | AL34: Produzione (lavoro raffinato) | AQ34: Verkehrsfläche | AR34: 1650 | AS34: 2.9 | AU34: Verkehrsfläche | AW34: Surface de dégagement | AY34: Superficie di circolazione
R35: Laborraum | AB35: Laboratoire | AL35: Laboratorio | AQ35: Verkehrsfläche 24h (Spitäler) | AR35: 3350 | AS35: 12.6 | AU35: Verkehrsfläche 24h (Spitäler) | AW35: Surface de dégagement 24h (hôpitaux) | AY35: Superficie di circolazione 24h (ospedali)
R36: Lagerhalle | AB36: Entrepôt | AL36: Deposito | AQ36: Treppenhaus | AR36: 1700 | AS36: 6.3 | AU36: Treppenhaus | AW36: Cage d’escaliers | AY36: Vano scala
R37: Turnhalle | AB37: Salle de gymnastique | AL37: Palestra | AQ37: Nebenraum | AR37: 1400 | AS37: 1.8 | AU37: Nebenraum | AW37: Locaux annexes | AY37: Locale accessorio
R38: Fitnessraum | AB38: Salle de fitness | AL38: Locale fitness | AQ38: Küche, Teeküche | AR38: 850 | AS38: 1.8 | AU38: Küche, Teeküche | AW38: Cuisine, coin cuisine | AY38: Cucina, cucinino
R39: Schwimmhalle | AB39: Piscine couverte | AL39: Piscina coperta | AQ39: WC, Bad, Dusche | AR39: 850 | AS39: 2.1 | AU39: WC, Bad, Dusche | AW39: WC, salle de bain, douche | AY39: WC, bagno, doccia
R40: Verkehrsfläche | AB40: Surface de dégagement | AL40: Superficie di circolazione | AQ40: WC | AR40: 800 | AS40: 3.3 | AU40: WC | AW40: WC | AY40: WC
... R45: WC, Bad, Dusche | AB45: WC, salle de bain, douche | AL45: WC, bagno, doccia | AQ45: Serverraum | AR45: 50 | AS45: 0.1 | AU45: Serverraum | AW45: Salle des serveurs | AY45: Locale server
R46: WC | AB46: WC | AL46: WC
R47: Garderobe, Dusche | AB47: Vestiaires, douches | AL47: Spogliatoio, doccia
R48: Parkhaus | AB48: Garage collectif | AL48: Autosilo
R49: Wasch- und Trockenraum | AB49: Buanderie, séchoir | AL49: Lavanderia, stenditoio
R50: Kühlraum | AB50: Chambre froide | AL50: Cella frigorifero
R51: Serverraum | AB51: Salle des serveurs | AL51: Locale server

Sheet Standardprofile
A1: 1 | B1: 2 | C1: 3 | D1: 4 | E1: 5 | F1: 6 | G1: 7 | H1: 8 | I1: 9 | J1: 10 | K1: 11 | L1: 12 | M1: 13 | N1: 14
A2: Titel | B2: Leistung | I2: Zeitanteil | P2: Volllast | Q2: Volllaststunden | R2: Volllaststunden Lüftung Zielwert gemäss SIA | S2: Nutzungstage Personenprofil
A3: Eigenes Profil | B3: Eingeben | C3: Eingeben | D3: Eingeben | E3: Eingeben | F3: Eingeben | G3: Eingeben | I3: Eingeben | J3: Eingeben | K3: Eingeben | L3: Eingeben | M3: Eingeben | N3: Eingeben
A4: Anlage läuft immer auf Volllast | B4: 1 | I4: 1
A5: Wohnen MFH | B5: 1 | C5: 0.8 | D5: 0.6 | E5: 0.4 | F5: 0 | I5: 0.375 | J5: 0.16666667 | K5: 0.041666667 | L5: 0.125 | M5: 0.29166667 | N5: 0 | P5: =SUMPRODUCT(B5:G5,I5:N5) -> 0.58333333 | Q5: =P5*8760 -> 5110 | R5: 4620 | S5: 365 | T5: =S5/365 -> 1
A6: Wohnen EFH | B6: 1 | C6: 0.8 | D6: 0.6 | E6: 0.4 | F6: 0 | I6: 0.375 | J6: 0.16666667 | K6: 0.041666667 | L6: 0.125 | M6: 0.29166667 | N6: 0 | P6: =SUMPRODUCT(B6:G6,I6:N6) -> 0.58333333 | Q6: =P6*8760 -> 5110 | R6: 4620 | S6: 365 | T6: =S6/365 -> 1 | Z6: Beispiel
A7: Hotelzimmer | B7: 1 | C7: 0.8 | D7: 0.6 | E7: 0.4 | F7: 0.2 | G7: 0 | I7: 0.33333333 | J7: 0.125 | K7: 0.041666667 | L7: 0.083333333 | M7: 0.083333333 | N7: 0.33333333 | P7: =SUMPRODUCT(B7:G7,I7:N7) -> 0.50833333 | Q7: =P7*8760 -> 4453 | R7: 3440 | S7: 365 | T7: =S7/365 -> 1 | Z7: Einzel-, Gruppenbüro
A8: Empfang, Lobby | B8: 1 | C8: 0.5 | D8: 0.1 | I8: 0.20833333 | J8: 0.5 | K8: 0.125 | L8: 0.16666667 | M8: 0 | N8: 0 | P8: =SUMPRODUCT(B8:G8,I8:N8) -> 0.47083333 | Q8: =P8*8760 -> 4124.5 | R8: 2680 | S8: 365 | T8: =S8/365 -> 1 | Z8: Leistung | AA8: Zeitanteil
A9: Einzel-, Gruppenbüro | B9: 1 | C9: 0.8 | D9: 0.6 | E9: 0.4 | F9: 0.2 | I9: 0.125 | J9: 0.083333333 | K9: 0.125 | L9: 0.041666667 | M9: 0.083333333 | N9: 0.54166667 | P9: =SUMPRODUCT(B9:G9,I9:N9) -> 0.3 | Q9: =P9*8760 -> 2628 | R9: 1630 | S9: 261 | T9: =S9/365 -> 0.71506849 | Z9: 1 | AA9: 0.125 | AB9: 3 | AC9: h
A10: Grossraumbüro | B10: 1 | C10: 0.8 | D10: 0.6 | E10: 0.4 | F10: 0.2 | G10: 0 | I10: 0.125 | J10: 0.083333333 | K10: 0.125 | L10: 0.041666667 | M10: 0.083333333 | N10: 0.54166667 | P10: =SUMPRODUCT(B10:G10,I10:N10) -> 0.3 | Q10: =P10*8760 -> 2628 | R10: 1630 | S10: 261 | T10: =S10/365 -> 0.71506849 | Z10: 0.8 | AA10: 0.083333333 | AB10: 2 | AC10: h
A11: Sitzungszimmer | B11: 1 | C11: 0.6 | D11: 0.4 | I11: 0.083333333 | J11: 0.083333333 | K11: 0.083333333 | L11: 0.75 | M11: 0 | N11: 0 | P11: =SUMPRODUCT(B11:G11,I11:N11) -> 0.16666667 | Q11: =P11*8760 -> 1460 | R11: 930 | S11: 261 | T11: =S11/365 -> 0.71506849 | Z11: 0.6 | AA11: 0.125 | AB11: 3 | AC11: h
A12: Schalterhalle, Empfang | B12: 1 | C12: 0.8 | D12: 0.6 | E12: 0.4 | F12: 0.2 | I12: 0.125 | J12: 0.083333333 | K12: 0.125 | L12: 0.041666667 | M12: 0.083333333 | N12: 0.54166667 | P12: =SUMPRODUCT(B12:G12,I12:N12) -> 0.3 | Q12: =P12*8760 -> 2628 | R12: 1630 | S12: 261 | T12: =S12/365 -> 0.71506849 | Z12: 0.4 | AA12: 0.041666667 | AB12: 1 | AC12: h
A13: Schulzimmer | B13: 1 | C13: 0.8 | D13: 0.6 | E13: 0.2 | F13: 0.4 | I13: 0.125 | J13: 0.125 | K13: 0.083333333 | L13: 0.041666667 | M13: 0.083333333 | N13: 0.54166667 | P13: =SUMPRODUCT(B13:G13,I13:N13) -> 0.31666667 | Q13: =P13*8760 -> 2774 | R13: 1340 | S13: 261 | T13: =S13/365 -> 0.71506849 | Z13: 0.2 | AA13: 0.083333333 | AB13: 2 | AC13: h
A14: Lehrerzimmer | B14: 1 | C14: 0.5 | I14: 0.041666667 | J14: 0.41666667 | K14: 0.54166667 | L14: 0 | M14: 0 | N14: 0 | P14: =SUMPRODUCT(B14:G14,I14:N14) -> 0.25 | Q14: =P14*8760 -> 2190 | R14: 920 | S14: 261 | T14: =S14/365 -> 0.71506849 | Z14: AUS | AA14: 0.54166667 | AB14: 13 | AC14: h
A15: Bibliothek | B15: 1 | C15: 0.5 | I15: 0.041666667 | J15: 0.41666667 | K15: 0.54166667 | L15: 0 | M15: 0 | N15: 0 | P15: =SUMPRODUCT(B15:G15,I15:N15) -> 0.25 | Q15: =P15*8760 -> 2190 | R15: 920 | S15: 261 | T15: =S15/365 -> 0.71506849 | AB15: =SUM(AB9:AB14) -> 24 | AC15: h
A16: Hörsaal | B16: 1 | C16: 0.8 | D16: 0.6 | E16: 0.2 | F16: 0.4 | I16: 0.125 | J16: 0.125 | K16: 0.083333333 | L16: 0.041666667 | M16: 0.083333333 | N16: 0.54166667 | P16: =SUMPRODUCT(B16:G16,I16:N16) -> 0.31666667 | Q16: =P16*8760 -> 2774 | R16: 1340 | S16: 261 | T16: =S16/365 -> 0.71506849 | Y16: Volllaststunden pro Tag | AA16: =SUMPRODUCT(Z9:Z14,AA9:AA14)*24 -> 7.2 | AB16: h
A17: Schulfachraum (Spezialraum) | B17: 1 | C17: 0.8 | D17: 0.6 | E17: 0.2 | F17: 0.4 | I17: 0.125 | J17: 0.125 | K17: 0.083333333 | L17: 0.041666667 | M17: 0.083333333 | N17: 0.54166667 | P17: =SUMPRODUCT(B17:G17,I17:N17) -> 0.31666667 | Q17: =P17*8760 -> 2774 | R17: 1340 | S17: 261 | T17: =S17/365 -> 0.71506849 | Y17: Volllaststunden pro Jahr | AA17: =AA16*365 -> 2628 | AB17: h
A18: Lebensmittelverkauf | B18: 1 | C18: 0.6 | D18: 0.4 | E18: 0.2 | I18: 0.041666667 | J18: 0.20833333 | K18: 0.25 | L18: 0.041666667 | M18: 0.45833333 | N18: 0 | P18: =SUMPRODUCT(B18:G18,I18:N18) -> 0.275 | Q18: =P18*8760 -> 2409 | R18: 1490 | S18: 313 | T18: =S18/365 -> 0.85753425
A19: Fachgeschäft | B19: 1 | C19: 0.6 | D19: 0.4 | E19: 0.2 | I19: 0.041666667 | J19: 0.20833333 | K19: 0.25 | L19: 0.041666667 | M19: 0.45833333 | N19: 0 | P19: =SUMPRODUCT(B19:G19,I19:N19) -> 0.275 | Q19: =P19*8760 -> 2409 | R19: 1490 | S19: 313 | T19: =S19/365 -> 0.85753425
A20: Verkauf Möbel, Bau, Garten | B20: 1 | C20: 0.6 | D20: 0.4 | E20: 0.2 | I20: 0.041666667 | J20: 0.20833333 | K20: 0.20833333 | L20: 0.041666667 | M20: 0.5 | N20: 0 | P20: =SUMPRODUCT(B20:G20,I20:N20) -> 0.25833333 | Q20: =P20*8760 -> 2263 | R20: 1400 | S20: 313 | T20: =S20/365 -> 0.85753425
A21: Restaurant | B21: 1 | C21: 0.6 | D21: 0.2 | E21: 0 | I21: 0.083333333 | J21: 0.125 | K21: 0.29166667 | L21: 0.5 | M21: 0 | N21: 0 | P21: =SUMPRODUCT(B21:G21,I21:N21) -> 0.21666667 | Q21: =P21*8760 -> 1898 | R21: 1550 | S21: 313 | T21: =S21/365 -> 0.85753425
A22: Selbstbedienungsrestaurant | B22: 1 | C22: 0.4 | D22: 0.2 | I22: 0.041666667 | J22: 0.16666667 | K22: 0.083333333 | L22: 0.70833333 | M22: 0 | N22: 0 | P22: =SUMPRODUCT(B22:G22,I22:N22) -> 0.125 | Q22: =P22*8760 -> 1095 | R22: 760 | S22: 313 | T22: =S22/365 -> 0.85753425
A23: Küche zu Restaurant | B23: 1 | C23: 0.8 | D23: 0.6 | E23: 0.4 | F23: 0.2 | I23: 0.16666667 | J23: 0.083333333 | K23: 0.083333333 | L23: 0.16666667 | M23: 0.041666667 | N23: 0.45833333 | P23: =SUMPRODUCT(B23:G23,I23:N23) -> 0.35833333 | Q23: =P23*8760 -> 3139 | R23: 2160 | S23: 313 | T23: =S23/365 -> 0.85753425
A24: Küche zu Selbstbedienungsrest. | B24: 1 | C24: 0.8 | D24: 0.6 | E24: 0.4 | F24: 0.2 | I24: 0.083333333 | J24: 0.041666667 | K24: 0.041666667 | L24: 0.125 | M24: 0.083333333 | N24: 0.625 | P24: =SUMPRODUCT(B24:G24,I24:N24) -> 0.20833333 | Q24: =P24*8760 -> 1825 | R24: 1240 | S24: 313 | T24: =S24/365 -> 0.85753425
A25: Vorstellungsraum | B25: 1 | C25: 0.2 | D25: 0.6 | I25: 0.125 | J25: 0.083333333 | K25: 0.29166667 | L25: 0.5 | M25: 0 | N25: 0 | P25: =SUMPRODUCT(B25:G25,I25:N25) -> 0.31666667 | Q25: =P25*8760 -> 2774 | R25: 1820 | S25: 313 | T25: =S25/365 -> 0.85753425
A26: Mehrzweckhalle | B26: 1 | C26: 0.2 | D26: 0.6 | I26: 0.25 | J26: 0.16666667 | K26: 0.25 | L26: 0.33333333 | M26: 0 | N26: 0 | P26: =SUMPRODUCT(B26:G26,I26:N26) -> 0.43333333 | Q26: =P26*8760 -> 3796 | R26: 2580 | S26: 313 | T26: =S26/365 -> 0.85753425
A27: Ausstellungshalle | B27: 1 | C27: 0.2 | D27: 0.6 | I27: 0.25 | J27: 0.16666667 | K27: 0.25 | L27: 0.33333333 | M27: 0 | N27: 0 | P27: =SUMPRODUCT(B27:G27,I27:N27) -> 0.43333333 | Q27: =P27*8760 -> 3796 | R27: 2580 | S27: 313 | T27: =S27/365 -> 0.85753425
A28: Bettenzimmer | B28: 1 | I28: 1 | J28: 0 | K28: 0 | L28: 0 | M28: 0 | N28: 0 | P28: =SUMPRODUCT(B28:G28,I28:N28) -> 1 | Q28: =P28*8760 -> 8760 | R28: 7010 | S28: 365 | T28: =S28/365 -> 1
A29: Stationszimmer | B29: 1 | C29: 0.6 | D29: 0.4 | E29: 0.2 | I29: 0.125 | J29: 0.33333333 | K29: 0.083333333 | L29: 0.45833333 | M29: 0 | N29: 0 | P29: =SUMPRODUCT(B29:G29,I29:N29) -> 0.45 | Q29: =P29*8760 -> 3942 | R29: 2920 | S29: 365 | T29: =S29/365 -> 1
A30: Behandlungsraum | B30: 1 | C30: 0.8 | D30: 0.6 | E30: 0.4 | F30: 0.2 | I30: 0.125 | J30: 0.083333333 | K30: 0.125 | L30: 0.041666667 | M30: 0.083333333 | N30: 0.54166667 | P30: =SUMPRODUCT(B30:G30,I30:N30) -> 0.3 | Q30: =P30*8760 -> 2628 | R30: 1780 | S30: 313 | T30: =S30/365 -> 0.85753425
A31: Produktion (grobe Arbeit) | B31: 1 | C31: 0.8 | D31: 0.5 | E31: 0.2 | I31: 0.20833333 | J31: 0.25 | K31: 0.25 | L31: 0.29166667 | M31: 0 | N31: 0 | P31: =SUMPRODUCT(B31:G31,I31:N31) -> 0.59166667 | Q31: =P31*8760 -> 5183 | R31: 2740 | S31: 261 | T31: =S31/365 -> 0.71506849
A32: Produktion (feine Arbeit) | B32: 1 | C32: 0.8 | D32: 0.6 | E32: 0.4 | F32: 0.2 | I32: 0.125 | J32: 0.083333333 | K32: 0.125 | L32: 0.041666667 | M32: 0.083333333 | N32: 0.54166667 | P32: =SUMPRODUCT(B32:G32,I32:N32) -> 0.3 | Q32: =P32*8760 -> 2628 | R32: 1470 | S32: 261 | T32: =S32/365 -> 0.71506849
A33: Laborraum | B33: 1 | C33: 0.8 | D33: 0.6 | E33: 0.4 | F33: 0.2 | I33: 0.125 | J33: 0.083333333 | K33: 0.125 | L33: 0.041666667 | M33: 0.083333333 | N33: 0.54166667 | P33: =SUMPRODUCT(B33:G33,I33:N33) -> 0.3 | Q33: =P33*8760 -> 2628 | R33: 1470 | S33: 261 | T33: =S33/365 -> 0.71506849
A34: Lagerhalle | B34: 1 | C34: 0.8 | D34: 0.5 | E34: 0.2 | I34: 0.20833333 | J34: 0.25 | K34: 0.25 | L34: 0.29166667 | M34: 0 | N34: 0 | P34: =SUMPRODUCT(B34:G34,I34:N34) -> 0.59166667 | Q34: =P34*8760 -> 5183 | R34: 3240 | S34: 261 | T34: =S34/365 -> 0.71506849
A35: Turnhalle | B35: 1 | C35: 0.8 | D35: 0.5 | E35: 0 | I35: 0.16666667 | J35: 0.29166667 | K35: 0.16666667 | L35: 0.375 | M35: 0 | N35: 0 | P35: =SUMPRODUCT(B35:G35,I35:N35) -> 0.48333333 | Q35: =P35*8760 -> 4234 | R35: 2470 | S35: 261 | T35: =S35/365 -> 0.71506849
A36: Fitnessraum | B36: 1 | C36: 0.8 | D36: 0.5 | E36: 0 | I36: 0.16666667 | J36: 0.29166667 | K36: 0.16666667 | L36: 0.375 | M36: 0 | N36: 0 | P36: =SUMPRODUCT(B36:G36,I36:N36) -> 0.48333333 | Q36: =P36*8760 -> 4234 | R36: 2800 | S36: 313 | T36: =S36/365 -> 0.85753425
A37: Schwimmhalle | B37: 1 | C37: 0.8 | D37: 0.5 | E37: 0 | I37: 0.16666667 | J37: 0.29166667 | K37: 0.16666667 | L37: 0.375 | M37: 0 | N37: 0 | P37: =SUMPRODUCT(B37:G37,I37:N37) -> 0.48333333 | Q37: =P37*8760 -> 4234 | R37: 3370 | S37: 313 | T37: =S37/365 -> 0.85753425
A38: Verkehrsfläche | B38: 0.4 | C38: 0.2 | I38: 0.45833333 | J38: 0.083333333 | K38: 0.45833333 | L38: 0 | M38: 0 | N38: 0 | P38: =SUMPRODUCT(B38:G38,I38:N38) -> 0.2 | Q38: =P38*8760 -> 1752 | R38: 1100 | S38: 365 | T38: =S38/365 -> 1
A39: Verkehrsfläche 24 h | B39: 0.4 | C39: 0.2 | I39: 0.45833333 | J39: 0.54166667 | K39: 0 | L39: 0 | M39: 0 | N39: 0 | P39: =SUMPRODUCT(B39:G39,I39:N39) -> 0.29166667 | Q39: =P39*8760 -> 2555 | R39: 1770 | S39: 365 | T39: =S39/365 -> 1
A40: Treppenhaus | B40: 0.4 | C40: 0.2 | I40: 0.45833333 | J40: 0.083333333 | K40: 0.45833333 | L40: 0 | M40: 0 | N40: 0 | P40: =SUMPRODUCT(B40:G40,I40:N40) -> 0.2 | Q40: =P40*8760 -> 1752 | R40: keine angabe | S40: 365 | T40: =S40/365 -> 1
A41: Nebenraum | B41: 0.4 | C41: 0.2 | I41: 0.45833333 | J41: 0.083333333 | K41: 0.45833333 | L41: 0 | M41: 0 | N41: 0 | P41: =SUMPRODUCT(B41:G41,I41:N41) -> 0.2 | Q41: =P41*8760 -> 1752 | R41: 1100 | S41: 261 | T41: =S41/365 -> 0.71506849
A42: Küche, Teeküche | B42: 1 | C42: 0.8 | D42: 0.4 | E42: 0.2 | I42: 0.041666667 | J42: 0.083333333 | K42: 0.083333333 | L42: 0.25 | M42: 0.54166667 | N42: 0 | P42: =SUMPRODUCT(B42:G42,I42:N42) -> 0.19166667 | Q42: =P42*8760 -> 1679 | R42: 1030 | S42: 261 | T42: =S42/365 -> 0.71506849
A43: WC, Bad, Dusche | B43: 0.8 | C43: 0.6 | D43: 0.4 | E43: 0.2 | I43: 0.16666667 | J43: 0.083333333 | K43: 0.125 | L43: 0.083333333 | M43: 0.54166667 | N43: 0 | P43: =SUMPRODUCT(B43:G43,I43:N43) -> 0.25 | Q43: =P43*8760 -> 2190 | R43: 1160 | S43: 261 | T43: =S43/365 -> 0.71506849
A44: WC | B44: 0.8 | C44: 0.6 | D44: 0.4 | E44: 0.2 | I44: 0.16666667 | J44: 0.083333333 | K44: 0.125 | L44: 0.083333333 | M44: 0.54166667 | N44: 0 | P44: =SUMPRODUCT(B44:G44,I44:N44) -> 0.25 | Q44: =P44*8760 -> 2190 | R44: 1160 | S44: 261 | T44: =S44/365 -> 0.71506849
A45: Garderobe, Dusche | B45: 0.8 | C45: 0.6 | D45: 0.4 | E45: 0.2 | I45: 0.16666667 | J45: 0.083333333 | K45: 0.125 | L45: 0.083333333 | M45: 0.54166667 | N45: 0 | P45: =SUMPRODUCT(B45:G45,I45:N45) -> 0.25 | Q45: =P45*8760 -> 2190 | R45: 1160 | S45: 313 | T45: =S45/365 -> 0.85753425
A46: Parkhaus | B46: 0.8 | C46: 0.6 | D46: 0.4 | E46: 0.2 | I46: 0.16666667 | J46: 0.083333333 | K46: 0.125 | L46: 0.083333333 | M46: 0.54166667 | N46: 0 | P46: =SUMPRODUCT(B46:G46,I46:N46) -> 0.25 | Q46: =P46*8760 -> 2190 | R46: 2100 | S46: 365 | T46: =S46/365 -> 1
A47: Wasch- und Trockenraum | B47: 0.8 | C47: 0.6 | D47: 0.4 | E47: 0.2 | I47: 0.16666667 | J47: 0.083333333 | K47: 0.125 | L47: 0.083333333 | M47: 0.54166667 | N47: 0 | P47: =SUMPRODUCT(B47:G47,I47:N47) -> 0.25 | Q47: =P47*8760 -> 2190 | R47: 1490 | S47: 365 | T47: =S47/365 -> 1
A48: Kühlraum | B48: Eingeben | C48: Eingeben | D48: Eingeben | E48: Eingeben | F48: Eingeben | G48: Eingeben | I48: Eingeben | J48: Eingeben | K48: Eingeben | L48: Eingeben | M48: Eingeben | N48: Eingeben | S48: 261 | T48: =S48/365 -> 0.71506849
A49: Serverraum | B49: 0.8 | C49: 0.6 | D49: 0.4 | E49: 0.2 | I49: 0.16666667 | J49: 0.083333333 | K49: 0.125 | L49: 0.083333333 | M49: 0.54166667 | N49: 0 | P49: =SUMPRODUCT(B49:G49,I49:N49) -> 0.25 | Q49: =P49*8760 -> 2190 | R49: 2100 | S49: 365 | T49: =S49/365 -> 1

Sheet Adresse_hidden
A1: Fördermittel Empfänger | M1: Objektadresse (in dem die Massnahme umgesetzt wurde) | S1: Energieberater | AC1: Installateur/Planer pro Objekt | AM1: Geförderte Massnahmen | AP1: Projektkennzahlen
A2: Firma | B2: Branche | C2: Strasse, Nr. | D2: PLZ | E2: Ort | F2: Website | G2: Vorname | H2: Name | I2: Funktion | J2: Telefonnummer | K2: Email-Adresse | M2: Gleich wie Fördermittelempfänger | N2: Firma / Standort | O2: Strasse, Nr. | P2: PLZ | Q2: Ort | S2: Firma | T2: Strasse, Nr. | U2: PLZ | V2: Ort | W2: Website | X2: Vorname | Y2: Name | Z2: Telefonnummer | AA2: Email-Adresse | AC2: Firma | AD2: Strasse, Nr. | AE2: PLZ | AF2: Ort | AG2: Website | AH2: Vorname | AI2: Name | AJ2: Telefonnummer | AK2: Email-Adresse | AM2: Massnahme | AN2: Monitoringkonzept | AP2: Strom- Verbrauch Alt [kWh/a] | AQ2: Strom- Verbrauch Neu [kWh/a] | AR2: Anrechenbare Strom- Einsparung [kWh] | AS2: Strom- Einsparung pro Jahr [kWh/a] | AT2: Anrechenbare Investitions- Kosten [CHF] | AU2: Payback ohne Fördermittel ProKilowatt [Jahre] | AV2: Alter der zu ersetzenden Anlage [Jahre] (Gewichtet nach Verbrauch der zu ersetzenden Komponenten) | AW2: max. Förderanteil ProKilowatt [%] | AX2: Max. Förderbeitrag ProKilowatt [CHF] | AY2: Förderbeitrag Optivent [CHF] | AZ2: Anteil Förderbeitrag Corona [CHF]
A3: =#REF! -> #REF! | B3: =#REF! -> #REF! | C3: =#REF! -> #REF! | D3: =#REF! -> #REF! | E3: =#REF! -> #REF! | F3: =#REF! -> #REF! | G3: =#REF! -> #REF! | H3: =#REF! -> #REF! | ... K3: =#REF! -> #REF! | M3: =IF(#REF!="x","Ja","Nein") -> #REF! | N3: =#REF! -> #REF! | O3: =#REF! -> #REF! | P3: =#REF! -> #REF! | Q3: =#REF! -> #REF! | S3: =#REF! -> #REF! | T3: =#REF! -> #REF! | U3: =#REF! -> #REF! | V3: =#REF! -> #REF! | W3: =#REF! -> #REF! | X3: =#REF! -> #REF! | Y3: =#REF! -> #REF! | Z3: =#REF! -> #REF! | AA3: =#REF! -> #REF! | AC3: =#REF! -> #REF! | AD3: =#REF! -> #REF! | AE3: =#REF! -> #REF! | AF3: =#REF! -> #REF! | AG3: =#REF! -> #REF! | AH3: =#REF! -> #REF! | AI3: =#REF! -> #REF! | AJ3: =#REF! -> #REF! | AK3: =#REF! -> #REF! | AM3: =Förderrechner!#REF! -> #ERROR! | AN3: =Förderrechner!#REF! -> #ERROR! | AP3: ='Förderrechner'!Y23 -> 0 | AQ3: ='Förderrechner'!Y25 -> 0 | AR3: ='Förderrechner'!Y31 -> 0 | AS3: ='Förderrechner'!Y27 -> 0 | AT3: ='Förderrechner'!Y16 | AU3: ='Förderrechner'!Y43 -> - | AW3: 0.3 | AX3: ='Förderrechner'!Y35 -> 0 | AY3: ='Förderrechner'!Y41 -> 0
A6: =#REF! -> #REF! | B6: =#REF! -> #REF! | C6: =#REF! -> #REF! | D6: =#REF! -> #REF! | E6: =#REF! -> #REF! | F6: =#REF! -> #REF! | G6: =#REF! -> #REF! | H6: =#REF! -> #REF! | ... K6: =#REF! -> #REF! | M6: =IF(#REF!="x","Ja","Nein") -> #REF! | N6: =#REF! -> #REF! | O6: =#REF! -> #REF! | P6: =#REF! -> #REF! | Q6: =#REF! -> #REF! | S6: =#REF! -> #REF! | T6: =#REF! -> #REF! | U6: =#REF! -> #REF! | V6: =#REF! -> #REF! | W6: =#REF! -> #REF! | X6: =#REF! -> #REF! | Y6: =#REF! -> #REF! | Z6: =#REF! -> #REF! | AA6: =#REF! -> #REF! | AC6: =#REF! -> #REF! | AD6: =#REF! -> #REF! | AE6: =#REF! -> #REF! | AF6: =#REF! -> #REF! | AG6: =#REF! -> #REF! | AH6: =#REF! -> #REF! | AI6: =#REF! -> #REF! | AJ6: =#REF! -> #REF! | AK6: =#REF! -> #REF! | AM6: =#REF! -> #REF! | AN6: =#REF! -> #REF! | AP6: =#REF! -> #REF! | AQ6: =#REF! -> #REF! | AR6: =#REF! -> #REF! | AS6: =#REF! -> #REF! | AT6: =#REF! -> #REF! | AU6: =#REF! -> #REF! | AW6: 0.3 | AX6: =#REF! -> #REF! | AY6: =#REF! -> #REF!
A9: =#REF! -> #REF! | B9: =#REF! -> #REF! | C9: =#REF! -> #REF! | D9: =#REF! -> #REF! | E9: =#REF! -> #REF! | F9: =#REF! -> #REF! | G9: =#REF! -> #REF! | H9: =#REF! -> #REF! | ... K9: =#REF! -> #REF! | M9: =IF(#REF!="x","Ja","Nein") -> #REF! | N9: =#REF! -> #REF! | O9: =#REF! -> #REF! | P9: =#REF! -> #REF! | Q9: =#REF! -> #REF! | S9: =#REF! -> #REF! | T9: =#REF! -> #REF! | U9: =#REF! -> #REF! | V9: =#REF! -> #REF! | W9: =#REF! -> #REF! | X9: =#REF! -> #REF! | Y9: =#REF! -> #REF! | Z9: =#REF! -> #REF! | AA9: =#REF! -> #REF! | AC9: =#REF! -> #REF! | AD9: =#REF! -> #REF! | AE9: =#REF! -> #REF! | AF9: =#REF! -> #REF! | AG9: =#REF! -> #REF! | AH9: =#REF! -> #REF! | AI9: =#REF! -> #REF! | AJ9: =#REF! -> #REF! | AK9: =#REF! -> #REF! | AM9: =#REF! -> #REF! | AN9: =#REF! -> #REF! | AP9: =#REF! -> #REF! | AQ9: =#REF! -> #REF! | AR9: =#REF! -> #REF! | AS9: =#REF! -> #REF! | AT9: =#REF! -> #REF! | AU9: =#REF! -> #REF! | AW9: 0.3 | AX9: =#REF! -> #REF! | AY9: =#REF! -> #REF!
